Workbook

Sheet Participants
A1: N° joueur | B1: Nom | C1: Prénom | D1: Club | E1: Ville | F1: Classement FFTT | G1: Catégorie | H1: Tête de série | I1: Groupe | J1: Statut d’inscription | K1: Téléphone | L1: Observations
A2: =IF(B2="","",COUNTA($B$2:B2)) | B2: Martin | C2: Camille | D2: Club Pongiste Paris | E2: Paris | F2: 980 | G2: Senior | H2: =IF(F2="","",IF(F2>=1100,"Oui","Non")) | I2: A | J2: Confirmé | K2: 06 12 34 56 78 | L2: Exemple à remplacer
A3: =IF(B3="","",COUNTA($B$2:B3)) | B3: Bernard | C3: Lucas | D3: AS Lyon TT | E3: Lyon | F3: 1120 | G3: Senior | H3: =IF(F3="","",IF(F3>=1100,"Oui","Non")) | I3: A | J3: Confirmé | K3: 06 23 45 67 89 | L3: Exemple à remplacer
A4: =IF(B4="","",COUNTA($B$2:B4)) | B4: Dubois | C4: Emma | D4: Marseille Tennis de Table | E4: Marseille | F4: 1050 | G4: Senior | H4: =IF(F4="","",IF(F4>=1100,"Oui","Non")) | I4: A | J4: Confirmé | K4: 06 34 56 78 90 | L4: Exemple à remplacer
A5: =IF(B5="","",COUNTA($B$2:B5)) | B5: Lefèvre | C5: Hugo | D5: Toulouse TT | E5: Toulouse | F5: 890 | G5: Senior | H5: =IF(F5="","",IF(F5>=1100,"Oui","Non")) | I5: A | J5: Confirmé | K5: 06 45 67 89 01 | L5: Exemple à remplacer
A6: =IF(B6="","",COUNTA($B$2:B6)) | B6: Moreau | C6: Léa | D6: Bordeaux Girondins TT | E6: Bordeaux | F6: 1010 | G6: Junior | H6: =IF(F6="","",IF(F6>=1100,"Oui","Non")) | I6: B | J6: Confirmé | K6: 06 56 78 90 12 | L6: Exemple à remplacer
A7: =IF(B7="","",COUNTA($B$2:B7)) | B7: Petit | C7: Louis | D7: Lille Métropole TT | E7: Lille | F7: 930 | G7: Senior | H7: =IF(F7="","",IF(F7>=1100,"Oui","Non")) | I7: B | J7: Confirmé | K7: 06 67 89 01 23 | L7: Exemple à remplacer
A8: =IF(B8="","",COUNTA($B$2:B8)) | B8: Garnier | C8: Chloé | D8: Nantes Atlantique TT | E8: Nantes | F8: 870 | G8: Junior | H8: =IF(F8="","",IF(F8>=1100,"Oui","Non")) | I8: B | J8: Confirmé | K8: 06 78 90 12 34 | L8: Exemple à remplacer
A9: =IF(B9="","",COUNTA($B$2:B9)) | B9: Roux | C9: Nathan | D9: Strasbourg TT | E9: Strasbourg | F9: 1160 | G9: Senior | H9: =IF(F9="","",IF(F9>=1100,"Oui","Non")) | I9: B | J9: Confirmé | K9: 06 89 01 23 45 | L9: Exemple à remplacer
A10: =IF(B10="","",COUNTA($B$2:B10)) | H10: =IF(F10="","",IF(F10>=1100,"Oui","Non"))
A11: =IF(B11="","",COUNTA($B$2:B11)) | H11: =IF(F11="","",IF(F11>=1100,"Oui","Non"))
A12: =IF(B12="","",COUNTA($B$2:B12)) | H12: =IF(F12="","",IF(F12>=1100,"Oui","Non"))
A13: =IF(B13="","",COUNTA($B$2:B13)) | H13: =IF(F13="","",IF(F13>=1100,"Oui","Non"))
A14: =IF(B14="","",COUNTA($B$2:B14)) | H14: =IF(F14="","",IF(F14>=1100,"Oui","Non"))
A15: =IF(B15="","",COUNTA($B$2:B15)) | H15: =IF(F15="","",IF(F15>=1100,"Oui","Non"))
A16: =IF(B16="","",COUNTA($B$2:B16)) | H16: =IF(F16="","",IF(F16>=1100,"Oui","Non"))
A17: =IF(B17="","",COUNTA($B$2:B17)) | H17: =IF(F17="","",IF(F17>=1100,"Oui","Non"))
A18: =IF(B18="","",COUNTA($B$2:B18)) | H18: =IF(F18="","",IF(F18>=1100,"Oui","Non"))
A19: =IF(B19="","",COUNTA($B$2:B19)) | H19: =IF(F19="","",IF(F19>=1100,"Oui","Non"))
A20: =IF(B20="","",COUNTA($B$2:B20)) | H20: =IF(F20="","",IF(F20>=1100,"Oui","Non"))
A21: =IF(B21="","",COUNTA($B$2:B21)) | H21: =IF(F21="","",IF(F21>=1100,"Oui","Non"))
... A101: =IF(B101="","",COUNTA($B$2:B101)) | H101: =IF(F101="","",IF(F101>=1100,"Oui","Non"))

Sheet Matchs
A1: N° match | B1: Phase | C1: Groupe | D1: Tour | E1: Table | F1: Joueur A — N° | G1: Joueur A — Nom | H1: Joueur B — N° | I1: Joueur B — Nom | J1: Date | K1: Heure | L1: Sets A | M1: Sets B | N1: Vainqueur | O1: Score affiché | P1: Statut du match | Q1: Observations
A2: =IF(AND(B2="",F2="",H2=""),"",ROW()-1) | B2: Groupes | C2: A | D2: 1er tour | E2: 1 | F2: 1 | G2: =IFERROR(VLOOKUP(F2,'Participants'!$A$2:$L$101,3,FALSE),"") | H2: 2 | I2: =IFERROR(VLOOKUP(H2,'Participants'!$A$2:$L$101,3,FALSE),"") | J2: 46275 | K2: 0.375 | L2: 3 | M2: 1 | N2: =IF(AND(F2="",H2=""),"",IF(OR(L2="",M2=""),"À jouer",IF(L2>M2,G2,IF(M2>L2,I2,"Égalité")))) | O2: =IF(AND(F2="",H2=""),"",IF(OR(L2="",M2=""),"",L2&" - "&M2)) | P2: =IF(AND(F2="",H2=""),"",IF(N2="À jouer","À jouer","Terminé")) | Q2: Exemple à remplacer
A3: =IF(AND(B3="",F3="",H3=""),"",ROW()-1) | B3: Groupes | C3: A | D3: 1er tour | E3: 2 | F3: 3 | G3: =IFERROR(VLOOKUP(F3,'Participants'!$A$2:$L$101,3,FALSE),"") | H3: 4 | I3: =IFERROR(VLOOKUP(H3,'Participants'!$A$2:$L$101,3,FALSE),"") | J3: 46275 | K3: 0.40625 | L3: 3 | M3: 2 | N3: =IF(AND(F3="",H3=""),"",IF(OR(L3="",M3=""),"À jouer",IF(L3>M3,G3,IF(M3>L3,I3,"Égalité")))) | O3: =IF(AND(F3="",H3=""),"",IF(OR(L3="",M3=""),"",L3&" - "&M3)) | P3: =IF(AND(F3="",H3=""),"",IF(N3="À jouer","À jouer","Terminé")) | Q3: Exemple à remplacer
A4: =IF(AND(B4="",F4="",H4=""),"",ROW()-1) | B4: Groupes | C4: B | D4: 1er tour | E4: 3 | F4: 5 | G4: =IFERROR(VLOOKUP(F4,'Participants'!$A$2:$L$101,3,FALSE),"") | H4: 6 | I4: =IFERROR(VLOOKUP(H4,'Participants'!$A$2:$L$101,3,FALSE),"") | J4: 46275 | K4: 0.4375 | L4: 3 | M4: 0 | N4: =IF(AND(F4="",H4=""),"",IF(OR(L4="",M4=""),"À jouer",IF(L4>M4,G4,IF(M4>L4,I4,"Égalité")))) | O4: =IF(AND(F4="",H4=""),"",IF(OR(L4="",M4=""),"",L4&" - "&M4)) | P4: =IF(AND(F4="",H4=""),"",IF(N4="À jouer","À jouer","Terminé")) | Q4: Exemple à remplacer
A5: =IF(AND(B5="",F5="",H5=""),"",ROW()-1) | B5: Groupes | C5: B | D5: 1er tour | E5: 4 | F5: 7 | G5: =IFERROR(VLOOKUP(F5,'Participants'!$A$2:$L$101,3,FALSE),"") | H5: 8 | I5: =IFERROR(VLOOKUP(H5,'Participants'!$A$2:$L$101,3,FALSE),"") | J5: 46275 | K5: 0.46875 | L5: 0 | M5: 3 | N5: =IF(AND(F5="",H5=""),"",IF(OR(L5="",M5=""),"À jouer",IF(L5>M5,G5,IF(M5>L5,I5,"Égalité")))) | O5: =IF(AND(F5="",H5=""),"",IF(OR(L5="",M5=""),"",L5&" - "&M5)) | P5: =IF(AND(F5="",H5=""),"",IF(N5="À jouer","À jouer","Terminé")) | Q5: Exemple à remplacer
A6: =IF(AND(B6="",F6="",H6=""),"",ROW()-1) | B6: Groupes | C6: A | D6: 2e tour | E6: 1 | F6: 1 | G6: =IFERROR(VLOOKUP(F6,'Participants'!$A$2:$L$101,3,FALSE),"") | H6: 3 | I6: =IFERROR(VLOOKUP(H6,'Participants'!$A$2:$L$101,3,FALSE),"") | J6: 46276 | K6: 0.375 | L6: 3 | M6: 2 | N6: =IF(AND(F6="",H6=""),"",IF(OR(L6="",M6=""),"À jouer",IF(L6>M6,G6,IF(M6>L6,I6,"Égalité")))) | O6: =IF(AND(F6="",H6=""),"",IF(OR(L6="",M6=""),"",L6&" - "&M6)) | P6: =IF(AND(F6="",H6=""),"",IF(N6="À jouer","À jouer","Terminé")) | Q6: Exemple à remplacer
A7: =IF(AND(B7="",F7="",H7=""),"",ROW()-1) | B7: Groupes | C7: A | D7: 2e tour | E7: 2 | F7: 2 | G7: =IFERROR(VLOOKUP(F7,'Participants'!$A$2:$L$101,3,FALSE),"") | H7: 4 | I7: =IFERROR(VLOOKUP(H7,'Participants'!$A$2:$L$101,3,FALSE),"") | J7: 46276 | K7: 0.40625 | N7: =IF(AND(F7="",H7=""),"",IF(OR(L7="",M7=""),"À jouer",IF(L7>M7,G7,IF(M7>L7,I7,"Égalité")))) | O7: =IF(AND(F7="",H7=""),"",IF(OR(L7="",M7=""),"",L7&" - "&M7)) | P7: =IF(AND(F7="",H7=""),"",IF(N7="À jouer","À jouer","Terminé")) | Q7: Exemple à remplacer
A8: =IF(AND(B8="",F8="",H8=""),"",ROW()-1) | B8: Groupes | C8: B | D8: 2e tour | E8: 3 | F8: 5 | G8: =IFERROR(VLOOKUP(F8,'Participants'!$A$2:$L$101,3,FALSE),"") | H8: 7 | I8: =IFERROR(VLOOKUP(H8,'Participants'!$A$2:$L$101,3,FALSE),"") | J8: 46276 | K8: 0.4375 | N8: =IF(AND(F8="",H8=""),"",IF(OR(L8="",M8=""),"À jouer",IF(L8>M8,G8,IF(M8>L8,I8,"Égalité")))) | O8: =IF(AND(F8="",H8=""),"",IF(OR(L8="",M8=""),"",L8&" - "&M8)) | P8: =IF(AND(F8="",H8=""),"",IF(N8="À jouer","À jouer","Terminé")) | Q8: Exemple à remplacer
A9: =IF(AND(B9="",F9="",H9=""),"",ROW()-1) | B9: Groupes | C9: B | D9: 2e tour | E9: 4 | F9: 6 | G9: =IFERROR(VLOOKUP(F9,'Participants'!$A$2:$L$101,3,FALSE),"") | H9: 8 | I9: =IFERROR(VLOOKUP(H9,'Participants'!$A$2:$L$101,3,FALSE),"") | J9: 46276 | K9: 0.46875 | L9: 1 | M9: 3 | N9: =IF(AND(F9="",H9=""),"",IF(OR(L9="",M9=""),"À jouer",IF(L9>M9,G9,IF(M9>L9,I9,"Égalité")))) | O9: =IF(AND(F9="",H9=""),"",IF(OR(L9="",M9=""),"",L9&" - "&M9)) | P9: =IF(AND(F9="",H9=""),"",IF(N9="À jouer","À jouer","Terminé")) | Q9: Exemple à remplacer
A10: =IF(AND(B10="",F10="",H10=""),"",ROW()-1) | G10: =IFERROR(VLOOKUP(F10,'Participants'!$A$2:$L$101,3,FALSE),"") | I10: =IFERROR(VLOOKUP(H10,'Participants'!$A$2:$L$101,3,FALSE),"") | N10: =IF(AND(F10="",H10=""),"",IF(OR(L10="",M10=""),"À jouer",IF(L10>M10,G10,IF(M10>L10,I10,"Égalité")))) | O10: =IF(AND(F10="",H10=""),"",IF(OR(L10="",M10=""),"",L10&" - "&M10)) | P10: =IF(AND(F10="",H10=""),"",IF(N10="À jouer","À jouer","Terminé"))
A11: =IF(AND(B11="",F11="",H11=""),"",ROW()-1) | G11: =IFERROR(VLOOKUP(F11,'Participants'!$A$2:$L$101,3,FALSE),"") | I11: =IFERROR(VLOOKUP(H11,'Participants'!$A$2:$L$101,3,FALSE),"") | N11: =IF(AND(F11="",H11=""),"",IF(OR(L11="",M11=""),"À jouer",IF(L11>M11,G11,IF(M11>L11,I11,"Égalité")))) | O11: =IF(AND(F11="",H11=""),"",IF(OR(L11="",M11=""),"",L11&" - "&M11)) | P11: =IF(AND(F11="",H11=""),"",IF(N11="À jouer","À jouer","Terminé"))
A12: =IF(AND(B12="",F12="",H12=""),"",ROW()-1) | G12: =IFERROR(VLOOKUP(F12,'Participants'!$A$2:$L$101,3,FALSE),"") | I12: =IFERROR(VLOOKUP(H12,'Participants'!$A$2:$L$101,3,FALSE),"") | N12: =IF(AND(F12="",H12=""),"",IF(OR(L12="",M12=""),"À jouer",IF(L12>M12,G12,IF(M12>L12,I12,"Égalité")))) | O12: =IF(AND(F12="",H12=""),"",IF(OR(L12="",M12=""),"",L12&" - "&M12)) | P12: =IF(AND(F12="",H12=""),"",IF(N12="À jouer","À jouer","Terminé"))
A13: =IF(AND(B13="",F13="",H13=""),"",ROW()-1) | G13: =IFERROR(VLOOKUP(F13,'Participants'!$A$2:$L$101,3,FALSE),"") | I13: =IFERROR(VLOOKUP(H13,'Participants'!$A$2:$L$101,3,FALSE),"") | N13: =IF(AND(F13="",H13=""),"",IF(OR(L13="",M13=""),"À jouer",IF(L13>M13,G13,IF(M13>L13,I13,"Égalité")))) | O13: =IF(AND(F13="",H13=""),"",IF(OR(L13="",M13=""),"",L13&" - "&M13)) | P13: =IF(AND(F13="",H13=""),"",IF(N13="À jouer","À jouer","Terminé"))
A14: =IF(AND(B14="",F14="",H14=""),"",ROW()-1) | G14: =IFERROR(VLOOKUP(F14,'Participants'!$A$2:$L$101,3,FALSE),"") | I14: =IFERROR(VLOOKUP(H14,'Participants'!$A$2:$L$101,3,FALSE),"") | N14: =IF(AND(F14="",H14=""),"",IF(OR(L14="",M14=""),"À jouer",IF(L14>M14,G14,IF(M14>L14,I14,"Égalité")))) | O14: =IF(AND(F14="",H14=""),"",IF(OR(L14="",M14=""),"",L14&" - "&M14)) | P14: =IF(AND(F14="",H14=""),"",IF(N14="À jouer","À jouer","Terminé"))
A15: =IF(AND(B15="",F15="",H15=""),"",ROW()-1) | G15: =IFERROR(VLOOKUP(F15,'Participants'!$A$2:$L$101,3,FALSE),"") | I15: =IFERROR(VLOOKUP(H15,'Participants'!$A$2:$L$101,3,FALSE),"") | N15: =IF(AND(F15="",H15=""),"",IF(OR(L15="",M15=""),"À jouer",IF(L15>M15,G15,IF(M15>L15,I15,"Égalité")))) | O15: =IF(AND(F15="",H15=""),"",IF(OR(L15="",M15=""),"",L15&" - "&M15)) | P15: =IF(AND(F15="",H15=""),"",IF(N15="À jouer","À jouer","Terminé"))
A16: =IF(AND(B16="",F16="",H16=""),"",ROW()-1) | G16: =IFERROR(VLOOKUP(F16,'Participants'!$A$2:$L$101,3,FALSE),"") | I16: =IFERROR(VLOOKUP(H16,'Participants'!$A$2:$L$101,3,FALSE),"") | N16: =IF(AND(F16="",H16=""),"",IF(OR(L16="",M16=""),"À jouer",IF(L16>M16,G16,IF(M16>L16,I16,"Égalité")))) | O16: =IF(AND(F16="",H16=""),"",IF(OR(L16="",M16=""),"",L16&" - "&M16)) | P16: =IF(AND(F16="",H16=""),"",IF(N16="À jouer","À jouer","Terminé"))
A17: =IF(AND(B17="",F17="",H17=""),"",ROW()-1) | G17: =IFERROR(VLOOKUP(F17,'Participants'!$A$2:$L$101,3,FALSE),"") | I17: =IFERROR(VLOOKUP(H17,'Participants'!$A$2:$L$101,3,FALSE),"") | N17: =IF(AND(F17="",H17=""),"",IF(OR(L17="",M17=""),"À jouer",IF(L17>M17,G17,IF(M17>L17,I17,"Égalité")))) | O17: =IF(AND(F17="",H17=""),"",IF(OR(L17="",M17=""),"",L17&" - "&M17)) | P17: =IF(AND(F17="",H17=""),"",IF(N17="À jouer","À jouer","Terminé"))
A18: =IF(AND(B18="",F18="",H18=""),"",ROW()-1) | G18: =IFERROR(VLOOKUP(F18,'Participants'!$A$2:$L$101,3,FALSE),"") | I18: =IFERROR(VLOOKUP(H18,'Participants'!$A$2:$L$101,3,FALSE),"") | N18: =IF(AND(F18="",H18=""),"",IF(OR(L18="",M18=""),"À jouer",IF(L18>M18,G18,IF(M18>L18,I18,"Égalité")))) | O18: =IF(AND(F18="",H18=""),"",IF(OR(L18="",M18=""),"",L18&" - "&M18)) | P18: =IF(AND(F18="",H18=""),"",IF(N18="À jouer","À jouer","Terminé"))
A19: =IF(AND(B19="",F19="",H19=""),"",ROW()-1) | G19: =IFERROR(VLOOKUP(F19,'Participants'!$A$2:$L$101,3,FALSE),"") | I19: =IFERROR(VLOOKUP(H19,'Participants'!$A$2:$L$101,3,FALSE),"") | N19: =IF(AND(F19="",H19=""),"",IF(OR(L19="",M19=""),"À jouer",IF(L19>M19,G19,IF(M19>L19,I19,"Égalité")))) | O19: =IF(AND(F19="",H19=""),"",IF(OR(L19="",M19=""),"",L19&" - "&M19)) | P19: =IF(AND(F19="",H19=""),"",IF(N19="À jouer","À jouer","Terminé"))
A20: =IF(AND(B20="",F20="",H20=""),"",ROW()-1) | G20: =IFERROR(VLOOKUP(F20,'Participants'!$A$2:$L$101,3,FALSE),"") | I20: =IFERROR(VLOOKUP(H20,'Participants'!$A$2:$L$101,3,FALSE),"") | N20: =IF(AND(F20="",H20=""),"",IF(OR(L20="",M20=""),"À jouer",IF(L20>M20,G20,IF(M20>L20,I20,"Égalité")))) | O20: =IF(AND(F20="",H20=""),"",IF(OR(L20="",M20=""),"",L20&" - "&M20)) | P20: =IF(AND(F20="",H20=""),"",IF(N20="À jouer","À jouer","Terminé"))
A21: =IF(AND(B21="",F21="",H21=""),"",ROW()-1) | G21: =IFERROR(VLOOKUP(F21,'Participants'!$A$2:$L$101,3,FALSE),"") | I21: =IFERROR(VLOOKUP(H21,'Participants'!$A$2:$L$101,3,FALSE),"") | N21: =IF(AND(F21="",H21=""),"",IF(OR(L21="",M21=""),"À jouer",IF(L21>M21,G21,IF(M21>L21,I21,"Égalité")))) | O21: =IF(AND(F21="",H21=""),"",IF(OR(L21="",M21=""),"",L21&" - "&M21)) | P21: =IF(AND(F21="",H21=""),"",IF(N21="À jouer","À jouer","Terminé"))
... A101: =IF(AND(B101="",F101="",H101=""),"",ROW()-1) | G101: =IFERROR(VLOOKUP(F101,'Participants'!$A$2:$L$101,3,FALSE),"") | I101: =IFERROR(VLOOKUP(H101,'Participants'!$A$2:$L$101,3,FALSE),"") | N101: =IF(AND(F101="",H101=""),"",IF(OR(L101="",M101=""),"À jouer",IF(L101>M101,G101,IF(M101>L101,I101,"Égalité")))) | O101: =IF(AND(F101="",H101=""),"",IF(OR(L101="",M101=""),"",L101&" - "&M101)) | P101: =IF(AND(F101="",H101=""),"",IF(N101="À jouer","À jouer","Terminé"))

Sheet Classement
A1: Rang | B1: N° joueur | C1: Joueur | D1: Groupe | E1: Matchs joués | F1: Victoires | G1: Défaites | H1: Sets gagnés | I1: Sets perdus | J1: Différence de sets | K1: Points | L1: Taux de victoire | M1: Qualification | O1: Tableau de bord
A2: =IF($B2="","",1+COUNTIFS($D$2:$D$101,D2,$K$2:$K$101,">"&K2)) | B2: =IF('Participants'!$A2="","",'Participants'!$A2) | C2: =IF($B2="","",IFERROR(VLOOKUP($B2,'Participants'!$A$2:$L$101,3,FALSE),"")) | D2: =IF($B2="","",IFERROR(VLOOKUP($B2,'Participants'!$A$2:$L$101,9,FALSE),"")) | E2: =IF($B2="","",COUNTIFS('Matchs'!$G$2:$G$101,$C2,'Matchs'!$P$2:$P$101,"Terminé")+COUNTIFS('Matchs'!$I$2:$I$101,$C2,'Matchs'!$P$2:$P$101,"Terminé")) | F2: =IF($B2="","",COUNTIF('Matchs'!$N$2:$N$101,$C2)) | G2: =IF($B2="","",E2-F2) | H2: =IF($B2="","",SUMIFS('Matchs'!$L$2:$L$101,'Matchs'!$G$2:$G$101,$C2,'Matchs'!$P$2:$P$101,"Terminé")+SUMIFS('Matchs'!$M$2:$M$101,'Matchs'!$I$2:$I$101,$C2,'Matchs'!$P$2:$P$101,"Terminé")) | I2: =IF($B2="","",SUMIFS('Matchs'!$M$2:$M$101,'Matchs'!$G$2:$G$101,$C2,'Matchs'!$P$2:$P$101,"Terminé")+SUMIFS('Matchs'!$L$2:$L$101,'Matchs'!$I$2:$I$101,$C2,'Matchs'!$P$2:$P$101,"Terminé")) | J2: =IF($B2="","",H2-I2) | K2: =IF($B2="","",F2*2) | L2: =IF($B2="","",IFERROR(F2/E2,0)) | M2: =IF($B2="","",IF(K2>=4,"Qualifié","À confirmer")) | O2: Participants inscrits | P2: =COUNTA('Participants'!$B$2:$B$101)
A3: =IF($B3="","",1+COUNTIFS($D$2:$D$101,D3,$K$2:$K$101,">"&K3)) | B3: =IF('Participants'!$A3="","",'Participants'!$A3) | C3: =IF($B3="","",IFERROR(VLOOKUP($B3,'Participants'!$A$2:$L$101,3,FALSE),"")) | D3: =IF($B3="","",IFERROR(VLOOKUP($B3,'Participants'!$A$2:$L$101,9,FALSE),"")) | E3: =IF($B3="","",COUNTIFS('Matchs'!$G$2:$G$101,$C3,'Matchs'!$P$2:$P$101,"Terminé")+COUNTIFS('Matchs'!$I$2:$I$101,$C3,'Matchs'!$P$2:$P$101,"Terminé")) | F3: =IF($B3="","",COUNTIF('Matchs'!$N$2:$N$101,$C3)) | G3: =IF($B3="","",E3-F3) | H3: =IF($B3="","",SUMIFS('Matchs'!$L$2:$L$101,'Matchs'!$G$2:$G$101,$C3,'Matchs'!$P$2:$P$101,"Terminé")+SUMIFS('Matchs'!$M$2:$M$101,'Matchs'!$I$2:$I$101,$C3,'Matchs'!$P$2:$P$101,"Terminé")) | I3: =IF($B3="","",SUMIFS('Matchs'!$M$2:$M$101,'Matchs'!$G$2:$G$101,$C3,'Matchs'!$P$2:$P$101,"Terminé")+SUMIFS('Matchs'!$L$2:$L$101,'Matchs'!$I$2:$I$101,$C3,'Matchs'!$P$2:$P$101,"Terminé")) | J3: =IF($B3="","",H3-I3) | K3: =IF($B3="","",F3*2) | L3: =IF($B3="","",IFERROR(F3/E3,0)) | M3: =IF($B3="","",IF(K3>=4,"Qualifié","À confirmer")) | O3: Inscriptions confirmées | P3: =COUNTIF('Participants'!$J$2:$J$101,"Confirmé")
A4: =IF($B4="","",1+COUNTIFS($D$2:$D$101,D4,$K$2:$K$101,">"&K4)) | B4: =IF('Participants'!$A4="","",'Participants'!$A4) | C4: =IF($B4="","",IFERROR(VLOOKUP($B4,'Participants'!$A$2:$L$101,3,FALSE),"")) | D4: =IF($B4="","",IFERROR(VLOOKUP($B4,'Participants'!$A$2:$L$101,9,FALSE),"")) | E4: =IF($B4="","",COUNTIFS('Matchs'!$G$2:$G$101,$C4,'Matchs'!$P$2:$P$101,"Terminé")+COUNTIFS('Matchs'!$I$2:$I$101,$C4,'Matchs'!$P$2:$P$101,"Terminé")) | F4: =IF($B4="","",COUNTIF('Matchs'!$N$2:$N$101,$C4)) | G4: =IF($B4="","",E4-F4) | H4: =IF($B4="","",SUMIFS('Matchs'!$L$2:$L$101,'Matchs'!$G$2:$G$101,$C4,'Matchs'!$P$2:$P$101,"Terminé")+SUMIFS('Matchs'!$M$2:$M$101,'Matchs'!$I$2:$I$101,$C4,'Matchs'!$P$2:$P$101,"Terminé")) | I4: =IF($B4="","",SUMIFS('Matchs'!$M$2:$M$101,'Matchs'!$G$2:$G$101,$C4,'Matchs'!$P$2:$P$101,"Terminé")+SUMIFS('Matchs'!$L$2:$L$101,'Matchs'!$I$2:$I$101,$C4,'Matchs'!$P$2:$P$101,"Terminé")) | J4: =IF($B4="","",H4-I4) | K4: =IF($B4="","",F4*2) | L4: =IF($B4="","",IFERROR(F4/E4,0)) | M4: =IF($B4="","",IF(K4>=4,"Qualifié","À confirmer")) | O4: Matchs terminés | P4: =COUNTIF('Matchs'!$P$2:$P$101,"Terminé")
A5: =IF($B5="","",1+COUNTIFS($D$2:$D$101,D5,$K$2:$K$101,">"&K5)) | B5: =IF('Participants'!$A5="","",'Participants'!$A5) | C5: =IF($B5="","",IFERROR(VLOOKUP($B5,'Participants'!$A$2:$L$101,3,FALSE),"")) | D5: =IF($B5="","",IFERROR(VLOOKUP($B5,'Participants'!$A$2:$L$101,9,FALSE),"")) | E5: =IF($B5="","",COUNTIFS('Matchs'!$G$2:$G$101,$C5,'Matchs'!$P$2:$P$101,"Terminé")+COUNTIFS('Matchs'!$I$2:$I$101,$C5,'Matchs'!$P$2:$P$101,"Terminé")) | F5: =IF($B5="","",COUNTIF('Matchs'!$N$2:$N$101,$C5)) | G5: =IF($B5="","",E5-F5) | H5: =IF($B5="","",SUMIFS('Matchs'!$L$2:$L$101,'Matchs'!$G$2:$G$101,$C5,'Matchs'!$P$2:$P$101,"Terminé")+SUMIFS('Matchs'!$M$2:$M$101,'Matchs'!$I$2:$I$101,$C5,'Matchs'!$P$2:$P$101,"Terminé")) | I5: =IF($B5="","",SUMIFS('Matchs'!$M$2:$M$101,'Matchs'!$G$2:$G$101,$C5,'Matchs'!$P$2:$P$101,"Terminé")+SUMIFS('Matchs'!$L$2:$L$101,'Matchs'!$I$2:$I$101,$C5,'Matchs'!$P$2:$P$101,"Terminé")) | J5: =IF($B5="","",H5-I5) | K5: =IF($B5="","",F5*2) | L5: =IF($B5="","",IFERROR(F5/E5,0)) | M5: =IF($B5="","",IF(K5>=4,"Qualifié","À confirmer")) | O5: Matchs à jouer | P5: =COUNTIF('Matchs'!$P$2:$P$101,"À jouer")
A6: =IF($B6="","",1+COUNTIFS($D$2:$D$101,D6,$K$2:$K$101,">"&K6)) | B6: =IF('Participants'!$A6="","",'Participants'!$A6) | C6: =IF($B6="","",IFERROR(VLOOKUP($B6,'Participants'!$A$2:$L$101,3,FALSE),"")) | D6: =IF($B6="","",IFERROR(VLOOKUP($B6,'Participants'!$A$2:$L$101,9,FALSE),"")) | E6: =IF($B6="","",COUNTIFS('Matchs'!$G$2:$G$101,$C6,'Matchs'!$P$2:$P$101,"Terminé")+COUNTIFS('Matchs'!$I$2:$I$101,$C6,'Matchs'!$P$2:$P$101,"Terminé")) | F6: =IF($B6="","",COUNTIF('Matchs'!$N$2:$N$101,$C6)) | G6: =IF($B6="","",E6-F6) | H6: =IF($B6="","",SUMIFS('Matchs'!$L$2:$L$101,'Matchs'!$G$2:$G$101,$C6,'Matchs'!$P$2:$P$101,"Terminé")+SUMIFS('Matchs'!$M$2:$M$101,'Matchs'!$I$2:$I$101,$C6,'Matchs'!$P$2:$P$101,"Terminé")) | I6: =IF($B6="","",SUMIFS('Matchs'!$M$2:$M$101,'Matchs'!$G$2:$G$101,$C6,'Matchs'!$P$2:$P$101,"Terminé")+SUMIFS('Matchs'!$L$2:$L$101,'Matchs'!$I$2:$I$101,$C6,'Matchs'!$P$2:$P$101,"Terminé")) | J6: =IF($B6="","",H6-I6) | K6: =IF($B6="","",F6*2) | L6: =IF($B6="","",IFERROR(F6/E6,0)) | M6: =IF($B6="","",IF(K6>=4,"Qualifié","À confirmer"))
A7: =IF($B7="","",1+COUNTIFS($D$2:$D$101,D7,$K$2:$K$101,">"&K7)) | B7: =IF('Participants'!$A7="","",'Participants'!$A7) | C7: =IF($B7="","",IFERROR(VLOOKUP($B7,'Participants'!$A$2:$L$101,3,FALSE),"")) | D7: =IF($B7="","",IFERROR(VLOOKUP($B7,'Participants'!$A$2:$L$101,9,FALSE),"")) | E7: =IF($B7="","",COUNTIFS('Matchs'!$G$2:$G$101,$C7,'Matchs'!$P$2:$P$101,"Terminé")+COUNTIFS('Matchs'!$I$2:$I$101,$C7,'Matchs'!$P$2:$P$101,"Terminé")) | F7: =IF($B7="","",COUNTIF('Matchs'!$N$2:$N$101,$C7)) | G7: =IF($B7="","",E7-F7) | H7: =IF($B7="","",SUMIFS('Matchs'!$L$2:$L$101,'Matchs'!$G$2:$G$101,$C7,'Matchs'!$P$2:$P$101,"Terminé")+SUMIFS('Matchs'!$M$2:$M$101,'Matchs'!$I$2:$I$101,$C7,'Matchs'!$P$2:$P$101,"Terminé")) | I7: =IF($B7="","",SUMIFS('Matchs'!$M$2:$M$101,'Matchs'!$G$2:$G$101,$C7,'Matchs'!$P$2:$P$101,"Terminé")+SUMIFS('Matchs'!$L$2:$L$101,'Matchs'!$I$2:$I$101,$C7,'Matchs'!$P$2:$P$101,"Terminé")) | J7: =IF($B7="","",H7-I7) | K7: =IF($B7="","",F7*2) | L7: =IF($B7="","",IFERROR(F7/E7,0)) | M7: =IF($B7="","",IF(K7>=4,"Qualifié","À confirmer")) | O7: Statut | P7: Nombre
A8: =IF($B8="","",1+COUNTIFS($D$2:$D$101,D8,$K$2:$K$101,">"&K8)) | B8: =IF('Participants'!$A8="","",'Participants'!$A8) | C8: =IF($B8="","",IFERROR(VLOOKUP($B8,'Participants'!$A$2:$L$101,3,FALSE),"")) | D8: =IF($B8="","",IFERROR(VLOOKUP($B8,'Participants'!$A$2:$L$101,9,FALSE),"")) | E8: =IF($B8="","",COUNTIFS('Matchs'!$G$2:$G$101,$C8,'Matchs'!$P$2:$P$101,"Terminé")+COUNTIFS('Matchs'!$I$2:$I$101,$C8,'Matchs'!$P$2:$P$101,"Terminé")) | F8: =IF($B8="","",COUNTIF('Matchs'!$N$2:$N$101,$C8)) | G8: =IF($B8="","",E8-F8) | H8: =IF($B8="","",SUMIFS('Matchs'!$L$2:$L$101,'Matchs'!$G$2:$G$101,$C8,'Matchs'!$P$2:$P$101,"Terminé")+SUMIFS('Matchs'!$M$2:$M$101,'Matchs'!$I$2:$I$101,$C8,'Matchs'!$P$2:$P$101,"Terminé")) | I8: =IF($B8="","",SUMIFS('Matchs'!$M$2:$M$101,'Matchs'!$G$2:$G$101,$C8,'Matchs'!$P$2:$P$101,"Terminé")+SUMIFS('Matchs'!$L$2:$L$101,'Matchs'!$I$2:$I$101,$C8,'Matchs'!$P$2:$P$101,"Terminé")) | J8: =IF($B8="","",H8-I8) | K8: =IF($B8="","",F8*2) | L8: =IF($B8="","",IFERROR(F8/E8,0)) | M8: =IF($B8="","",IF(K8>=4,"Qualifié","À confirmer")) | O8: Terminé | P8: =COUNTIF('Matchs'!$P$2:$P$101,O8)
A9: =IF($B9="","",1+COUNTIFS($D$2:$D$101,D9,$K$2:$K$101,">"&K9)) | B9: =IF('Participants'!$A9="","",'Participants'!$A9) | C9: =IF($B9="","",IFERROR(VLOOKUP($B9,'Participants'!$A$2:$L$101,3,FALSE),"")) | D9: =IF($B9="","",IFERROR(VLOOKUP($B9,'Participants'!$A$2:$L$101,9,FALSE),"")) | E9: =IF($B9="","",COUNTIFS('Matchs'!$G$2:$G$101,$C9,'Matchs'!$P$2:$P$101,"Terminé")+COUNTIFS('Matchs'!$I$2:$I$101,$C9,'Matchs'!$P$2:$P$101,"Terminé")) | F9: =IF($B9="","",COUNTIF('Matchs'!$N$2:$N$101,$C9)) | G9: =IF($B9="","",E9-F9) | H9: =IF($B9="","",SUMIFS('Matchs'!$L$2:$L$101,'Matchs'!$G$2:$G$101,$C9,'Matchs'!$P$2:$P$101,"Terminé")+SUMIFS('Matchs'!$M$2:$M$101,'Matchs'!$I$2:$I$101,$C9,'Matchs'!$P$2:$P$101,"Terminé")) | I9: =IF($B9="","",SUMIFS('Matchs'!$M$2:$M$101,'Matchs'!$G$2:$G$101,$C9,'Matchs'!$P$2:$P$101,"Terminé")+SUMIFS('Matchs'!$L$2:$L$101,'Matchs'!$I$2:$I$101,$C9,'Matchs'!$P$2:$P$101,"Terminé")) | J9: =IF($B9="","",H9-I9) | K9: =IF($B9="","",F9*2) | L9: =IF($B9="","",IFERROR(F9/E9,0)) | M9: =IF($B9="","",IF(K9>=4,"Qualifié","À confirmer")) | O9: À jouer | P9: =COUNTIF('Matchs'!$P$2:$P$101,O9)
A10: =IF($B10="","",1+COUNTIFS($D$2:$D$101,D10,$K$2:$K$101,">"&K10)) | B10: =IF('Participants'!$A10="","",'Participants'!$A10) | C10: =IF($B10="","",IFERROR(VLOOKUP($B10,'Participants'!$A$2:$L$101,3,FALSE),"")) | D10: =IF($B10="","",IFERROR(VLOOKUP($B10,'Participants'!$A$2:$L$101,9,FALSE),"")) | E10: =IF($B10="","",COUNTIFS('Matchs'!$G$2:$G$101,$C10,'Matchs'!$P$2:$P$101,"Terminé")+COUNTIFS('Matchs'!$I$2:$I$101,$C10,'Matchs'!$P$2:$P$101,"Terminé")) | F10: =IF($B10="","",COUNTIF('Matchs'!$N$2:$N$101,$C10)) | G10: =IF($B10="","",E10-F10) | H10: =IF($B10="","",SUMIFS('Matchs'!$L$2:$L$101,'Matchs'!$G$2:$G$101,$C10,'Matchs'!$P$2:$P$101,"Terminé")+SUMIFS('Matchs'!$M$2:$M$101,'Matchs'!$I$2:$I$101,$C10,'Matchs'!$P$2:$P$101,"Terminé")) | I10: =IF($B10="","",SUMIFS('Matchs'!$M$2:$M$101,'Matchs'!$G$2:$G$101,$C10,'Matchs'!$P$2:$P$101,"Terminé")+SUMIFS('Matchs'!$L$2:$L$101,'Matchs'!$I$2:$I$101,$C10,'Matchs'!$P$2:$P$101,"Terminé")) | J10: =IF($B10="","",H10-I10) | K10: =IF($B10="","",F10*2) | L10: =IF($B10="","",IFERROR(F10/E10,0)) | M10: =IF($B10="","",IF(K10>=4,"Qualifié","À confirmer"))
A11: =IF($B11="","",1+COUNTIFS($D$2:$D$101,D11,$K$2:$K$101,">"&K11)) | B11: =IF('Participants'!$A11="","",'Participants'!$A11) | C11: =IF($B11="","",IFERROR(VLOOKUP($B11,'Participants'!$A$2:$L$101,3,FALSE),"")) | D11: =IF($B11="","",IFERROR(VLOOKUP($B11,'Participants'!$A$2:$L$101,9,FALSE),"")) | E11: =IF($B11="","",COUNTIFS('Matchs'!$G$2:$G$101,$C11,'Matchs'!$P$2:$P$101,"Terminé")+COUNTIFS('Matchs'!$I$2:$I$101,$C11,'Matchs'!$P$2:$P$101,"Terminé")) | F11: =IF($B11="","",COUNTIF('Matchs'!$N$2:$N$101,$C11)) | G11: =IF($B11="","",E11-F11) | H11: =IF($B11="","",SUMIFS('Matchs'!$L$2:$L$101,'Matchs'!$G$2:$G$101,$C11,'Matchs'!$P$2:$P$101,"Terminé")+SUMIFS('Matchs'!$M$2:$M$101,'Matchs'!$I$2:$I$101,$C11,'Matchs'!$P$2:$P$101,"Terminé")) | I11: =IF($B11="","",SUMIFS('Matchs'!$M$2:$M$101,'Matchs'!$G$2:$G$101,$C11,'Matchs'!$P$2:$P$101,"Terminé")+SUMIFS('Matchs'!$L$2:$L$101,'Matchs'!$I$2:$I$101,$C11,'Matchs'!$P$2:$P$101,"Terminé")) | J11: =IF($B11="","",H11-I11) | K11: =IF($B11="","",F11*2) | L11: =IF($B11="","",IFERROR(F11/E11,0)) | M11: =IF($B11="","",IF(K11>=4,"Qualifié","À confirmer")) | O11: Groupe | P11: Matchs terminés
A12: =IF($B12="","",1+COUNTIFS($D$2:$D$101,D12,$K$2:$K$101,">"&K12)) | B12: =IF('Participants'!$A12="","",'Participants'!$A12) | C12: =IF($B12="","",IFERROR(VLOOKUP($B12,'Participants'!$A$2:$L$101,3,FALSE),"")) | D12: =IF($B12="","",IFERROR(VLOOKUP($B12,'Participants'!$A$2:$L$101,9,FALSE),"")) | E12: =IF($B12="","",COUNTIFS('Matchs'!$G$2:$G$101,$C12,'Matchs'!$P$2:$P$101,"Terminé")+COUNTIFS('Matchs'!$I$2:$I$101,$C12,'Matchs'!$P$2:$P$101,"Terminé")) | F12: =IF($B12="","",COUNTIF('Matchs'!$N$2:$N$101,$C12)) | G12: =IF($B12="","",E12-F12) | H12: =IF($B12="","",SUMIFS('Matchs'!$L$2:$L$101,'Matchs'!$G$2:$G$101,$C12,'Matchs'!$P$2:$P$101,"Terminé")+SUMIFS('Matchs'!$M$2:$M$101,'Matchs'!$I$2:$I$101,$C12,'Matchs'!$P$2:$P$101,"Terminé")) | I12: =IF($B12="","",SUMIFS('Matchs'!$M$2:$M$101,'Matchs'!$G$2:$G$101,$C12,'Matchs'!$P$2:$P$101,"Terminé")+SUMIFS('Matchs'!$L$2:$L$101,'Matchs'!$I$2:$I$101,$C12,'Matchs'!$P$2:$P$101,"Terminé")) | J12: =IF($B12="","",H12-I12) | K12: =IF($B12="","",F12*2) | L12: =IF($B12="","",IFERROR(F12/E12,0)) | M12: =IF($B12="","",IF(K12>=4,"Qualifié","À confirmer")) | O12: A | P12: =COUNTIFS('Matchs'!$C$2:$C$101,O12,'Matchs'!$P$2:$P$101,"Terminé")
A13: =IF($B13="","",1+COUNTIFS($D$2:$D$101,D13,$K$2:$K$101,">"&K13)) | B13: =IF('Participants'!$A13="","",'Participants'!$A13) | C13: =IF($B13="","",IFERROR(VLOOKUP($B13,'Participants'!$A$2:$L$101,3,FALSE),"")) | D13: =IF($B13="","",IFERROR(VLOOKUP($B13,'Participants'!$A$2:$L$101,9,FALSE),"")) | E13: =IF($B13="","",COUNTIFS('Matchs'!$G$2:$G$101,$C13,'Matchs'!$P$2:$P$101,"Terminé")+COUNTIFS('Matchs'!$I$2:$I$101,$C13,'Matchs'!$P$2:$P$101,"Terminé")) | F13: =IF($B13="","",COUNTIF('Matchs'!$N$2:$N$101,$C13)) | G13: =IF($B13="","",E13-F13) | H13: =IF($B13="","",SUMIFS('Matchs'!$L$2:$L$101,'Matchs'!$G$2:$G$101,$C13,'Matchs'!$P$2:$P$101,"Terminé")+SUMIFS('Matchs'!$M$2:$M$101,'Matchs'!$I$2:$I$101,$C13,'Matchs'!$P$2:$P$101,"Terminé")) | I13: =IF($B13="","",SUMIFS('Matchs'!$M$2:$M$101,'Matchs'!$G$2:$G$101,$C13,'Matchs'!$P$2:$P$101,"Terminé")+SUMIFS('Matchs'!$L$2:$L$101,'Matchs'!$I$2:$I$101,$C13,'Matchs'!$P$2:$P$101,"Terminé")) | J13: =IF($B13="","",H13-I13) | K13: =IF($B13="","",F13*2) | L13: =IF($B13="","",IFERROR(F13/E13,0)) | M13: =IF($B13="","",IF(K13>=4,"Qualifié","À confirmer")) | O13: B | P13: =COUNTIFS('Matchs'!$C$2:$C$101,O13,'Matchs'!$P$2:$P$101,"Terminé")
A14: =IF($B14="","",1+COUNTIFS($D$2:$D$101,D14,$K$2:$K$101,">"&K14)) | B14: =IF('Participants'!$A14="","",'Participants'!$A14) | C14: =IF($B14="","",IFERROR(VLOOKUP($B14,'Participants'!$A$2:$L$101,3,FALSE),"")) | D14: =IF($B14="","",IFERROR(VLOOKUP($B14,'Participants'!$A$2:$L$101,9,FALSE),"")) | E14: =IF($B14="","",COUNTIFS('Matchs'!$G$2:$G$101,$C14,'Matchs'!$P$2:$P$101,"Terminé")+COUNTIFS('Matchs'!$I$2:$I$101,$C14,'Matchs'!$P$2:$P$101,"Terminé")) | F14: =IF($B14="","",COUNTIF('Matchs'!$N$2:$N$101,$C14)) | G14: =IF($B14="","",E14-F14) | H14: =IF($B14="","",SUMIFS('Matchs'!$L$2:$L$101,'Matchs'!$G$2:$G$101,$C14,'Matchs'!$P$2:$P$101,"Terminé")+SUMIFS('Matchs'!$M$2:$M$101,'Matchs'!$I$2:$I$101,$C14,'Matchs'!$P$2:$P$101,"Terminé")) | I14: =IF($B14="","",SUMIFS('Matchs'!$M$2:$M$101,'Matchs'!$G$2:$G$101,$C14,'Matchs'!$P$2:$P$101,"Terminé")+SUMIFS('Matchs'!$L$2:$L$101,'Matchs'!$I$2:$I$101,$C14,'Matchs'!$P$2:$P$101,"Terminé")) | J14: =IF($B14="","",H14-I14) | K14: =IF($B14="","",F14*2) | L14: =IF($B14="","",IFERROR(F14/E14,0)) | M14: =IF($B14="","",IF(K14>=4,"Qualifié","À confirmer")) | O14: C | P14: =COUNTIFS('Matchs'!$C$2:$C$101,O14,'Matchs'!$P$2:$P$101,"Terminé")
A15: =IF($B15="","",1+COUNTIFS($D$2:$D$101,D15,$K$2:$K$101,">"&K15)) | B15: =IF('Participants'!$A15="","",'Participants'!$A15) | C15: =IF($B15="","",IFERROR(VLOOKUP($B15,'Participants'!$A$2:$L$101,3,FALSE),"")) | D15: =IF($B15="","",IFERROR(VLOOKUP($B15,'Participants'!$A$2:$L$101,9,FALSE),"")) | E15: =IF($B15="","",COUNTIFS('Matchs'!$G$2:$G$101,$C15,'Matchs'!$P$2:$P$101,"Terminé")+COUNTIFS('Matchs'!$I$2:$I$101,$C15,'Matchs'!$P$2:$P$101,"Terminé")) | F15: =IF($B15="","",COUNTIF('Matchs'!$N$2:$N$101,$C15)) | G15: =IF($B15="","",E15-F15) | H15: =IF($B15="","",SUMIFS('Matchs'!$L$2:$L$101,'Matchs'!$G$2:$G$101,$C15,'Matchs'!$P$2:$P$101,"Terminé")+SUMIFS('Matchs'!$M$2:$M$101,'Matchs'!$I$2:$I$101,$C15,'Matchs'!$P$2:$P$101,"Terminé")) | I15: =IF($B15="","",SUMIFS('Matchs'!$M$2:$M$101,'Matchs'!$G$2:$G$101,$C15,'Matchs'!$P$2:$P$101,"Terminé")+SUMIFS('Matchs'!$L$2:$L$101,'Matchs'!$I$2:$I$101,$C15,'Matchs'!$P$2:$P$101,"Terminé")) | J15: =IF($B15="","",H15-I15) | K15: =IF($B15="","",F15*2) | L15: =IF($B15="","",IFERROR(F15/E15,0)) | M15: =IF($B15="","",IF(K15>=4,"Qualifié","À confirmer")) | O15: D | P15: =COUNTIFS('Matchs'!$C$2:$C$101,O15,'Matchs'!$P$2:$P$101,"Terminé")
A16: =IF($B16="","",1+COUNTIFS($D$2:$D$101,D16,$K$2:$K$101,">"&K16)) | B16: =IF('Participants'!$A16="","",'Participants'!$A16) | C16: =IF($B16="","",IFERROR(VLOOKUP($B16,'Participants'!$A$2:$L$101,3,FALSE),"")) | D16: =IF($B16="","",IFERROR(VLOOKUP($B16,'Participants'!$A$2:$L$101,9,FALSE),"")) | E16: =IF($B16="","",COUNTIFS('Matchs'!$G$2:$G$101,$C16,'Matchs'!$P$2:$P$101,"Terminé")+COUNTIFS('Matchs'!$I$2:$I$101,$C16,'Matchs'!$P$2:$P$101,"Terminé")) | F16: =IF($B16="","",COUNTIF('Matchs'!$N$2:$N$101,$C16)) | G16: =IF($B16="","",E16-F16) | H16: =IF($B16="","",SUMIFS('Matchs'!$L$2:$L$101,'Matchs'!$G$2:$G$101,$C16,'Matchs'!$P$2:$P$101,"Terminé")+SUMIFS('Matchs'!$M$2:$M$101,'Matchs'!$I$2:$I$101,$C16,'Matchs'!$P$2:$P$101,"Terminé")) | I16: =IF($B16="","",SUMIFS('Matchs'!$M$2:$M$101,'Matchs'!$G$2:$G$101,$C16,'Matchs'!$P$2:$P$101,"Terminé")+SUMIFS('Matchs'!$L$2:$L$101,'Matchs'!$I$2:$I$101,$C16,'Matchs'!$P$2:$P$101,"Terminé")) | J16: =IF($B16="","",H16-I16) | K16: =IF($B16="","",F16*2) | L16: =IF($B16="","",IFERROR(F16/E16,0)) | M16: =IF($B16="","",IF(K16>=4,"Qualifié","À confirmer"))
A17: =IF($B17="","",1+COUNTIFS($D$2:$D$101,D17,$K$2:$K$101,">"&K17)) | B17: =IF('Participants'!$A17="","",'Participants'!$A17) | C17: =IF($B17="","",IFERROR(VLOOKUP($B17,'Participants'!$A$2:$L$101,3,FALSE),"")) | D17: =IF($B17="","",IFERROR(VLOOKUP($B17,'Participants'!$A$2:$L$101,9,FALSE),"")) | E17: =IF($B17="","",COUNTIFS('Matchs'!$G$2:$G$101,$C17,'Matchs'!$P$2:$P$101,"Terminé")+COUNTIFS('Matchs'!$I$2:$I$101,$C17,'Matchs'!$P$2:$P$101,"Terminé")) | F17: =IF($B17="","",COUNTIF('Matchs'!$N$2:$N$101,$C17)) | G17: =IF($B17="","",E17-F17) | H17: =IF($B17="","",SUMIFS('Matchs'!$L$2:$L$101,'Matchs'!$G$2:$G$101,$C17,'Matchs'!$P$2:$P$101,"Terminé")+SUMIFS('Matchs'!$M$2:$M$101,'Matchs'!$I$2:$I$101,$C17,'Matchs'!$P$2:$P$101,"Terminé")) | I17: =IF($B17="","",SUMIFS('Matchs'!$M$2:$M$101,'Matchs'!$G$2:$G$101,$C17,'Matchs'!$P$2:$P$101,"Terminé")+SUMIFS('Matchs'!$L$2:$L$101,'Matchs'!$I$2:$I$101,$C17,'Matchs'!$P$2:$P$101,"Terminé")) | J17: =IF($B17="","",H17-I17) | K17: =IF($B17="","",F17*2) | L17: =IF($B17="","",IFERROR(F17/E17,0)) | M17: =IF($B17="","",IF(K17>=4,"Qualifié","À confirmer"))
A18: =IF($B18="","",1+COUNTIFS($D$2:$D$101,D18,$K$2:$K$101,">"&K18)) | B18: =IF('Participants'!$A18="","",'Participants'!$A18) | C18: =IF($B18="","",IFERROR(VLOOKUP($B18,'Participants'!$A$2:$L$101,3,FALSE),"")) | D18: =IF($B18="","",IFERROR(VLOOKUP($B18,'Participants'!$A$2:$L$101,9,FALSE),"")) | E18: =IF($B18="","",COUNTIFS('Matchs'!$G$2:$G$101,$C18,'Matchs'!$P$2:$P$101,"Terminé")+COUNTIFS('Matchs'!$I$2:$I$101,$C18,'Matchs'!$P$2:$P$101,"Terminé")) | F18: =IF($B18="","",COUNTIF('Matchs'!$N$2:$N$101,$C18)) | G18: =IF($B18="","",E18-F18) | H18: =IF($B18="","",SUMIFS('Matchs'!$L$2:$L$101,'Matchs'!$G$2:$G$101,$C18,'Matchs'!$P$2:$P$101,"Terminé")+SUMIFS('Matchs'!$M$2:$M$101,'Matchs'!$I$2:$I$101,$C18,'Matchs'!$P$2:$P$101,"Terminé")) | I18: =IF($B18="","",SUMIFS('Matchs'!$M$2:$M$101,'Matchs'!$G$2:$G$101,$C18,'Matchs'!$P$2:$P$101,"Terminé")+SUMIFS('Matchs'!$L$2:$L$101,'Matchs'!$I$2:$I$101,$C18,'Matchs'!$P$2:$P$101,"Terminé")) | J18: =IF($B18="","",H18-I18) | K18: =IF($B18="","",F18*2) | L18: =IF($B18="","",IFERROR(F18/E18,0)) | M18: =IF($B18="","",IF(K18>=4,"Qualifié","À confirmer"))
A19: =IF($B19="","",1+COUNTIFS($D$2:$D$101,D19,$K$2:$K$101,">"&K19)) | B19: =IF('Participants'!$A19="","",'Participants'!$A19) | C19: =IF($B19="","",IFERROR(VLOOKUP($B19,'Participants'!$A$2:$L$101,3,FALSE),"")) | D19: =IF($B19="","",IFERROR(VLOOKUP($B19,'Participants'!$A$2:$L$101,9,FALSE),"")) | E19: =IF($B19="","",COUNTIFS('Matchs'!$G$2:$G$101,$C19,'Matchs'!$P$2:$P$101,"Terminé")+COUNTIFS('Matchs'!$I$2:$I$101,$C19,'Matchs'!$P$2:$P$101,"Terminé")) | F19: =IF($B19="","",COUNTIF('Matchs'!$N$2:$N$101,$C19)) | G19: =IF($B19="","",E19-F19) | H19: =IF($B19="","",SUMIFS('Matchs'!$L$2:$L$101,'Matchs'!$G$2:$G$101,$C19,'Matchs'!$P$2:$P$101,"Terminé")+SUMIFS('Matchs'!$M$2:$M$101,'Matchs'!$I$2:$I$101,$C19,'Matchs'!$P$2:$P$101,"Terminé")) | I19: =IF($B19="","",SUMIFS('Matchs'!$M$2:$M$101,'Matchs'!$G$2:$G$101,$C19,'Matchs'!$P$2:$P$101,"Terminé")+SUMIFS('Matchs'!$L$2:$L$101,'Matchs'!$I$2:$I$101,$C19,'Matchs'!$P$2:$P$101,"Terminé")) | J19: =IF($B19="","",H19-I19) | K19: =IF($B19="","",F19*2) | L19: =IF($B19="","",IFERROR(F19/E19,0)) | M19: =IF($B19="","",IF(K19>=4,"Qualifié","À confirmer"))
A20: =IF($B20="","",1+COUNTIFS($D$2:$D$101,D20,$K$2:$K$101,">"&K20)) | B20: =IF('Participants'!$A20="","",'Participants'!$A20) | C20: =IF($B20="","",IFERROR(VLOOKUP($B20,'Participants'!$A$2:$L$101,3,FALSE),"")) | D20: =IF($B20="","",IFERROR(VLOOKUP($B20,'Participants'!$A$2:$L$101,9,FALSE),"")) | E20: =IF($B20="","",COUNTIFS('Matchs'!$G$2:$G$101,$C20,'Matchs'!$P$2:$P$101,"Terminé")+COUNTIFS('Matchs'!$I$2:$I$101,$C20,'Matchs'!$P$2:$P$101,"Terminé")) | F20: =IF($B20="","",COUNTIF('Matchs'!$N$2:$N$101,$C20)) | G20: =IF($B20="","",E20-F20) | H20: =IF($B20="","",SUMIFS('Matchs'!$L$2:$L$101,'Matchs'!$G$2:$G$101,$C20,'Matchs'!$P$2:$P$101,"Terminé")+SUMIFS('Matchs'!$M$2:$M$101,'Matchs'!$I$2:$I$101,$C20,'Matchs'!$P$2:$P$101,"Terminé")) | I20: =IF($B20="","",SUMIFS('Matchs'!$M$2:$M$101,'Matchs'!$G$2:$G$101,$C20,'Matchs'!$P$2:$P$101,"Terminé")+SUMIFS('Matchs'!$L$2:$L$101,'Matchs'!$I$2:$I$101,$C20,'Matchs'!$P$2:$P$101,"Terminé")) | J20: =IF($B20="","",H20-I20) | K20: =IF($B20="","",F20*2) | L20: =IF($B20="","",IFERROR(F20/E20,0)) | M20: =IF($B20="","",IF(K20>=4,"Qualifié","À confirmer"))
A21: =IF($B21="","",1+COUNTIFS($D$2:$D$101,D21,$K$2:$K$101,">"&K21)) | B21: =IF('Participants'!$A21="","",'Participants'!$A21) | C21: =IF($B21="","",IFERROR(VLOOKUP($B21,'Participants'!$A$2:$L$101,3,FALSE),"")) | D21: =IF($B21="","",IFERROR(VLOOKUP($B21,'Participants'!$A$2:$L$101,9,FALSE),"")) | E21: =IF($B21="","",COUNTIFS('Matchs'!$G$2:$G$101,$C21,'Matchs'!$P$2:$P$101,"Terminé")+COUNTIFS('Matchs'!$I$2:$I$101,$C21,'Matchs'!$P$2:$P$101,"Terminé")) | F21: =IF($B21="","",COUNTIF('Matchs'!$N$2:$N$101,$C21)) | G21: =IF($B21="","",E21-F21) | H21: =IF($B21="","",SUMIFS('Matchs'!$L$2:$L$101,'Matchs'!$G$2:$G$101,$C21,'Matchs'!$P$2:$P$101,"Terminé")+SUMIFS('Matchs'!$M$2:$M$101,'Matchs'!$I$2:$I$101,$C21,'Matchs'!$P$2:$P$101,"Terminé")) | I21: =IF($B21="","",SUMIFS('Matchs'!$M$2:$M$101,'Matchs'!$G$2:$G$101,$C21,'Matchs'!$P$2:$P$101,"Terminé")+SUMIFS('Matchs'!$L$2:$L$101,'Matchs'!$I$2:$I$101,$C21,'Matchs'!$P$2:$P$101,"Terminé")) | J21: =IF($B21="","",H21-I21) | K21: =IF($B21="","",F21*2) | L21: =IF($B21="","",IFERROR(F21/E21,0)) | M21: =IF($B21="","",IF(K21>=4,"Qualifié","À confirmer"))
A22: =IF($B22="","",1+COUNTIFS($D$2:$D$101,D22,$K$2:$K$101,">"&K22)) | B22: =IF('Participants'!$A22="","",'Participants'!$A22) | C22: =IF($B22="","",IFERROR(VLOOKUP($B22,'Participants'!$A$2:$L$101,3,FALSE),"")) | D22: =IF($B22="","",IFERROR(VLOOKUP($B22,'Participants'!$A$2:$L$101,9,FALSE),"")) | E22: =IF($B22="","",COUNTIFS('Matchs'!$G$2:$G$101,$C22,'Matchs'!$P$2:$P$101,"Terminé")+COUNTIFS('Matchs'!$I$2:$I$101,$C22,'Matchs'!$P$2:$P$101,"Terminé")) | F22: =IF($B22="","",COUNTIF('Matchs'!$N$2:$N$101,$C22)) | G22: =IF($B22="","",E22-F22) | H22: =IF($B22="","",SUMIFS('Matchs'!$L$2:$L$101,'Matchs'!$G$2:$G$101,$C22,'Matchs'!$P$2:$P$101,"Terminé")+SUMIFS('Matchs'!$M$2:$M$101,'Matchs'!$I$2:$I$101,$C22,'Matchs'!$P$2:$P$101,"Terminé")) | I22: =IF($B22="","",SUMIFS('Matchs'!$M$2:$M$101,'Matchs'!$G$2:$G$101,$C22,'Matchs'!$P$2:$P$101,"Terminé")+SUMIFS('Matchs'!$L$2:$L$101,'Matchs'!$I$2:$I$101,$C22,'Matchs'!$P$2:$P$101,"Terminé")) | J22: =IF($B22="","",H22-I22) | K22: =IF($B22="","",F22*2) | L22: =IF($B22="","",IFERROR(F22/E22,0)) | M22: =IF($B22="","",IF(K22>=4,"Qualifié","À confirmer"))
A23: =IF($B23="","",1+COUNTIFS($D$2:$D$101,D23,$K$2:$K$101,">"&K23)) | B23: =IF('Participants'!$A23="","",'Participants'!$A23) | C23: =IF($B23="","",IFERROR(VLOOKUP($B23,'Participants'!$A$2:$L$101,3,FALSE),"")) | D23: =IF($B23="","",IFERROR(VLOOKUP($B23,'Participants'!$A$2:$L$101,9,FALSE),"")) | E23: =IF($B23="","",COUNTIFS('Matchs'!$G$2:$G$101,$C23,'Matchs'!$P$2:$P$101,"Terminé")+COUNTIFS('Matchs'!$I$2:$I$101,$C23,'Matchs'!$P$2:$P$101,"Terminé")) | F23: =IF($B23="","",COUNTIF('Matchs'!$N$2:$N$101,$C23)) | G23: =IF($B23="","",E23-F23) | H23: =IF($B23="","",SUMIFS('Matchs'!$L$2:$L$101,'Matchs'!$G$2:$G$101,$C23,'Matchs'!$P$2:$P$101,"Terminé")+SUMIFS('Matchs'!$M$2:$M$101,'Matchs'!$I$2:$I$101,$C23,'Matchs'!$P$2:$P$101,"Terminé")) | I23: =IF($B23="","",SUMIFS('Matchs'!$M$2:$M$101,'Matchs'!$G$2:$G$101,$C23,'Matchs'!$P$2:$P$101,"Terminé")+SUMIFS('Matchs'!$L$2:$L$101,'Matchs'!$I$2:$I$101,$C23,'Matchs'!$P$2:$P$101,"Terminé")) | J23: =IF($B23="","",H23-I23) | K23: =IF($B23="","",F23*2) | L23: =IF($B23="","",IFERROR(F23/E23,0)) | M23: =IF($B23="","",IF(K23>=4,"Qualifié","À confirmer"))
A24: =IF($B24="","",1+COUNTIFS($D$2:$D$101,D24,$K$2:$K$101,">"&K24)) | B24: =IF('Participants'!$A24="","",'Participants'!$A24) | C24: =IF($B24="","",IFERROR(VLOOKUP($B24,'Participants'!$A$2:$L$101,3,FALSE),"")) | D24: =IF($B24="","",IFERROR(VLOOKUP($B24,'Participants'!$A$2:$L$101,9,FALSE),"")) | E24: =IF($B24="","",COUNTIFS('Matchs'!$G$2:$G$101,$C24,'Matchs'!$P$2:$P$101,"Terminé")+COUNTIFS('Matchs'!$I$2:$I$101,$C24,'Matchs'!$P$2:$P$101,"Terminé")) | F24: =IF($B24="","",COUNTIF('Matchs'!$N$2:$N$101,$C24)) | G24: =IF($B24="","",E24-F24) | H24: =IF($B24="","",SUMIFS('Matchs'!$L$2:$L$101,'Matchs'!$G$2:$G$101,$C24,'Matchs'!$P$2:$P$101,"Terminé")+SUMIFS('Matchs'!$M$2:$M$101,'Matchs'!$I$2:$I$101,$C24,'Matchs'!$P$2:$P$101,"Terminé")) | I24: =IF($B24="","",SUMIFS('Matchs'!$M$2:$M$101,'Matchs'!$G$2:$G$101,$C24,'Matchs'!$P$2:$P$101,"Terminé")+SUMIFS('Matchs'!$L$2:$L$101,'Matchs'!$I$2:$I$101,$C24,'Matchs'!$P$2:$P$101,"Terminé")) | J24: =IF($B24="","",H24-I24) | K24: =IF($B24="","",F24*2) | L24: =IF($B24="","",IFERROR(F24/E24,0)) | M24: =IF($B24="","",IF(K24>=4,"Qualifié","À confirmer"))
A25: =IF($B25="","",1+COUNTIFS($D$2:$D$101,D25,$K$2:$K$101,">"&K25)) | B25: =IF('Participants'!$A25="","",'Participants'!$A25) | C25: =IF($B25="","",IFERROR(VLOOKUP($B25,'Participants'!$A$2:$L$101,3,FALSE),"")) | D25: =IF($B25="","",IFERROR(VLOOKUP($B25,'Participants'!$A$2:$L$101,9,FALSE),"")) | E25: =IF($B25="","",COUNTIFS('Matchs'!$G$2:$G$101,$C25,'Matchs'!$P$2:$P$101,"Terminé")+COUNTIFS('Matchs'!$I$2:$I$101,$C25,'Matchs'!$P$2:$P$101,"Terminé")) | F25: =IF($B25="","",COUNTIF('Matchs'!$N$2:$N$101,$C25)) | G25: =IF($B25="","",E25-F25) | H25: =IF($B25="","",SUMIFS('Matchs'!$L$2:$L$101,'Matchs'!$G$2:$G$101,$C25,'Matchs'!$P$2:$P$101,"Terminé")+SUMIFS('Matchs'!$M$2:$M$101,'Matchs'!$I$2:$I$101,$C25,'Matchs'!$P$2:$P$101,"Terminé")) | I25: =IF($B25="","",SUMIFS('Matchs'!$M$2:$M$101,'Matchs'!$G$2:$G$101,$C25,'Matchs'!$P$2:$P$101,"Terminé")+SUMIFS('Matchs'!$L$2:$L$101,'Matchs'!$I$2:$I$101,$C25,'Matchs'!$P$2:$P$101,"Terminé")) | J25: =IF($B25="","",H25-I25) | K25: =IF($B25="","",F25*2) | L25: =IF($B25="","",IFERROR(F25/E25,0)) | M25: =IF($B25="","",IF(K25>=4,"Qualifié","À confirmer"))
A26: =IF($B26="","",1+COUNTIFS($D$2:$D$101,D26,$K$2:$K$101,">"&K26)) | B26: =IF('Participants'!$A26="","",'Participants'!$A26) | C26: =IF($B26="","",IFERROR(VLOOKUP($B26,'Participants'!$A$2:$L$101,3,FALSE),"")) | D26: =IF($B26="","",IFERROR(VLOOKUP($B26,'Participants'!$A$2:$L$101,9,FALSE),"")) | E26: =IF($B26="","",COUNTIFS('Matchs'!$G$2:$G$101,$C26,'Matchs'!$P$2:$P$101,"Terminé")+COUNTIFS('Matchs'!$I$2:$I$101,$C26,'Matchs'!$P$2:$P$101,"Terminé")) | F26: =IF($B26="","",COUNTIF('Matchs'!$N$2:$N$101,$C26)) | G26: =IF($B26="","",E26-F26) | H26: =IF($B26="","",SUMIFS('Matchs'!$L$2:$L$101,'Matchs'!$G$2:$G$101,$C26,'Matchs'!$P$2:$P$101,"Terminé")+SUMIFS('Matchs'!$M$2:$M$101,'Matchs'!$I$2:$I$101,$C26,'Matchs'!$P$2:$P$101,"Terminé")) | I26: =IF($B26="","",SUMIFS('Matchs'!$M$2:$M$101,'Matchs'!$G$2:$G$101,$C26,'Matchs'!$P$2:$P$101,"Terminé")+SUMIFS('Matchs'!$L$2:$L$101,'Matchs'!$I$2:$I$101,$C26,'Matchs'!$P$2:$P$101,"Terminé")) | J26: =IF($B26="","",H26-I26) | K26: =IF($B26="","",F26*2) | L26: =IF($B26="","",IFERROR(F26/E26,0)) | M26: =IF($B26="","",IF(K26>=4,"Qualifié","À confirmer"))
A27: =IF($B27="","",1+COUNTIFS($D$2:$D$101,D27,$K$2:$K$101,">"&K27)) | B27: =IF('Participants'!$A27="","",'Participants'!$A27) | C27: =IF($B27="","",IFERROR(VLOOKUP($B27,'Participants'!$A$2:$L$101,3,FALSE),"")) | D27: =IF($B27="","",IFERROR(VLOOKUP($B27,'Participants'!$A$2:$L$101,9,FALSE),"")) | E27: =IF($B27="","",COUNTIFS('Matchs'!$G$2:$G$101,$C27,'Matchs'!$P$2:$P$101,"Terminé")+COUNTIFS('Matchs'!$I$2:$I$101,$C27,'Matchs'!$P$2:$P$101,"Terminé")) | F27: =IF($B27="","",COUNTIF('Matchs'!$N$2:$N$101,$C27)) | G27: =IF($B27="","",E27-F27) | H27: =IF($B27="","",SUMIFS('Matchs'!$L$2:$L$101,'Matchs'!$G$2:$G$101,$C27,'Matchs'!$P$2:$P$101,"Terminé")+SUMIFS('Matchs'!$M$2:$M$101,'Matchs'!$I$2:$I$101,$C27,'Matchs'!$P$2:$P$101,"Terminé")) | I27: =IF($B27="","",SUMIFS('Matchs'!$M$2:$M$101,'Matchs'!$G$2:$G$101,$C27,'Matchs'!$P$2:$P$101,"Terminé")+SUMIFS('Matchs'!$L$2:$L$101,'Matchs'!$I$2:$I$101,$C27,'Matchs'!$P$2:$P$101,"Terminé")) | J27: =IF($B27="","",H27-I27) | K27: =IF($B27="","",F27*2) | L27: =IF($B27="","",IFERROR(F27/E27,0)) | M27: =IF($B27="","",IF(K27>=4,"Qualifié","À confirmer"))
... A101: =IF($B101="","",1+COUNTIFS($D$2:$D$101,D101,$K$2:$K$101,">"&K101)) | B101: =IF('Participants'!$A101="","",'Participants'!$A101) | C101: =IF($B101="","",IFERROR(VLOOKUP($B101,'Participants'!$A$2:$L$101,3,FALSE),"")) | D101: =IF($B101="","",IFERROR(VLOOKUP($B101,'Participants'!$A$2:$L$101,9,FALSE),"")) | E101: =IF($B101="","",COUNTIFS('Matchs'!$G$2:$G$101,$C101,'Matchs'!$P$2:$P$101,"Terminé")+COUNTIFS('Matchs'!$I$2:$I$101,$C101,'Matchs'!$P$2:$P$101,"Terminé")) | F101: =IF($B101="","",COUNTIF('Matchs'!$N$2:$N$101,$C101)) | G101: =IF($B101="","",E101-F101) | H101: =IF($B101="","",SUMIFS('Matchs'!$L$2:$L$101,'Matchs'!$G$2:$G$101,$C101,'Matchs'!$P$2:$P$101,"Terminé")+SUMIFS('Matchs'!$M$2:$M$101,'Matchs'!$I$2:$I$101,$C101,'Matchs'!$P$2:$P$101,"Terminé")) | I101: =IF($B101="","",SUMIFS('Matchs'!$M$2:$M$101,'Matchs'!$G$2:$G$101,$C101,'Matchs'!$P$2:$P$101,"Terminé")+SUMIFS('Matchs'!$L$2:$L$101,'Matchs'!$I$2:$I$101,$C101,'Matchs'!$P$2:$P$101,"Terminé")) | J101: =IF($B101="","",H101-I101) | K101: =IF($B101="","",F101*2) | L101: =IF($B101="","",IFERROR(F101/E101,0)) | M101: =IF($B101="","",IF(K101>=4,"Qualifié","À confirmer"))
A102: Total / moyenne | E102: =SUM(E2:E101) | F102: =SUM(F2:F101) | G102: =SUM(G2:G101) | H102: =SUM(H2:H101) | I102: =SUM(I2:I101) | J102: =SUM(J2:J101) | K102: =SUM(K2:K101) | L102: =IFERROR(AVERAGE(L2:L101),0)

Sheet Mode d'emploi
A1: Élément | B1: Utilisation | C1: Conseil
A2: Participants | B2: Saisissez ou remplacez les joueurs dans les lignes jaunes. | C2: Les 8 premières lignes sont des exemples à remplacer.
A3: N° joueur | B3: Le numéro est calculé automatiquement à partir du nom renseigné. | C3: Ne modifiez pas la colonne de numérotation.
A4: Classement FFTT | B4: Indiquez le classement numérique du joueur. | C4: La tête de série est calculée automatiquement à partir de 1100 points.
A5: Matchs | B5: Sélectionnez les numéros des joueurs A et B dans les listes déroulantes. | C5: Les noms, le vainqueur, le score et le statut sont calculés automatiquement.
A6: Résultats | B6: Renseignez les sets A et B à la fin de chaque rencontre. | C6: Un score égal est signalé en rouge pour vérification.
A7: Classement | B7: Consultez les statistiques par groupe et la qualification. | C7: Les calculs utilisent uniquement les matchs terminés.
A8: Graphiques | B8: Utilisez le tableau de bord à droite de la feuille Classement. | C8: Les graphiques couvrent toutes les lignes préparées du modèle.
A9: Capacité | B9: Les lignes 2 à 101 sont prêtes à être utilisées. | C9: Ajoutez les participants et les matchs dans les cellules jaunes.
