Workbook

Sheet Relevés
A1: Feuille de suivi de tension artérielle
A2: Modèle illustratif : Camille Martin — Paris — données à effacer avant utilisation. Les valeurs sont indicatives et ne constituent pas un avis médical.
A4: Date | B4: Heure | C4: Moment | D4: Bras | E4: Position | F4: Repos avant mesure (min) | G4: Pression systolique (mmHg) | H4: Pression diastolique (mmHg) | I4: Pouls (bpm) | J4: Symptômes / observations | K4: Classification | L4: À surveiller ?
A5: 46293 | B5: 0.31597222 | C5: Matin | D5: Gauche | E5: Assis | F5: 5 | G5: 124 | H5: 79 | I5: 68 | J5: Après 5 minutes de repos | K5: =IF(OR('Relevés'!G5="",'Relevés'!H5=""),"",IF(OR('Relevés'!G5>=140,'Relevés'!H5>=90),"À surveiller",IF(OR('Relevés'!G5>=130,'Relevés'!H5>=85),"Élevée","Habituelle"))) | L5: =IF(OR('Relevés'!G5="",'Relevés'!H5=""),"",IF(OR('Relevés'!G5>=140,'Relevés'!H5>=90),"Oui","Non"))
A6: 46293 | B6: 0.84375 | C6: Soir | D6: Gauche | E6: Assis | F6: 5 | G6: 128 | H6: 81 | I6: 72 | K6: =IF(OR('Relevés'!G6="",'Relevés'!H6=""),"",IF(OR('Relevés'!G6>=140,'Relevés'!H6>=90),"À surveiller",IF(OR('Relevés'!G6>=130,'Relevés'!H6>=85),"Élevée","Habituelle"))) | L6: =IF(OR('Relevés'!G6="",'Relevés'!H6=""),"",IF(OR('Relevés'!G6>=140,'Relevés'!H6>=90),"Oui","Non"))
A7: 46294 | B7: 0.30902778 | C7: Matin | D7: Gauche | E7: Assis | F7: 5 | G7: 118 | H7: 76 | I7: 64 | K7: =IF(OR('Relevés'!G7="",'Relevés'!H7=""),"",IF(OR('Relevés'!G7>=140,'Relevés'!H7>=90),"À surveiller",IF(OR('Relevés'!G7>=130,'Relevés'!H7>=85),"Élevée","Habituelle"))) | L7: =IF(OR('Relevés'!G7="",'Relevés'!H7=""),"",IF(OR('Relevés'!G7>=140,'Relevés'!H7>=90),"Oui","Non"))
A8: 46294 | B8: 0.85416667 | C8: Soir | D8: Droit | E8: Assis | F8: 5 | G8: 132 | H8: 85 | I8: 75 | J8: Légère fatigue | K8: =IF(OR('Relevés'!G8="",'Relevés'!H8=""),"",IF(OR('Relevés'!G8>=140,'Relevés'!H8>=90),"À surveiller",IF(OR('Relevés'!G8>=130,'Relevés'!H8>=85),"Élevée","Habituelle"))) | L8: =IF(OR('Relevés'!G8="",'Relevés'!H8=""),"",IF(OR('Relevés'!G8>=140,'Relevés'!H8>=90),"Oui","Non"))
A9: 46296 | B9: 0.31944444 | C9: Matin | D9: Gauche | E9: Assis | F9: 5 | G9: 135 | H9: 86 | I9: 70 | J9: Après le repos | K9: =IF(OR('Relevés'!G9="",'Relevés'!H9=""),"",IF(OR('Relevés'!G9>=140,'Relevés'!H9>=90),"À surveiller",IF(OR('Relevés'!G9>=130,'Relevés'!H9>=85),"Élevée","Habituelle"))) | L9: =IF(OR('Relevés'!G9="",'Relevés'!H9=""),"",IF(OR('Relevés'!G9>=140,'Relevés'!H9>=90),"Oui","Non"))
A10: 46296 | B10: 0.84027778 | C10: Soir | D10: Gauche | E10: Assis | F10: 6 | G10: 126 | H10: 80 | I10: 74 | K10: =IF(OR('Relevés'!G10="",'Relevés'!H10=""),"",IF(OR('Relevés'!G10>=140,'Relevés'!H10>=90),"À surveiller",IF(OR('Relevés'!G10>=130,'Relevés'!H10>=85),"Élevée","Habituelle"))) | L10: =IF(OR('Relevés'!G10="",'Relevés'!H10=""),"",IF(OR('Relevés'!G10>=140,'Relevés'!H10>=90),"Oui","Non"))
A11: 46298 | B11: 0.33680556 | C11: Matin | D11: Gauche | E11: Assis | F11: 5 | G11: 142 | H11: 91 | I11: 82 | J11: Légère fatigue | K11: =IF(OR('Relevés'!G11="",'Relevés'!H11=""),"",IF(OR('Relevés'!G11>=140,'Relevés'!H11>=90),"À surveiller",IF(OR('Relevés'!G11>=130,'Relevés'!H11>=85),"Élevée","Habituelle"))) | L11: =IF(OR('Relevés'!G11="",'Relevés'!H11=""),"",IF(OR('Relevés'!G11>=140,'Relevés'!H11>=90),"Oui","Non"))
A12: 46299 | B12: 0.82638889 | C12: Soir | D12: Gauche | E12: Assis | F12: 5 | G12: 122 | H12: 78 | I12: 69 | J12: Après 5 minutes de repos | K12: =IF(OR('Relevés'!G12="",'Relevés'!H12=""),"",IF(OR('Relevés'!G12>=140,'Relevés'!H12>=90),"À surveiller",IF(OR('Relevés'!G12>=130,'Relevés'!H12>=85),"Élevée","Habituelle"))) | L12: =IF(OR('Relevés'!G12="",'Relevés'!H12=""),"",IF(OR('Relevés'!G12>=140,'Relevés'!H12>=90),"Oui","Non"))
K13: =IF(OR('Relevés'!G13="",'Relevés'!H13=""),"",IF(OR('Relevés'!G13>=140,'Relevés'!H13>=90),"À surveiller",IF(OR('Relevés'!G13>=130,'Relevés'!H13>=85),"Élevée","Habituelle"))) | L13: =IF(OR('Relevés'!G13="",'Relevés'!H13=""),"",IF(OR('Relevés'!G13>=140,'Relevés'!H13>=90),"Oui","Non"))
K14: =IF(OR('Relevés'!G14="",'Relevés'!H14=""),"",IF(OR('Relevés'!G14>=140,'Relevés'!H14>=90),"À surveiller",IF(OR('Relevés'!G14>=130,'Relevés'!H14>=85),"Élevée","Habituelle"))) | L14: =IF(OR('Relevés'!G14="",'Relevés'!H14=""),"",IF(OR('Relevés'!G14>=140,'Relevés'!H14>=90),"Oui","Non"))
K15: =IF(OR('Relevés'!G15="",'Relevés'!H15=""),"",IF(OR('Relevés'!G15>=140,'Relevés'!H15>=90),"À surveiller",IF(OR('Relevés'!G15>=130,'Relevés'!H15>=85),"Élevée","Habituelle"))) | L15: =IF(OR('Relevés'!G15="",'Relevés'!H15=""),"",IF(OR('Relevés'!G15>=140,'Relevés'!H15>=90),"Oui","Non"))
K16: =IF(OR('Relevés'!G16="",'Relevés'!H16=""),"",IF(OR('Relevés'!G16>=140,'Relevés'!H16>=90),"À surveiller",IF(OR('Relevés'!G16>=130,'Relevés'!H16>=85),"Élevée","Habituelle"))) | L16: =IF(OR('Relevés'!G16="",'Relevés'!H16=""),"",IF(OR('Relevés'!G16>=140,'Relevés'!H16>=90),"Oui","Non"))
K17: =IF(OR('Relevés'!G17="",'Relevés'!H17=""),"",IF(OR('Relevés'!G17>=140,'Relevés'!H17>=90),"À surveiller",IF(OR('Relevés'!G17>=130,'Relevés'!H17>=85),"Élevée","Habituelle"))) | L17: =IF(OR('Relevés'!G17="",'Relevés'!H17=""),"",IF(OR('Relevés'!G17>=140,'Relevés'!H17>=90),"Oui","Non"))
K18: =IF(OR('Relevés'!G18="",'Relevés'!H18=""),"",IF(OR('Relevés'!G18>=140,'Relevés'!H18>=90),"À surveiller",IF(OR('Relevés'!G18>=130,'Relevés'!H18>=85),"Élevée","Habituelle"))) | L18: =IF(OR('Relevés'!G18="",'Relevés'!H18=""),"",IF(OR('Relevés'!G18>=140,'Relevés'!H18>=90),"Oui","Non"))
K19: =IF(OR('Relevés'!G19="",'Relevés'!H19=""),"",IF(OR('Relevés'!G19>=140,'Relevés'!H19>=90),"À surveiller",IF(OR('Relevés'!G19>=130,'Relevés'!H19>=85),"Élevée","Habituelle"))) | L19: =IF(OR('Relevés'!G19="",'Relevés'!H19=""),"",IF(OR('Relevés'!G19>=140,'Relevés'!H19>=90),"Oui","Non"))
K20: =IF(OR('Relevés'!G20="",'Relevés'!H20=""),"",IF(OR('Relevés'!G20>=140,'Relevés'!H20>=90),"À surveiller",IF(OR('Relevés'!G20>=130,'Relevés'!H20>=85),"Élevée","Habituelle"))) | L20: =IF(OR('Relevés'!G20="",'Relevés'!H20=""),"",IF(OR('Relevés'!G20>=140,'Relevés'!H20>=90),"Oui","Non"))
K21: =IF(OR('Relevés'!G21="",'Relevés'!H21=""),"",IF(OR('Relevés'!G21>=140,'Relevés'!H21>=90),"À surveiller",IF(OR('Relevés'!G21>=130,'Relevés'!H21>=85),"Élevée","Habituelle"))) | L21: =IF(OR('Relevés'!G21="",'Relevés'!H21=""),"",IF(OR('Relevés'!G21>=140,'Relevés'!H21>=90),"Oui","Non"))
K22: =IF(OR('Relevés'!G22="",'Relevés'!H22=""),"",IF(OR('Relevés'!G22>=140,'Relevés'!H22>=90),"À surveiller",IF(OR('Relevés'!G22>=130,'Relevés'!H22>=85),"Élevée","Habituelle"))) | L22: =IF(OR('Relevés'!G22="",'Relevés'!H22=""),"",IF(OR('Relevés'!G22>=140,'Relevés'!H22>=90),"Oui","Non"))
K23: =IF(OR('Relevés'!G23="",'Relevés'!H23=""),"",IF(OR('Relevés'!G23>=140,'Relevés'!H23>=90),"À surveiller",IF(OR('Relevés'!G23>=130,'Relevés'!H23>=85),"Élevée","Habituelle"))) | L23: =IF(OR('Relevés'!G23="",'Relevés'!H23=""),"",IF(OR('Relevés'!G23>=140,'Relevés'!H23>=90),"Oui","Non"))
K24: =IF(OR('Relevés'!G24="",'Relevés'!H24=""),"",IF(OR('Relevés'!G24>=140,'Relevés'!H24>=90),"À surveiller",IF(OR('Relevés'!G24>=130,'Relevés'!H24>=85),"Élevée","Habituelle"))) | L24: =IF(OR('Relevés'!G24="",'Relevés'!H24=""),"",IF(OR('Relevés'!G24>=140,'Relevés'!H24>=90),"Oui","Non"))
... K104: =IF(OR('Relevés'!G104="",'Relevés'!H104=""),"",IF(OR('Relevés'!G104>=140,'Relevés'!H104>=90),"À surveiller",IF(OR('Relevés'!G104>=130,'Relevés'!H104>=85),"Élevée","Habituelle"))) | L104: =IF(OR('Relevés'!G104="",'Relevés'!H104=""),"",IF(OR('Relevés'!G104>=140,'Relevés'!H104>=90),"Oui","Non"))

Sheet Synthèse
A1: Synthèse du suivi de tension artérielle | N1: Référentiel de classification
N2: Seuil systolique | O2: Libellé
A3: Indicateur | B3: Valeur | N3: 0 | O3: Habituelle
A4: Nombre de mesures | B4: =COUNT('Relevés'!G5:G104) | N4: 130 | O4: Élevée
A5: Systolique moyenne | B5: =IFERROR(AVERAGE('Relevés'!G5:G104),0) | N5: 140 | O5: À surveiller
A6: Diastolique moyenne | B6: =IFERROR(AVERAGE('Relevés'!H5:H104),0)
A7: Pouls moyen | B7: =IFERROR(AVERAGE('Relevés'!I5:I104),0) | N7: Exemple selon la systolique | O7: =IFERROR(VLOOKUP('Relevés'!G5,'Synthèse'!$N$3:$O$5,2,TRUE),"")
A8: Mesures à surveiller | B8: =COUNTIF('Relevés'!L5:L104,"Oui")
A9: Pourcentage de mesures à surveiller | B9: =IFERROR(COUNTIF('Relevés'!L5:L104,"Oui")/COUNT('Relevés'!G5:G104),0)
N12: Données graphiques
N13: Date / heure | O13: Systolique | P13: Diastolique
N14: =IFERROR(IF(OR('Relevés'!A5="",'Relevés'!B5=""),"",'Relevés'!A5+'Relevés'!B5),"") | O14: =IFERROR(IF('Relevés'!G5="","",'Relevés'!G5),"") | P14: =IFERROR(IF('Relevés'!H5="","",'Relevés'!H5),"")
N15: =IFERROR(IF(OR('Relevés'!A6="",'Relevés'!B6=""),"",'Relevés'!A6+'Relevés'!B6),"") | O15: =IFERROR(IF('Relevés'!G6="","",'Relevés'!G6),"") | P15: =IFERROR(IF('Relevés'!H6="","",'Relevés'!H6),"")
N16: =IFERROR(IF(OR('Relevés'!A7="",'Relevés'!B7=""),"",'Relevés'!A7+'Relevés'!B7),"") | O16: =IFERROR(IF('Relevés'!G7="","",'Relevés'!G7),"") | P16: =IFERROR(IF('Relevés'!H7="","",'Relevés'!H7),"")
N17: =IFERROR(IF(OR('Relevés'!A8="",'Relevés'!B8=""),"",'Relevés'!A8+'Relevés'!B8),"") | O17: =IFERROR(IF('Relevés'!G8="","",'Relevés'!G8),"") | P17: =IFERROR(IF('Relevés'!H8="","",'Relevés'!H8),"")
N18: =IFERROR(IF(OR('Relevés'!A9="",'Relevés'!B9=""),"",'Relevés'!A9+'Relevés'!B9),"") | O18: =IFERROR(IF('Relevés'!G9="","",'Relevés'!G9),"") | P18: =IFERROR(IF('Relevés'!H9="","",'Relevés'!H9),"")
N19: =IFERROR(IF(OR('Relevés'!A10="",'Relevés'!B10=""),"",'Relevés'!A10+'Relevés'!B10),"") | O19: =IFERROR(IF('Relevés'!G10="","",'Relevés'!G10),"") | P19: =IFERROR(IF('Relevés'!H10="","",'Relevés'!H10),"")
N20: =IFERROR(IF(OR('Relevés'!A11="",'Relevés'!B11=""),"",'Relevés'!A11+'Relevés'!B11),"") | O20: =IFERROR(IF('Relevés'!G11="","",'Relevés'!G11),"") | P20: =IFERROR(IF('Relevés'!H11="","",'Relevés'!H11),"")
N21: =IFERROR(IF(OR('Relevés'!A12="",'Relevés'!B12=""),"",'Relevés'!A12+'Relevés'!B12),"") | O21: =IFERROR(IF('Relevés'!G12="","",'Relevés'!G12),"") | P21: =IFERROR(IF('Relevés'!H12="","",'Relevés'!H12),"")
N22: =IFERROR(IF(OR('Relevés'!A13="",'Relevés'!B13=""),"",'Relevés'!A13+'Relevés'!B13),"") | O22: =IFERROR(IF('Relevés'!G13="","",'Relevés'!G13),"") | P22: =IFERROR(IF('Relevés'!H13="","",'Relevés'!H13),"")
N23: =IFERROR(IF(OR('Relevés'!A14="",'Relevés'!B14=""),"",'Relevés'!A14+'Relevés'!B14),"") | O23: =IFERROR(IF('Relevés'!G14="","",'Relevés'!G14),"") | P23: =IFERROR(IF('Relevés'!H14="","",'Relevés'!H14),"")
N24: =IFERROR(IF(OR('Relevés'!A15="",'Relevés'!B15=""),"",'Relevés'!A15+'Relevés'!B15),"") | O24: =IFERROR(IF('Relevés'!G15="","",'Relevés'!G15),"") | P24: =IFERROR(IF('Relevés'!H15="","",'Relevés'!H15),"")
N25: =IFERROR(IF(OR('Relevés'!A16="",'Relevés'!B16=""),"",'Relevés'!A16+'Relevés'!B16),"") | O25: =IFERROR(IF('Relevés'!G16="","",'Relevés'!G16),"") | P25: =IFERROR(IF('Relevés'!H16="","",'Relevés'!H16),"")
... N113: =IFERROR(IF(OR('Relevés'!A104="",'Relevés'!B104=""),"",'Relevés'!A104+'Relevés'!B104),"") | O113: =IFERROR(IF('Relevés'!G104="","",'Relevés'!G104),"") | P113: =IFERROR(IF('Relevés'!H104="","",'Relevés'!H104),"")

Sheet Instructions
A1: Mode d'emploi — suivi de tension artérielle
A3: Conseils de relevé
A4: • S’asseoir et rester au repos environ 5 minutes avant la mesure.
A5: • Garder le bras posé et noter l’heure exacte du relevé.
A6: • Réaliser les mesures selon les recommandations du professionnel de santé.
A7: • Ne pas modifier un traitement sur la seule base du tableau.
A8: • En cas de valeur inhabituelle ou de symptôme préoccupant, contacter un professionnel de santé.
A9: • Les huit premiers relevés sont illustratifs : les effacer avant de commencer votre suivi.
A11: Informations à compléter
A12: Nom / prénom
A13: Période de suivi
A14: Appareil utilisé
... A21: Rappel : ce tableau facilite le suivi, mais ne remplace pas les conseils d’un professionnel de santé.
