Workbook

Sheet Organigramme
A1: Modèle d’organigramme
A2: Saisissez les collaborateurs dans les cellules jaunes. Les colonnes Manager, Niveau hiérarchique et Effectif direct sont calculées automatiquement.
A3: ID collaborateur | B3: Nom | C3: Prénom | D3: Fonction | E3: Département | F3: Ville | G3: ID manager | H3: Manager | I3: Niveau hiérarchique | J3: Type de contrat | K3: Date d’arrivée | L3: Salaire annuel brut (€) | M3: Statut | N3: Effectif direct | O3: Commentaire
A4: DIR001 | B4: Martin | C4: Camille | D4: Directrice générale | E4: Direction générale | F4: Paris | H4: =IF(A4="","",IF(G4="","",IFERROR(VLOOKUP(G4,'Organigramme'!$A$4:$C$103,2,FALSE)&" "&VLOOKUP(G4,'Organigramme'!$A$4:$C$103,3,FALSE),"Manager introuvable"))) | I4: =IF(A4="","",IF(G4="",1,"")) | J4: CDI | K4: 46027 | L4: 120000 | M4: Actif | N4: =IF(A4="","",COUNTIF('Organigramme'!$G$4:$G$103,A4)) | O4: Direction générale
A5: COM001 | B5: Bernard | C5: Lucas | D5: Directeur commercial | E5: Commercial | F5: Lyon | G5: DIR001 | H5: =IF(A5="","",IF(G5="","",IFERROR(VLOOKUP(G5,'Organigramme'!$A$4:$C$103,2,FALSE)&" "&VLOOKUP(G5,'Organigramme'!$A$4:$C$103,3,FALSE),"Manager introuvable"))) | I5: =IF(A5="","",IF(G5="",1,IFERROR(VLOOKUP(G5,'Organigramme'!$A$4:$I$4,9,FALSE)+1,""))) | J5: CDI | K5: 46055 | L5: 78000 | M5: Actif | N5: =IF(A5="","",COUNTIF('Organigramme'!$G$4:$G$103,A5)) | O5: Responsable de l’équipe commerciale
A6: COM002 | B6: Fournier | C6: Manon | D6: Chargée de communication | E6: Communication | F6: Toulouse | G6: DIR001 | H6: =IF(A6="","",IF(G6="","",IFERROR(VLOOKUP(G6,'Organigramme'!$A$4:$C$103,2,FALSE)&" "&VLOOKUP(G6,'Organigramme'!$A$4:$C$103,3,FALSE),"Manager introuvable"))) | I6: =IF(A6="","",IF(G6="",1,IFERROR(VLOOKUP(G6,'Organigramme'!$A$4:$I$5,9,FALSE)+1,""))) | J6: CDI | K6: 46069 | L6: 41000 | M6: Actif | N6: =IF(A6="","",COUNTIF('Organigramme'!$G$4:$G$103,A6)) | O6: Communication interne et externe
A7: FIN001 | B7: Leroy | C7: Hugo | D7: Responsable financier | E7: Finance | F7: Bordeaux | G7: DIR001 | H7: =IF(A7="","",IF(G7="","",IFERROR(VLOOKUP(G7,'Organigramme'!$A$4:$C$103,2,FALSE)&" "&VLOOKUP(G7,'Organigramme'!$A$4:$C$103,3,FALSE),"Manager introuvable"))) | I7: =IF(A7="","",IF(G7="",1,IFERROR(VLOOKUP(G7,'Organigramme'!$A$4:$I$6,9,FALSE)+1,""))) | J7: CDI | K7: 46090 | L7: 68000 | M7: Actif | N7: =IF(A7="","",COUNTIF('Organigramme'!$G$4:$G$103,A7)) | O7: Responsable financier
A8: RH001 | B8: Dubois | C8: Emma | D8: Responsable RH | E8: Ressources humaines | F8: Paris | G8: DIR001 | H8: =IF(A8="","",IF(G8="","",IFERROR(VLOOKUP(G8,'Organigramme'!$A$4:$C$103,2,FALSE)&" "&VLOOKUP(G8,'Organigramme'!$A$4:$C$103,3,FALSE),"Manager introuvable"))) | I8: =IF(A8="","",IF(G8="",1,IFERROR(VLOOKUP(G8,'Organigramme'!$A$4:$I$7,9,FALSE)+1,""))) | J8: CDI | K8: 46104 | L8: 64000 | M8: Actif | N8: =IF(A8="","",COUNTIF('Organigramme'!$G$4:$G$103,A8)) | O8: Gestion des ressources humaines
A9: TEC001 | B9: Roux | C9: Nathan | D9: Développeur | E9: Technologie | F9: Nantes | G9: DIR001 | H9: =IF(A9="","",IF(G9="","",IFERROR(VLOOKUP(G9,'Organigramme'!$A$4:$C$103,2,FALSE)&" "&VLOOKUP(G9,'Organigramme'!$A$4:$C$103,3,FALSE),"Manager introuvable"))) | I9: =IF(A9="","",IF(G9="",1,IFERROR(VLOOKUP(G9,'Organigramme'!$A$4:$I$8,9,FALSE)+1,""))) | J9: CDI | K9: 46118 | L9: 48000 | M9: Actif | N9: =IF(A9="","",COUNTIF('Organigramme'!$G$4:$G$103,A9)) | O9: Développement applicatif
A10: COM003 | B10: Garcia | C10: Louis | D10: Commercial | E10: Commercial | F10: Lyon | G10: COM001 | H10: =IF(A10="","",IF(G10="","",IFERROR(VLOOKUP(G10,'Organigramme'!$A$4:$C$103,2,FALSE)&" "&VLOOKUP(G10,'Organigramme'!$A$4:$C$103,3,FALSE),"Manager introuvable"))) | I10: =IF(A10="","",IF(G10="",1,IFERROR(VLOOKUP(G10,'Organigramme'!$A$4:$I$9,9,FALSE)+1,""))) | J10: CDI | K10: 46146 | L10: 42000 | M10: Actif | N10: =IF(A10="","",COUNTIF('Organigramme'!$G$4:$G$103,A10)) | O10: Secteur Rhône-Alpes
A11: COM004 | B11: Girard | C11: Théo | D11: Assistant commercial | E11: Commercial | F11: Lyon | G11: COM001 | H11: =IF(A11="","",IF(G11="","",IFERROR(VLOOKUP(G11,'Organigramme'!$A$4:$C$103,2,FALSE)&" "&VLOOKUP(G11,'Organigramme'!$A$4:$C$103,3,FALSE),"Manager introuvable"))) | I11: =IF(A11="","",IF(G11="",1,IFERROR(VLOOKUP(G11,'Organigramme'!$A$4:$I$10,9,FALSE)+1,""))) | J11: Alternance | K11: 46266 | L11: 24000 | M11: Suspendu | N11: =IF(A11="","",COUNTIF('Organigramme'!$G$4:$G$103,A11)) | O11: Contrat en alternance
A12: FIN002 | B12: Petit | C12: Chloé | D12: Contrôleuse de gestion | E12: Finance | F12: Bordeaux | G12: FIN001 | H12: =IF(A12="","",IF(G12="","",IFERROR(VLOOKUP(G12,'Organigramme'!$A$4:$C$103,2,FALSE)&" "&VLOOKUP(G12,'Organigramme'!$A$4:$C$103,3,FALSE),"Manager introuvable"))) | I12: =IF(A12="","",IF(G12="",1,IFERROR(VLOOKUP(G12,'Organigramme'!$A$4:$I$11,9,FALSE)+1,""))) | J12: CDI | K12: 46160 | L12: 46000 | M12: Actif | N12: =IF(A12="","",COUNTIF('Organigramme'!$G$4:$G$103,A12)) | O12: Suivi budgétaire
A13: RH002 | B13: Moreau | C13: Léa | D13: Chargée de recrutement | E13: Ressources humaines | F13: Paris | G13: RH001 | H13: =IF(A13="","",IF(G13="","",IFERROR(VLOOKUP(G13,'Organigramme'!$A$4:$C$103,2,FALSE)&" "&VLOOKUP(G13,'Organigramme'!$A$4:$C$103,3,FALSE),"Manager introuvable"))) | I13: =IF(A13="","",IF(G13="",1,IFERROR(VLOOKUP(G13,'Organigramme'!$A$4:$I$12,9,FALSE)+1,""))) | J13: CDI | K13: 46181 | L13: 39000 | M13: Actif | N13: =IF(A13="","",COUNTIF('Organigramme'!$G$4:$G$103,A13)) | O13: Recrutement et intégration
H14: =IF(A14="","",IF(G14="","",IFERROR(VLOOKUP(G14,'Organigramme'!$A$4:$C$103,2,FALSE)&" "&VLOOKUP(G14,'Organigramme'!$A$4:$C$103,3,FALSE),"Manager introuvable"))) | I14: =IF(A14="","",IF(G14="",1,IFERROR(VLOOKUP(G14,'Organigramme'!$A$4:$I$13,9,FALSE)+1,""))) | N14: =IF(A14="","",COUNTIF('Organigramme'!$G$4:$G$103,A14))
H15: =IF(A15="","",IF(G15="","",IFERROR(VLOOKUP(G15,'Organigramme'!$A$4:$C$103,2,FALSE)&" "&VLOOKUP(G15,'Organigramme'!$A$4:$C$103,3,FALSE),"Manager introuvable"))) | I15: =IF(A15="","",IF(G15="",1,IFERROR(VLOOKUP(G15,'Organigramme'!$A$4:$I$14,9,FALSE)+1,""))) | N15: =IF(A15="","",COUNTIF('Organigramme'!$G$4:$G$103,A15))
H16: =IF(A16="","",IF(G16="","",IFERROR(VLOOKUP(G16,'Organigramme'!$A$4:$C$103,2,FALSE)&" "&VLOOKUP(G16,'Organigramme'!$A$4:$C$103,3,FALSE),"Manager introuvable"))) | I16: =IF(A16="","",IF(G16="",1,IFERROR(VLOOKUP(G16,'Organigramme'!$A$4:$I$15,9,FALSE)+1,""))) | N16: =IF(A16="","",COUNTIF('Organigramme'!$G$4:$G$103,A16))
H17: =IF(A17="","",IF(G17="","",IFERROR(VLOOKUP(G17,'Organigramme'!$A$4:$C$103,2,FALSE)&" "&VLOOKUP(G17,'Organigramme'!$A$4:$C$103,3,FALSE),"Manager introuvable"))) | I17: =IF(A17="","",IF(G17="",1,IFERROR(VLOOKUP(G17,'Organigramme'!$A$4:$I$16,9,FALSE)+1,""))) | N17: =IF(A17="","",COUNTIF('Organigramme'!$G$4:$G$103,A17))
H18: =IF(A18="","",IF(G18="","",IFERROR(VLOOKUP(G18,'Organigramme'!$A$4:$C$103,2,FALSE)&" "&VLOOKUP(G18,'Organigramme'!$A$4:$C$103,3,FALSE),"Manager introuvable"))) | I18: =IF(A18="","",IF(G18="",1,IFERROR(VLOOKUP(G18,'Organigramme'!$A$4:$I$17,9,FALSE)+1,""))) | N18: =IF(A18="","",COUNTIF('Organigramme'!$G$4:$G$103,A18))
H19: =IF(A19="","",IF(G19="","",IFERROR(VLOOKUP(G19,'Organigramme'!$A$4:$C$103,2,FALSE)&" "&VLOOKUP(G19,'Organigramme'!$A$4:$C$103,3,FALSE),"Manager introuvable"))) | I19: =IF(A19="","",IF(G19="",1,IFERROR(VLOOKUP(G19,'Organigramme'!$A$4:$I$18,9,FALSE)+1,""))) | N19: =IF(A19="","",COUNTIF('Organigramme'!$G$4:$G$103,A19))
H20: =IF(A20="","",IF(G20="","",IFERROR(VLOOKUP(G20,'Organigramme'!$A$4:$C$103,2,FALSE)&" "&VLOOKUP(G20,'Organigramme'!$A$4:$C$103,3,FALSE),"Manager introuvable"))) | I20: =IF(A20="","",IF(G20="",1,IFERROR(VLOOKUP(G20,'Organigramme'!$A$4:$I$19,9,FALSE)+1,""))) | N20: =IF(A20="","",COUNTIF('Organigramme'!$G$4:$G$103,A20))
H21: =IF(A21="","",IF(G21="","",IFERROR(VLOOKUP(G21,'Organigramme'!$A$4:$C$103,2,FALSE)&" "&VLOOKUP(G21,'Organigramme'!$A$4:$C$103,3,FALSE),"Manager introuvable"))) | I21: =IF(A21="","",IF(G21="",1,IFERROR(VLOOKUP(G21,'Organigramme'!$A$4:$I$20,9,FALSE)+1,""))) | N21: =IF(A21="","",COUNTIF('Organigramme'!$G$4:$G$103,A21))
H22: =IF(A22="","",IF(G22="","",IFERROR(VLOOKUP(G22,'Organigramme'!$A$4:$C$103,2,FALSE)&" "&VLOOKUP(G22,'Organigramme'!$A$4:$C$103,3,FALSE),"Manager introuvable"))) | I22: =IF(A22="","",IF(G22="",1,IFERROR(VLOOKUP(G22,'Organigramme'!$A$4:$I$21,9,FALSE)+1,""))) | N22: =IF(A22="","",COUNTIF('Organigramme'!$G$4:$G$103,A22))
H23: =IF(A23="","",IF(G23="","",IFERROR(VLOOKUP(G23,'Organigramme'!$A$4:$C$103,2,FALSE)&" "&VLOOKUP(G23,'Organigramme'!$A$4:$C$103,3,FALSE),"Manager introuvable"))) | I23: =IF(A23="","",IF(G23="",1,IFERROR(VLOOKUP(G23,'Organigramme'!$A$4:$I$22,9,FALSE)+1,""))) | N23: =IF(A23="","",COUNTIF('Organigramme'!$G$4:$G$103,A23))
H24: =IF(A24="","",IF(G24="","",IFERROR(VLOOKUP(G24,'Organigramme'!$A$4:$C$103,2,FALSE)&" "&VLOOKUP(G24,'Organigramme'!$A$4:$C$103,3,FALSE),"Manager introuvable"))) | I24: =IF(A24="","",IF(G24="",1,IFERROR(VLOOKUP(G24,'Organigramme'!$A$4:$I$23,9,FALSE)+1,""))) | N24: =IF(A24="","",COUNTIF('Organigramme'!$G$4:$G$103,A24))
H25: =IF(A25="","",IF(G25="","",IFERROR(VLOOKUP(G25,'Organigramme'!$A$4:$C$103,2,FALSE)&" "&VLOOKUP(G25,'Organigramme'!$A$4:$C$103,3,FALSE),"Manager introuvable"))) | I25: =IF(A25="","",IF(G25="",1,IFERROR(VLOOKUP(G25,'Organigramme'!$A$4:$I$24,9,FALSE)+1,""))) | N25: =IF(A25="","",COUNTIF('Organigramme'!$G$4:$G$103,A25))
H26: =IF(A26="","",IF(G26="","",IFERROR(VLOOKUP(G26,'Organigramme'!$A$4:$C$103,2,FALSE)&" "&VLOOKUP(G26,'Organigramme'!$A$4:$C$103,3,FALSE),"Manager introuvable"))) | I26: =IF(A26="","",IF(G26="",1,IFERROR(VLOOKUP(G26,'Organigramme'!$A$4:$I$25,9,FALSE)+1,""))) | N26: =IF(A26="","",COUNTIF('Organigramme'!$G$4:$G$103,A26))
H27: =IF(A27="","",IF(G27="","",IFERROR(VLOOKUP(G27,'Organigramme'!$A$4:$C$103,2,FALSE)&" "&VLOOKUP(G27,'Organigramme'!$A$4:$C$103,3,FALSE),"Manager introuvable"))) | I27: =IF(A27="","",IF(G27="",1,IFERROR(VLOOKUP(G27,'Organigramme'!$A$4:$I$26,9,FALSE)+1,""))) | N27: =IF(A27="","",COUNTIF('Organigramme'!$G$4:$G$103,A27))
H28: =IF(A28="","",IF(G28="","",IFERROR(VLOOKUP(G28,'Organigramme'!$A$4:$C$103,2,FALSE)&" "&VLOOKUP(G28,'Organigramme'!$A$4:$C$103,3,FALSE),"Manager introuvable"))) | I28: =IF(A28="","",IF(G28="",1,IFERROR(VLOOKUP(G28,'Organigramme'!$A$4:$I$27,9,FALSE)+1,""))) | N28: =IF(A28="","",COUNTIF('Organigramme'!$G$4:$G$103,A28))
H29: =IF(A29="","",IF(G29="","",IFERROR(VLOOKUP(G29,'Organigramme'!$A$4:$C$103,2,FALSE)&" "&VLOOKUP(G29,'Organigramme'!$A$4:$C$103,3,FALSE),"Manager introuvable"))) | I29: =IF(A29="","",IF(G29="",1,IFERROR(VLOOKUP(G29,'Organigramme'!$A$4:$I$28,9,FALSE)+1,""))) | N29: =IF(A29="","",COUNTIF('Organigramme'!$G$4:$G$103,A29))
H30: =IF(A30="","",IF(G30="","",IFERROR(VLOOKUP(G30,'Organigramme'!$A$4:$C$103,2,FALSE)&" "&VLOOKUP(G30,'Organigramme'!$A$4:$C$103,3,FALSE),"Manager introuvable"))) | I30: =IF(A30="","",IF(G30="",1,IFERROR(VLOOKUP(G30,'Organigramme'!$A$4:$I$29,9,FALSE)+1,""))) | N30: =IF(A30="","",COUNTIF('Organigramme'!$G$4:$G$103,A30))
H31: =IF(A31="","",IF(G31="","",IFERROR(VLOOKUP(G31,'Organigramme'!$A$4:$C$103,2,FALSE)&" "&VLOOKUP(G31,'Organigramme'!$A$4:$C$103,3,FALSE),"Manager introuvable"))) | I31: =IF(A31="","",IF(G31="",1,IFERROR(VLOOKUP(G31,'Organigramme'!$A$4:$I$30,9,FALSE)+1,""))) | N31: =IF(A31="","",COUNTIF('Organigramme'!$G$4:$G$103,A31))
H32: =IF(A32="","",IF(G32="","",IFERROR(VLOOKUP(G32,'Organigramme'!$A$4:$C$103,2,FALSE)&" "&VLOOKUP(G32,'Organigramme'!$A$4:$C$103,3,FALSE),"Manager introuvable"))) | I32: =IF(A32="","",IF(G32="",1,IFERROR(VLOOKUP(G32,'Organigramme'!$A$4:$I$31,9,FALSE)+1,""))) | N32: =IF(A32="","",COUNTIF('Organigramme'!$G$4:$G$103,A32))
H33: =IF(A33="","",IF(G33="","",IFERROR(VLOOKUP(G33,'Organigramme'!$A$4:$C$103,2,FALSE)&" "&VLOOKUP(G33,'Organigramme'!$A$4:$C$103,3,FALSE),"Manager introuvable"))) | I33: =IF(A33="","",IF(G33="",1,IFERROR(VLOOKUP(G33,'Organigramme'!$A$4:$I$32,9,FALSE)+1,""))) | N33: =IF(A33="","",COUNTIF('Organigramme'!$G$4:$G$103,A33))
H34: =IF(A34="","",IF(G34="","",IFERROR(VLOOKUP(G34,'Organigramme'!$A$4:$C$103,2,FALSE)&" "&VLOOKUP(G34,'Organigramme'!$A$4:$C$103,3,FALSE),"Manager introuvable"))) | I34: =IF(A34="","",IF(G34="",1,IFERROR(VLOOKUP(G34,'Organigramme'!$A$4:$I$33,9,FALSE)+1,""))) | N34: =IF(A34="","",COUNTIF('Organigramme'!$G$4:$G$103,A34))
H35: =IF(A35="","",IF(G35="","",IFERROR(VLOOKUP(G35,'Organigramme'!$A$4:$C$103,2,FALSE)&" "&VLOOKUP(G35,'Organigramme'!$A$4:$C$103,3,FALSE),"Manager introuvable"))) | I35: =IF(A35="","",IF(G35="",1,IFERROR(VLOOKUP(G35,'Organigramme'!$A$4:$I$34,9,FALSE)+1,""))) | N35: =IF(A35="","",COUNTIF('Organigramme'!$G$4:$G$103,A35))
H36: =IF(A36="","",IF(G36="","",IFERROR(VLOOKUP(G36,'Organigramme'!$A$4:$C$103,2,FALSE)&" "&VLOOKUP(G36,'Organigramme'!$A$4:$C$103,3,FALSE),"Manager introuvable"))) | I36: =IF(A36="","",IF(G36="",1,IFERROR(VLOOKUP(G36,'Organigramme'!$A$4:$I$35,9,FALSE)+1,""))) | N36: =IF(A36="","",COUNTIF('Organigramme'!$G$4:$G$103,A36))
H37: =IF(A37="","",IF(G37="","",IFERROR(VLOOKUP(G37,'Organigramme'!$A$4:$C$103,2,FALSE)&" "&VLOOKUP(G37,'Organigramme'!$A$4:$C$103,3,FALSE),"Manager introuvable"))) | I37: =IF(A37="","",IF(G37="",1,IFERROR(VLOOKUP(G37,'Organigramme'!$A$4:$I$36,9,FALSE)+1,""))) | N37: =IF(A37="","",COUNTIF('Organigramme'!$G$4:$G$103,A37))
H38: =IF(A38="","",IF(G38="","",IFERROR(VLOOKUP(G38,'Organigramme'!$A$4:$C$103,2,FALSE)&" "&VLOOKUP(G38,'Organigramme'!$A$4:$C$103,3,FALSE),"Manager introuvable"))) | I38: =IF(A38="","",IF(G38="",1,IFERROR(VLOOKUP(G38,'Organigramme'!$A$4:$I$37,9,FALSE)+1,""))) | N38: =IF(A38="","",COUNTIF('Organigramme'!$G$4:$G$103,A38))
H39: =IF(A39="","",IF(G39="","",IFERROR(VLOOKUP(G39,'Organigramme'!$A$4:$C$103,2,FALSE)&" "&VLOOKUP(G39,'Organigramme'!$A$4:$C$103,3,FALSE),"Manager introuvable"))) | I39: =IF(A39="","",IF(G39="",1,IFERROR(VLOOKUP(G39,'Organigramme'!$A$4:$I$38,9,FALSE)+1,""))) | N39: =IF(A39="","",COUNTIF('Organigramme'!$G$4:$G$103,A39))
H40: =IF(A40="","",IF(G40="","",IFERROR(VLOOKUP(G40,'Organigramme'!$A$4:$C$103,2,FALSE)&" "&VLOOKUP(G40,'Organigramme'!$A$4:$C$103,3,FALSE),"Manager introuvable"))) | I40: =IF(A40="","",IF(G40="",1,IFERROR(VLOOKUP(G40,'Organigramme'!$A$4:$I$39,9,FALSE)+1,""))) | N40: =IF(A40="","",COUNTIF('Organigramme'!$G$4:$G$103,A40))
H41: =IF(A41="","",IF(G41="","",IFERROR(VLOOKUP(G41,'Organigramme'!$A$4:$C$103,2,FALSE)&" "&VLOOKUP(G41,'Organigramme'!$A$4:$C$103,3,FALSE),"Manager introuvable"))) | I41: =IF(A41="","",IF(G41="",1,IFERROR(VLOOKUP(G41,'Organigramme'!$A$4:$I$40,9,FALSE)+1,""))) | N41: =IF(A41="","",COUNTIF('Organigramme'!$G$4:$G$103,A41))
H42: =IF(A42="","",IF(G42="","",IFERROR(VLOOKUP(G42,'Organigramme'!$A$4:$C$103,2,FALSE)&" "&VLOOKUP(G42,'Organigramme'!$A$4:$C$103,3,FALSE),"Manager introuvable"))) | I42: =IF(A42="","",IF(G42="",1,IFERROR(VLOOKUP(G42,'Organigramme'!$A$4:$I$41,9,FALSE)+1,""))) | N42: =IF(A42="","",COUNTIF('Organigramme'!$G$4:$G$103,A42))
H43: =IF(A43="","",IF(G43="","",IFERROR(VLOOKUP(G43,'Organigramme'!$A$4:$C$103,2,FALSE)&" "&VLOOKUP(G43,'Organigramme'!$A$4:$C$103,3,FALSE),"Manager introuvable"))) | I43: =IF(A43="","",IF(G43="",1,IFERROR(VLOOKUP(G43,'Organigramme'!$A$4:$I$42,9,FALSE)+1,""))) | N43: =IF(A43="","",COUNTIF('Organigramme'!$G$4:$G$103,A43))
H44: =IF(A44="","",IF(G44="","",IFERROR(VLOOKUP(G44,'Organigramme'!$A$4:$C$103,2,FALSE)&" "&VLOOKUP(G44,'Organigramme'!$A$4:$C$103,3,FALSE),"Manager introuvable"))) | I44: =IF(A44="","",IF(G44="",1,IFERROR(VLOOKUP(G44,'Organigramme'!$A$4:$I$43,9,FALSE)+1,""))) | N44: =IF(A44="","",COUNTIF('Organigramme'!$G$4:$G$103,A44))
H45: =IF(A45="","",IF(G45="","",IFERROR(VLOOKUP(G45,'Organigramme'!$A$4:$C$103,2,FALSE)&" "&VLOOKUP(G45,'Organigramme'!$A$4:$C$103,3,FALSE),"Manager introuvable"))) | I45: =IF(A45="","",IF(G45="",1,IFERROR(VLOOKUP(G45,'Organigramme'!$A$4:$I$44,9,FALSE)+1,""))) | N45: =IF(A45="","",COUNTIF('Organigramme'!$G$4:$G$103,A45))
H46: =IF(A46="","",IF(G46="","",IFERROR(VLOOKUP(G46,'Organigramme'!$A$4:$C$103,2,FALSE)&" "&VLOOKUP(G46,'Organigramme'!$A$4:$C$103,3,FALSE),"Manager introuvable"))) | I46: =IF(A46="","",IF(G46="",1,IFERROR(VLOOKUP(G46,'Organigramme'!$A$4:$I$45,9,FALSE)+1,""))) | N46: =IF(A46="","",COUNTIF('Organigramme'!$G$4:$G$103,A46))
H47: =IF(A47="","",IF(G47="","",IFERROR(VLOOKUP(G47,'Organigramme'!$A$4:$C$103,2,FALSE)&" "&VLOOKUP(G47,'Organigramme'!$A$4:$C$103,3,FALSE),"Manager introuvable"))) | I47: =IF(A47="","",IF(G47="",1,IFERROR(VLOOKUP(G47,'Organigramme'!$A$4:$I$46,9,FALSE)+1,""))) | N47: =IF(A47="","",COUNTIF('Organigramme'!$G$4:$G$103,A47))
H48: =IF(A48="","",IF(G48="","",IFERROR(VLOOKUP(G48,'Organigramme'!$A$4:$C$103,2,FALSE)&" "&VLOOKUP(G48,'Organigramme'!$A$4:$C$103,3,FALSE),"Manager introuvable"))) | I48: =IF(A48="","",IF(G48="",1,IFERROR(VLOOKUP(G48,'Organigramme'!$A$4:$I$47,9,FALSE)+1,""))) | N48: =IF(A48="","",COUNTIF('Organigramme'!$G$4:$G$103,A48))
H49: =IF(A49="","",IF(G49="","",IFERROR(VLOOKUP(G49,'Organigramme'!$A$4:$C$103,2,FALSE)&" "&VLOOKUP(G49,'Organigramme'!$A$4:$C$103,3,FALSE),"Manager introuvable"))) | I49: =IF(A49="","",IF(G49="",1,IFERROR(VLOOKUP(G49,'Organigramme'!$A$4:$I$48,9,FALSE)+1,""))) | N49: =IF(A49="","",COUNTIF('Organigramme'!$G$4:$G$103,A49))
H50: =IF(A50="","",IF(G50="","",IFERROR(VLOOKUP(G50,'Organigramme'!$A$4:$C$103,2,FALSE)&" "&VLOOKUP(G50,'Organigramme'!$A$4:$C$103,3,FALSE),"Manager introuvable"))) | I50: =IF(A50="","",IF(G50="",1,IFERROR(VLOOKUP(G50,'Organigramme'!$A$4:$I$49,9,FALSE)+1,""))) | N50: =IF(A50="","",COUNTIF('Organigramme'!$G$4:$G$103,A50))
H51: =IF(A51="","",IF(G51="","",IFERROR(VLOOKUP(G51,'Organigramme'!$A$4:$C$103,2,FALSE)&" "&VLOOKUP(G51,'Organigramme'!$A$4:$C$103,3,FALSE),"Manager introuvable"))) | I51: =IF(A51="","",IF(G51="",1,IFERROR(VLOOKUP(G51,'Organigramme'!$A$4:$I$50,9,FALSE)+1,""))) | N51: =IF(A51="","",COUNTIF('Organigramme'!$G$4:$G$103,A51))
H52: =IF(A52="","",IF(G52="","",IFERROR(VLOOKUP(G52,'Organigramme'!$A$4:$C$103,2,FALSE)&" "&VLOOKUP(G52,'Organigramme'!$A$4:$C$103,3,FALSE),"Manager introuvable"))) | I52: =IF(A52="","",IF(G52="",1,IFERROR(VLOOKUP(G52,'Organigramme'!$A$4:$I$51,9,FALSE)+1,""))) | N52: =IF(A52="","",COUNTIF('Organigramme'!$G$4:$G$103,A52))
H53: =IF(A53="","",IF(G53="","",IFERROR(VLOOKUP(G53,'Organigramme'!$A$4:$C$103,2,FALSE)&" "&VLOOKUP(G53,'Organigramme'!$A$4:$C$103,3,FALSE),"Manager introuvable"))) | I53: =IF(A53="","",IF(G53="",1,IFERROR(VLOOKUP(G53,'Organigramme'!$A$4:$I$52,9,FALSE)+1,""))) | N53: =IF(A53="","",COUNTIF('Organigramme'!$G$4:$G$103,A53))
H54: =IF(A54="","",IF(G54="","",IFERROR(VLOOKUP(G54,'Organigramme'!$A$4:$C$103,2,FALSE)&" "&VLOOKUP(G54,'Organigramme'!$A$4:$C$103,3,FALSE),"Manager introuvable"))) | I54: =IF(A54="","",IF(G54="",1,IFERROR(VLOOKUP(G54,'Organigramme'!$A$4:$I$53,9,FALSE)+1,""))) | N54: =IF(A54="","",COUNTIF('Organigramme'!$G$4:$G$103,A54))
H55: =IF(A55="","",IF(G55="","",IFERROR(VLOOKUP(G55,'Organigramme'!$A$4:$C$103,2,FALSE)&" "&VLOOKUP(G55,'Organigramme'!$A$4:$C$103,3,FALSE),"Manager introuvable"))) | I55: =IF(A55="","",IF(G55="",1,IFERROR(VLOOKUP(G55,'Organigramme'!$A$4:$I$54,9,FALSE)+1,""))) | N55: =IF(A55="","",COUNTIF('Organigramme'!$G$4:$G$103,A55))
H56: =IF(A56="","",IF(G56="","",IFERROR(VLOOKUP(G56,'Organigramme'!$A$4:$C$103,2,FALSE)&" "&VLOOKUP(G56,'Organigramme'!$A$4:$C$103,3,FALSE),"Manager introuvable"))) | I56: =IF(A56="","",IF(G56="",1,IFERROR(VLOOKUP(G56,'Organigramme'!$A$4:$I$55,9,FALSE)+1,""))) | N56: =IF(A56="","",COUNTIF('Organigramme'!$G$4:$G$103,A56))
H57: =IF(A57="","",IF(G57="","",IFERROR(VLOOKUP(G57,'Organigramme'!$A$4:$C$103,2,FALSE)&" "&VLOOKUP(G57,'Organigramme'!$A$4:$C$103,3,FALSE),"Manager introuvable"))) | I57: =IF(A57="","",IF(G57="",1,IFERROR(VLOOKUP(G57,'Organigramme'!$A$4:$I$56,9,FALSE)+1,""))) | N57: =IF(A57="","",COUNTIF('Organigramme'!$G$4:$G$103,A57))
H58: =IF(A58="","",IF(G58="","",IFERROR(VLOOKUP(G58,'Organigramme'!$A$4:$C$103,2,FALSE)&" "&VLOOKUP(G58,'Organigramme'!$A$4:$C$103,3,FALSE),"Manager introuvable"))) | I58: =IF(A58="","",IF(G58="",1,IFERROR(VLOOKUP(G58,'Organigramme'!$A$4:$I$57,9,FALSE)+1,""))) | N58: =IF(A58="","",COUNTIF('Organigramme'!$G$4:$G$103,A58))
H59: =IF(A59="","",IF(G59="","",IFERROR(VLOOKUP(G59,'Organigramme'!$A$4:$C$103,2,FALSE)&" "&VLOOKUP(G59,'Organigramme'!$A$4:$C$103,3,FALSE),"Manager introuvable"))) | I59: =IF(A59="","",IF(G59="",1,IFERROR(VLOOKUP(G59,'Organigramme'!$A$4:$I$58,9,FALSE)+1,""))) | N59: =IF(A59="","",COUNTIF('Organigramme'!$G$4:$G$103,A59))
H60: =IF(A60="","",IF(G60="","",IFERROR(VLOOKUP(G60,'Organigramme'!$A$4:$C$103,2,FALSE)&" "&VLOOKUP(G60,'Organigramme'!$A$4:$C$103,3,FALSE),"Manager introuvable"))) | I60: =IF(A60="","",IF(G60="",1,IFERROR(VLOOKUP(G60,'Organigramme'!$A$4:$I$59,9,FALSE)+1,""))) | N60: =IF(A60="","",COUNTIF('Organigramme'!$G$4:$G$103,A60))
H61: =IF(A61="","",IF(G61="","",IFERROR(VLOOKUP(G61,'Organigramme'!$A$4:$C$103,2,FALSE)&" "&VLOOKUP(G61,'Organigramme'!$A$4:$C$103,3,FALSE),"Manager introuvable"))) | I61: =IF(A61="","",IF(G61="",1,IFERROR(VLOOKUP(G61,'Organigramme'!$A$4:$I$60,9,FALSE)+1,""))) | N61: =IF(A61="","",COUNTIF('Organigramme'!$G$4:$G$103,A61))
H62: =IF(A62="","",IF(G62="","",IFERROR(VLOOKUP(G62,'Organigramme'!$A$4:$C$103,2,FALSE)&" "&VLOOKUP(G62,'Organigramme'!$A$4:$C$103,3,FALSE),"Manager introuvable"))) | I62: =IF(A62="","",IF(G62="",1,IFERROR(VLOOKUP(G62,'Organigramme'!$A$4:$I$61,9,FALSE)+1,""))) | N62: =IF(A62="","",COUNTIF('Organigramme'!$G$4:$G$103,A62))
H63: =IF(A63="","",IF(G63="","",IFERROR(VLOOKUP(G63,'Organigramme'!$A$4:$C$103,2,FALSE)&" "&VLOOKUP(G63,'Organigramme'!$A$4:$C$103,3,FALSE),"Manager introuvable"))) | I63: =IF(A63="","",IF(G63="",1,IFERROR(VLOOKUP(G63,'Organigramme'!$A$4:$I$62,9,FALSE)+1,""))) | N63: =IF(A63="","",COUNTIF('Organigramme'!$G$4:$G$103,A63))
H64: =IF(A64="","",IF(G64="","",IFERROR(VLOOKUP(G64,'Organigramme'!$A$4:$C$103,2,FALSE)&" "&VLOOKUP(G64,'Organigramme'!$A$4:$C$103,3,FALSE),"Manager introuvable"))) | I64: =IF(A64="","",IF(G64="",1,IFERROR(VLOOKUP(G64,'Organigramme'!$A$4:$I$63,9,FALSE)+1,""))) | N64: =IF(A64="","",COUNTIF('Organigramme'!$G$4:$G$103,A64))
H65: =IF(A65="","",IF(G65="","",IFERROR(VLOOKUP(G65,'Organigramme'!$A$4:$C$103,2,FALSE)&" "&VLOOKUP(G65,'Organigramme'!$A$4:$C$103,3,FALSE),"Manager introuvable"))) | I65: =IF(A65="","",IF(G65="",1,IFERROR(VLOOKUP(G65,'Organigramme'!$A$4:$I$64,9,FALSE)+1,""))) | N65: =IF(A65="","",COUNTIF('Organigramme'!$G$4:$G$103,A65))
H66: =IF(A66="","",IF(G66="","",IFERROR(VLOOKUP(G66,'Organigramme'!$A$4:$C$103,2,FALSE)&" "&VLOOKUP(G66,'Organigramme'!$A$4:$C$103,3,FALSE),"Manager introuvable"))) | I66: =IF(A66="","",IF(G66="",1,IFERROR(VLOOKUP(G66,'Organigramme'!$A$4:$I$65,9,FALSE)+1,""))) | N66: =IF(A66="","",COUNTIF('Organigramme'!$G$4:$G$103,A66))
H67: =IF(A67="","",IF(G67="","",IFERROR(VLOOKUP(G67,'Organigramme'!$A$4:$C$103,2,FALSE)&" "&VLOOKUP(G67,'Organigramme'!$A$4:$C$103,3,FALSE),"Manager introuvable"))) | I67: =IF(A67="","",IF(G67="",1,IFERROR(VLOOKUP(G67,'Organigramme'!$A$4:$I$66,9,FALSE)+1,""))) | N67: =IF(A67="","",COUNTIF('Organigramme'!$G$4:$G$103,A67))
H68: =IF(A68="","",IF(G68="","",IFERROR(VLOOKUP(G68,'Organigramme'!$A$4:$C$103,2,FALSE)&" "&VLOOKUP(G68,'Organigramme'!$A$4:$C$103,3,FALSE),"Manager introuvable"))) | I68: =IF(A68="","",IF(G68="",1,IFERROR(VLOOKUP(G68,'Organigramme'!$A$4:$I$67,9,FALSE)+1,""))) | N68: =IF(A68="","",COUNTIF('Organigramme'!$G$4:$G$103,A68))
H69: =IF(A69="","",IF(G69="","",IFERROR(VLOOKUP(G69,'Organigramme'!$A$4:$C$103,2,FALSE)&" "&VLOOKUP(G69,'Organigramme'!$A$4:$C$103,3,FALSE),"Manager introuvable"))) | I69: =IF(A69="","",IF(G69="",1,IFERROR(VLOOKUP(G69,'Organigramme'!$A$4:$I$68,9,FALSE)+1,""))) | N69: =IF(A69="","",COUNTIF('Organigramme'!$G$4:$G$103,A69))
H70: =IF(A70="","",IF(G70="","",IFERROR(VLOOKUP(G70,'Organigramme'!$A$4:$C$103,2,FALSE)&" "&VLOOKUP(G70,'Organigramme'!$A$4:$C$103,3,FALSE),"Manager introuvable"))) | I70: =IF(A70="","",IF(G70="",1,IFERROR(VLOOKUP(G70,'Organigramme'!$A$4:$I$69,9,FALSE)+1,""))) | N70: =IF(A70="","",COUNTIF('Organigramme'!$G$4:$G$103,A70))
H71: =IF(A71="","",IF(G71="","",IFERROR(VLOOKUP(G71,'Organigramme'!$A$4:$C$103,2,FALSE)&" "&VLOOKUP(G71,'Organigramme'!$A$4:$C$103,3,FALSE),"Manager introuvable"))) | I71: =IF(A71="","",IF(G71="",1,IFERROR(VLOOKUP(G71,'Organigramme'!$A$4:$I$70,9,FALSE)+1,""))) | N71: =IF(A71="","",COUNTIF('Organigramme'!$G$4:$G$103,A71))
H72: =IF(A72="","",IF(G72="","",IFERROR(VLOOKUP(G72,'Organigramme'!$A$4:$C$103,2,FALSE)&" "&VLOOKUP(G72,'Organigramme'!$A$4:$C$103,3,FALSE),"Manager introuvable"))) | I72: =IF(A72="","",IF(G72="",1,IFERROR(VLOOKUP(G72,'Organigramme'!$A$4:$I$71,9,FALSE)+1,""))) | N72: =IF(A72="","",COUNTIF('Organigramme'!$G$4:$G$103,A72))
H73: =IF(A73="","",IF(G73="","",IFERROR(VLOOKUP(G73,'Organigramme'!$A$4:$C$103,2,FALSE)&" "&VLOOKUP(G73,'Organigramme'!$A$4:$C$103,3,FALSE),"Manager introuvable"))) | I73: =IF(A73="","",IF(G73="",1,IFERROR(VLOOKUP(G73,'Organigramme'!$A$4:$I$72,9,FALSE)+1,""))) | N73: =IF(A73="","",COUNTIF('Organigramme'!$G$4:$G$103,A73))
H74: =IF(A74="","",IF(G74="","",IFERROR(VLOOKUP(G74,'Organigramme'!$A$4:$C$103,2,FALSE)&" "&VLOOKUP(G74,'Organigramme'!$A$4:$C$103,3,FALSE),"Manager introuvable"))) | I74: =IF(A74="","",IF(G74="",1,IFERROR(VLOOKUP(G74,'Organigramme'!$A$4:$I$73,9,FALSE)+1,""))) | N74: =IF(A74="","",COUNTIF('Organigramme'!$G$4:$G$103,A74))
H75: =IF(A75="","",IF(G75="","",IFERROR(VLOOKUP(G75,'Organigramme'!$A$4:$C$103,2,FALSE)&" "&VLOOKUP(G75,'Organigramme'!$A$4:$C$103,3,FALSE),"Manager introuvable"))) | I75: =IF(A75="","",IF(G75="",1,IFERROR(VLOOKUP(G75,'Organigramme'!$A$4:$I$74,9,FALSE)+1,""))) | N75: =IF(A75="","",COUNTIF('Organigramme'!$G$4:$G$103,A75))
H76: =IF(A76="","",IF(G76="","",IFERROR(VLOOKUP(G76,'Organigramme'!$A$4:$C$103,2,FALSE)&" "&VLOOKUP(G76,'Organigramme'!$A$4:$C$103,3,FALSE),"Manager introuvable"))) | I76: =IF(A76="","",IF(G76="",1,IFERROR(VLOOKUP(G76,'Organigramme'!$A$4:$I$75,9,FALSE)+1,""))) | N76: =IF(A76="","",COUNTIF('Organigramme'!$G$4:$G$103,A76))
H77: =IF(A77="","",IF(G77="","",IFERROR(VLOOKUP(G77,'Organigramme'!$A$4:$C$103,2,FALSE)&" "&VLOOKUP(G77,'Organigramme'!$A$4:$C$103,3,FALSE),"Manager introuvable"))) | I77: =IF(A77="","",IF(G77="",1,IFERROR(VLOOKUP(G77,'Organigramme'!$A$4:$I$76,9,FALSE)+1,""))) | N77: =IF(A77="","",COUNTIF('Organigramme'!$G$4:$G$103,A77))
H78: =IF(A78="","",IF(G78="","",IFERROR(VLOOKUP(G78,'Organigramme'!$A$4:$C$103,2,FALSE)&" "&VLOOKUP(G78,'Organigramme'!$A$4:$C$103,3,FALSE),"Manager introuvable"))) | I78: =IF(A78="","",IF(G78="",1,IFERROR(VLOOKUP(G78,'Organigramme'!$A$4:$I$77,9,FALSE)+1,""))) | N78: =IF(A78="","",COUNTIF('Organigramme'!$G$4:$G$103,A78))
H79: =IF(A79="","",IF(G79="","",IFERROR(VLOOKUP(G79,'Organigramme'!$A$4:$C$103,2,FALSE)&" "&VLOOKUP(G79,'Organigramme'!$A$4:$C$103,3,FALSE),"Manager introuvable"))) | I79: =IF(A79="","",IF(G79="",1,IFERROR(VLOOKUP(G79,'Organigramme'!$A$4:$I$78,9,FALSE)+1,""))) | N79: =IF(A79="","",COUNTIF('Organigramme'!$G$4:$G$103,A79))
H80: =IF(A80="","",IF(G80="","",IFERROR(VLOOKUP(G80,'Organigramme'!$A$4:$C$103,2,FALSE)&" "&VLOOKUP(G80,'Organigramme'!$A$4:$C$103,3,FALSE),"Manager introuvable"))) | I80: =IF(A80="","",IF(G80="",1,IFERROR(VLOOKUP(G80,'Organigramme'!$A$4:$I$79,9,FALSE)+1,""))) | N80: =IF(A80="","",COUNTIF('Organigramme'!$G$4:$G$103,A80))
H81: =IF(A81="","",IF(G81="","",IFERROR(VLOOKUP(G81,'Organigramme'!$A$4:$C$103,2,FALSE)&" "&VLOOKUP(G81,'Organigramme'!$A$4:$C$103,3,FALSE),"Manager introuvable"))) | I81: =IF(A81="","",IF(G81="",1,IFERROR(VLOOKUP(G81,'Organigramme'!$A$4:$I$80,9,FALSE)+1,""))) | N81: =IF(A81="","",COUNTIF('Organigramme'!$G$4:$G$103,A81))
H82: =IF(A82="","",IF(G82="","",IFERROR(VLOOKUP(G82,'Organigramme'!$A$4:$C$103,2,FALSE)&" "&VLOOKUP(G82,'Organigramme'!$A$4:$C$103,3,FALSE),"Manager introuvable"))) | I82: =IF(A82="","",IF(G82="",1,IFERROR(VLOOKUP(G82,'Organigramme'!$A$4:$I$81,9,FALSE)+1,""))) | N82: =IF(A82="","",COUNTIF('Organigramme'!$G$4:$G$103,A82))
H83: =IF(A83="","",IF(G83="","",IFERROR(VLOOKUP(G83,'Organigramme'!$A$4:$C$103,2,FALSE)&" "&VLOOKUP(G83,'Organigramme'!$A$4:$C$103,3,FALSE),"Manager introuvable"))) | I83: =IF(A83="","",IF(G83="",1,IFERROR(VLOOKUP(G83,'Organigramme'!$A$4:$I$82,9,FALSE)+1,""))) | N83: =IF(A83="","",COUNTIF('Organigramme'!$G$4:$G$103,A83))
H84: =IF(A84="","",IF(G84="","",IFERROR(VLOOKUP(G84,'Organigramme'!$A$4:$C$103,2,FALSE)&" "&VLOOKUP(G84,'Organigramme'!$A$4:$C$103,3,FALSE),"Manager introuvable"))) | I84: =IF(A84="","",IF(G84="",1,IFERROR(VLOOKUP(G84,'Organigramme'!$A$4:$I$83,9,FALSE)+1,""))) | N84: =IF(A84="","",COUNTIF('Organigramme'!$G$4:$G$103,A84))
H85: =IF(A85="","",IF(G85="","",IFERROR(VLOOKUP(G85,'Organigramme'!$A$4:$C$103,2,FALSE)&" "&VLOOKUP(G85,'Organigramme'!$A$4:$C$103,3,FALSE),"Manager introuvable"))) | I85: =IF(A85="","",IF(G85="",1,IFERROR(VLOOKUP(G85,'Organigramme'!$A$4:$I$84,9,FALSE)+1,""))) | N85: =IF(A85="","",COUNTIF('Organigramme'!$G$4:$G$103,A85))
H86: =IF(A86="","",IF(G86="","",IFERROR(VLOOKUP(G86,'Organigramme'!$A$4:$C$103,2,FALSE)&" "&VLOOKUP(G86,'Organigramme'!$A$4:$C$103,3,FALSE),"Manager introuvable"))) | I86: =IF(A86="","",IF(G86="",1,IFERROR(VLOOKUP(G86,'Organigramme'!$A$4:$I$85,9,FALSE)+1,""))) | N86: =IF(A86="","",COUNTIF('Organigramme'!$G$4:$G$103,A86))
H87: =IF(A87="","",IF(G87="","",IFERROR(VLOOKUP(G87,'Organigramme'!$A$4:$C$103,2,FALSE)&" "&VLOOKUP(G87,'Organigramme'!$A$4:$C$103,3,FALSE),"Manager introuvable"))) | I87: =IF(A87="","",IF(G87="",1,IFERROR(VLOOKUP(G87,'Organigramme'!$A$4:$I$86,9,FALSE)+1,""))) | N87: =IF(A87="","",COUNTIF('Organigramme'!$G$4:$G$103,A87))
H88: =IF(A88="","",IF(G88="","",IFERROR(VLOOKUP(G88,'Organigramme'!$A$4:$C$103,2,FALSE)&" "&VLOOKUP(G88,'Organigramme'!$A$4:$C$103,3,FALSE),"Manager introuvable"))) | I88: =IF(A88="","",IF(G88="",1,IFERROR(VLOOKUP(G88,'Organigramme'!$A$4:$I$87,9,FALSE)+1,""))) | N88: =IF(A88="","",COUNTIF('Organigramme'!$G$4:$G$103,A88))
H89: =IF(A89="","",IF(G89="","",IFERROR(VLOOKUP(G89,'Organigramme'!$A$4:$C$103,2,FALSE)&" "&VLOOKUP(G89,'Organigramme'!$A$4:$C$103,3,FALSE),"Manager introuvable"))) | I89: =IF(A89="","",IF(G89="",1,IFERROR(VLOOKUP(G89,'Organigramme'!$A$4:$I$88,9,FALSE)+1,""))) | N89: =IF(A89="","",COUNTIF('Organigramme'!$G$4:$G$103,A89))
H90: =IF(A90="","",IF(G90="","",IFERROR(VLOOKUP(G90,'Organigramme'!$A$4:$C$103,2,FALSE)&" "&VLOOKUP(G90,'Organigramme'!$A$4:$C$103,3,FALSE),"Manager introuvable"))) | I90: =IF(A90="","",IF(G90="",1,IFERROR(VLOOKUP(G90,'Organigramme'!$A$4:$I$89,9,FALSE)+1,""))) | N90: =IF(A90="","",COUNTIF('Organigramme'!$G$4:$G$103,A90))
H91: =IF(A91="","",IF(G91="","",IFERROR(VLOOKUP(G91,'Organigramme'!$A$4:$C$103,2,FALSE)&" "&VLOOKUP(G91,'Organigramme'!$A$4:$C$103,3,FALSE),"Manager introuvable"))) | I91: =IF(A91="","",IF(G91="",1,IFERROR(VLOOKUP(G91,'Organigramme'!$A$4:$I$90,9,FALSE)+1,""))) | N91: =IF(A91="","",COUNTIF('Organigramme'!$G$4:$G$103,A91))
H92: =IF(A92="","",IF(G92="","",IFERROR(VLOOKUP(G92,'Organigramme'!$A$4:$C$103,2,FALSE)&" "&VLOOKUP(G92,'Organigramme'!$A$4:$C$103,3,FALSE),"Manager introuvable"))) | I92: =IF(A92="","",IF(G92="",1,IFERROR(VLOOKUP(G92,'Organigramme'!$A$4:$I$91,9,FALSE)+1,""))) | N92: =IF(A92="","",COUNTIF('Organigramme'!$G$4:$G$103,A92))
H93: =IF(A93="","",IF(G93="","",IFERROR(VLOOKUP(G93,'Organigramme'!$A$4:$C$103,2,FALSE)&" "&VLOOKUP(G93,'Organigramme'!$A$4:$C$103,3,FALSE),"Manager introuvable"))) | I93: =IF(A93="","",IF(G93="",1,IFERROR(VLOOKUP(G93,'Organigramme'!$A$4:$I$92,9,FALSE)+1,""))) | N93: =IF(A93="","",COUNTIF('Organigramme'!$G$4:$G$103,A93))
H94: =IF(A94="","",IF(G94="","",IFERROR(VLOOKUP(G94,'Organigramme'!$A$4:$C$103,2,FALSE)&" "&VLOOKUP(G94,'Organigramme'!$A$4:$C$103,3,FALSE),"Manager introuvable"))) | I94: =IF(A94="","",IF(G94="",1,IFERROR(VLOOKUP(G94,'Organigramme'!$A$4:$I$93,9,FALSE)+1,""))) | N94: =IF(A94="","",COUNTIF('Organigramme'!$G$4:$G$103,A94))
H95: =IF(A95="","",IF(G95="","",IFERROR(VLOOKUP(G95,'Organigramme'!$A$4:$C$103,2,FALSE)&" "&VLOOKUP(G95,'Organigramme'!$A$4:$C$103,3,FALSE),"Manager introuvable"))) | I95: =IF(A95="","",IF(G95="",1,IFERROR(VLOOKUP(G95,'Organigramme'!$A$4:$I$94,9,FALSE)+1,""))) | N95: =IF(A95="","",COUNTIF('Organigramme'!$G$4:$G$103,A95))
H96: =IF(A96="","",IF(G96="","",IFERROR(VLOOKUP(G96,'Organigramme'!$A$4:$C$103,2,FALSE)&" "&VLOOKUP(G96,'Organigramme'!$A$4:$C$103,3,FALSE),"Manager introuvable"))) | I96: =IF(A96="","",IF(G96="",1,IFERROR(VLOOKUP(G96,'Organigramme'!$A$4:$I$95,9,FALSE)+1,""))) | N96: =IF(A96="","",COUNTIF('Organigramme'!$G$4:$G$103,A96))
H97: =IF(A97="","",IF(G97="","",IFERROR(VLOOKUP(G97,'Organigramme'!$A$4:$C$103,2,FALSE)&" "&VLOOKUP(G97,'Organigramme'!$A$4:$C$103,3,FALSE),"Manager introuvable"))) | I97: =IF(A97="","",IF(G97="",1,IFERROR(VLOOKUP(G97,'Organigramme'!$A$4:$I$96,9,FALSE)+1,""))) | N97: =IF(A97="","",COUNTIF('Organigramme'!$G$4:$G$103,A97))
H98: =IF(A98="","",IF(G98="","",IFERROR(VLOOKUP(G98,'Organigramme'!$A$4:$C$103,2,FALSE)&" "&VLOOKUP(G98,'Organigramme'!$A$4:$C$103,3,FALSE),"Manager introuvable"))) | I98: =IF(A98="","",IF(G98="",1,IFERROR(VLOOKUP(G98,'Organigramme'!$A$4:$I$97,9,FALSE)+1,""))) | N98: =IF(A98="","",COUNTIF('Organigramme'!$G$4:$G$103,A98))
H99: =IF(A99="","",IF(G99="","",IFERROR(VLOOKUP(G99,'Organigramme'!$A$4:$C$103,2,FALSE)&" "&VLOOKUP(G99,'Organigramme'!$A$4:$C$103,3,FALSE),"Manager introuvable"))) | I99: =IF(A99="","",IF(G99="",1,IFERROR(VLOOKUP(G99,'Organigramme'!$A$4:$I$98,9,FALSE)+1,""))) | N99: =IF(A99="","",COUNTIF('Organigramme'!$G$4:$G$103,A99))
H100: =IF(A100="","",IF(G100="","",IFERROR(VLOOKUP(G100,'Organigramme'!$A$4:$C$103,2,FALSE)&" "&VLOOKUP(G100,'Organigramme'!$A$4:$C$103,3,FALSE),"Manager introuvable"))) | I100: =IF(A100="","",IF(G100="",1,IFERROR(VLOOKUP(G100,'Organigramme'!$A$4:$I$99,9,FALSE)+1,""))) | N100: =IF(A100="","",COUNTIF('Organigramme'!$G$4:$G$103,A100))
...

Sheet Synthèse
A1: Synthèse de l’organisation
A2: Indicateurs consolidés et analyse de la répartition des effectifs par département.
A4: Indicateur | B4: Valeur
A5: Effectif total | B5: =COUNTA('Organigramme'!$A$4:$A$103)
A6: Nombre de managers | B6: =COUNTIF('Organigramme'!$N$4:$N$103,">0")
A7: Salaire annuel brut total | B7: =SUM('Organigramme'!$L$4:$L$103)
A8: Salaire annuel brut moyen | B8: =IFERROR(AVERAGE('Organigramme'!$L$4:$L$103),0)
A9: Effectif actif | B9: =COUNTIF('Organigramme'!$M$4:$M$103,"Actif")
A10: Pourcentage de collaborateurs actifs | B10: =IFERROR('Synthèse'!$B$9/'Synthèse'!$B$5,0)
A11: Taux de collaborateurs rattachés | B11: =IFERROR(COUNTIF('Organigramme'!$G$4:$G$103,"<>")/'Synthèse'!$B$5,0)
A15: Département | B15: Effectif | C15: Nombre de managers | D15: Salaire brut total | E15: Pourcentage de l’effectif
A16: Commercial | B16: =IF($A16="","",COUNTIF('Organigramme'!$E$4:$E$103,$A16)) | C16: =IF($A16="","",COUNTIFS('Organigramme'!$E$4:$E$103,$A16,'Organigramme'!$N$4:$N$103,">0")) | D16: =IF($A16="","",SUMIF('Organigramme'!$E$4:$E$103,$A16,'Organigramme'!$L$4:$L$103)) | E16: =IF($A16="","",IFERROR(B16/'Synthèse'!$B$5,0))
A17: Communication | B17: =IF($A17="","",COUNTIF('Organigramme'!$E$4:$E$103,$A17)) | C17: =IF($A17="","",COUNTIFS('Organigramme'!$E$4:$E$103,$A17,'Organigramme'!$N$4:$N$103,">0")) | D17: =IF($A17="","",SUMIF('Organigramme'!$E$4:$E$103,$A17,'Organigramme'!$L$4:$L$103)) | E17: =IF($A17="","",IFERROR(B17/'Synthèse'!$B$5,0))
A18: Direction générale | B18: =IF($A18="","",COUNTIF('Organigramme'!$E$4:$E$103,$A18)) | C18: =IF($A18="","",COUNTIFS('Organigramme'!$E$4:$E$103,$A18,'Organigramme'!$N$4:$N$103,">0")) | D18: =IF($A18="","",SUMIF('Organigramme'!$E$4:$E$103,$A18,'Organigramme'!$L$4:$L$103)) | E18: =IF($A18="","",IFERROR(B18/'Synthèse'!$B$5,0))
A19: Finance | B19: =IF($A19="","",COUNTIF('Organigramme'!$E$4:$E$103,$A19)) | C19: =IF($A19="","",COUNTIFS('Organigramme'!$E$4:$E$103,$A19,'Organigramme'!$N$4:$N$103,">0")) | D19: =IF($A19="","",SUMIF('Organigramme'!$E$4:$E$103,$A19,'Organigramme'!$L$4:$L$103)) | E19: =IF($A19="","",IFERROR(B19/'Synthèse'!$B$5,0))
A20: Ressources humaines | B20: =IF($A20="","",COUNTIF('Organigramme'!$E$4:$E$103,$A20)) | C20: =IF($A20="","",COUNTIFS('Organigramme'!$E$4:$E$103,$A20,'Organigramme'!$N$4:$N$103,">0")) | D20: =IF($A20="","",SUMIF('Organigramme'!$E$4:$E$103,$A20,'Organigramme'!$L$4:$L$103)) | E20: =IF($A20="","",IFERROR(B20/'Synthèse'!$B$5,0))
A21: Technologie | B21: =IF($A21="","",COUNTIF('Organigramme'!$E$4:$E$103,$A21)) | C21: =IF($A21="","",COUNTIFS('Organigramme'!$E$4:$E$103,$A21,'Organigramme'!$N$4:$N$103,">0")) | D21: =IF($A21="","",SUMIF('Organigramme'!$E$4:$E$103,$A21,'Organigramme'!$L$4:$L$103)) | E21: =IF($A21="","",IFERROR(B21/'Synthèse'!$B$5,0))
A22: Juridique | B22: =IF($A22="","",COUNTIF('Organigramme'!$E$4:$E$103,$A22)) | C22: =IF($A22="","",COUNTIFS('Organigramme'!$E$4:$E$103,$A22,'Organigramme'!$N$4:$N$103,">0")) | D22: =IF($A22="","",SUMIF('Organigramme'!$E$4:$E$103,$A22,'Organigramme'!$L$4:$L$103)) | E22: =IF($A22="","",IFERROR(B22/'Synthèse'!$B$5,0))
A23: Marketing | B23: =IF($A23="","",COUNTIF('Organigramme'!$E$4:$E$103,$A23)) | C23: =IF($A23="","",COUNTIFS('Organigramme'!$E$4:$E$103,$A23,'Organigramme'!$N$4:$N$103,">0")) | D23: =IF($A23="","",SUMIF('Organigramme'!$E$4:$E$103,$A23,'Organigramme'!$L$4:$L$103)) | E23: =IF($A23="","",IFERROR(B23/'Synthèse'!$B$5,0))
A24: Opérations | B24: =IF($A24="","",COUNTIF('Organigramme'!$E$4:$E$103,$A24)) | C24: =IF($A24="","",COUNTIFS('Organigramme'!$E$4:$E$103,$A24,'Organigramme'!$N$4:$N$103,">0")) | D24: =IF($A24="","",SUMIF('Organigramme'!$E$4:$E$103,$A24,'Organigramme'!$L$4:$L$103)) | E24: =IF($A24="","",IFERROR(B24/'Synthèse'!$B$5,0))
A25: Service clients | B25: =IF($A25="","",COUNTIF('Organigramme'!$E$4:$E$103,$A25)) | C25: =IF($A25="","",COUNTIFS('Organigramme'!$E$4:$E$103,$A25,'Organigramme'!$N$4:$N$103,">0")) | D25: =IF($A25="","",SUMIF('Organigramme'!$E$4:$E$103,$A25,'Organigramme'!$L$4:$L$103)) | E25: =IF($A25="","",IFERROR(B25/'Synthèse'!$B$5,0))

Sheet Instructions
A1: Instructions d’utilisation
A2: Ce modèle permet de gérer les collaborateurs, leurs rattachements hiérarchiques et les indicateurs associés.
A4: N° | B4: Consigne
A5: 1 | B5: Saisir ou modifier les collaborateurs dans la feuille Organigramme.
A6: 2 | B6: Utiliser un identifiant unique pour chaque collaborateur.
A7: 3 | B7: Renseigner l’ID du manager, sauf pour la direction générale.
A8: 4 | B8: Ne pas supprimer les colonnes contenant des formules.
A9: 5 | B9: Actualiser les graphiques après modification si nécessaire.
A10: 6 | B10: Vérifier les rattachements hiérarchiques avant diffusion du fichier.
A11: 7 | B11: Utiliser les filtres de la feuille Organigramme pour analyser les départements et les managers.
A12: 8 | B12: Respecter les principes CNIL/RGPD : limiter les données personnelles et protéger le fichier lors du partage.
A15: Colonnes de saisie | B15: Utilisation
A16: ID collaborateur | B16: Identifiant interne unique du collaborateur.
A17: Nom, prénom, fonction | B17: Informations nécessaires à la lecture de l’organigramme.
A18: Département et ville | B18: Informations de rattachement organisationnel.
A19: ID manager | B19: Identifiant du responsable hiérarchique direct.
A20: Type de contrat et statut | B20: Choisir une valeur dans les listes déroulantes.
A21: Date d’arrivée et salaire | B21: Saisir une date et un montant annuel brut.
A22: Commentaire | B22: Ajouter une information utile sans donnée personnelle sensible.
A25: Légende | B25: Signification
A26: Cellule jaune pâle | B26: Zone de saisie ou de modification.
A27: Cellule violette ou blanche | B27: Valeur calculée automatiquement.
A28: Statut vert | B28: Collaborateur actif.
A29: Statut rouge | B29: Situation à contrôler ou manager introuvable.
