Workbook

Sheet Organigramme
A1: Modèle d’organigramme
A2: Saisissez les collaborateurs dans les cellules jaunes. Les colonnes Manager, Niveau hiérarchique et Effectif direct sont calculées automatiquement.
A3: ID collaborateur | B3: Nom | C3: Prénom | D3: Fonction | E3: Département | F3: Ville | G3: ID manager | H3: Manager | I3: Niveau hiérarchique | J3: Type de contrat | K3: Date d’arrivée | L3: Salaire annuel brut (€) | M3: Statut | N3: Effectif direct | O3: Commentaire
A4: DIR001 | B4: Martin | C4: Camille | D4: Directrice générale | E4: Direction générale | F4: Paris | H4: =IF(A4="","",IF(G4="","",IFERROR(VLOOKUP(G4,'Organigramme'!$A$4:$C$103,2,FALSE)&" "&VLOOKUP(G4,'Organigramme'!$A$4:$C$103,3,FALSE),"Manager introuvable"))) | I4: =IF(A4="","",IF(G4="",1,"")) | J4: CDI | K4: 46027 | L4: 120000 | M4: Actif | N4: =IF(A4="","",COUNTIF('Organigramme'!$G$4:$G$103,A4)) | O4: Direction générale
A5: COM001 | B5: Bernard | C5: Lucas | D5: Directeur commercial | E5: Commercial | F5: Lyon | G5: DIR001 | H5: =IF(A5="","",IF(G5="","",IFERROR(VLOOKUP(G5,'Organigramme'!$A$4:$C$103,2,FALSE)&" "&VLOOKUP(G5,'Organigramme'!$A$4:$C$103,3,FALSE),"Manager introuvable"))) | I5: =IF(A5="","",IF(G5="",1,IFERROR(VLOOKUP(G5,'Organigramme'!$A$4:$I$4,9,FALSE)+1,""))) | J5: CDI | K5: 46055 | L5: 78000 | M5: Actif | N5: =IF(A5="","",COUNTIF('Organigramme'!$G$4:$G$103,A5)) | O5: Responsable de l’équipe commerciale
A6: COM002 | B6: Fournier | C6: Manon | D6: Chargée de communication | E6: Communication | F6: Toulouse | G6: DIR001 | H6: =IF(A6="","",IF(G6="","",IFERROR(VLOOKUP(G6,'Organigramme'!$A$4:$C$103,2,FALSE)&" "&VLOOKUP(G6,'Organigramme'!$A$4:$C$103,3,FALSE),"Manager introuvable"))) | I6: =IF(A6="","",IF(G6="",1,IFERROR(VLOOKUP(G6,'Organigramme'!$A$4:$I$5,9,FALSE)+1,""))) | J6: CDI | K6: 46069 | L6: 41000 | M6: Actif | N6: =IF(A6="","",COUNTIF('Organigramme'!$G$4:$G$103,A6)) | O6: Communication interne et externe
A7: FIN001 | B7: Leroy | C7: Hugo | D7: Responsable financier | E7: Finance | F7: Bordeaux | G7: DIR001 | H7: =IF(A7="","",IF(G7="","",IFERROR(VLOOKUP(G7,'Organigramme'!$A$4:$C$103,2,FALSE)&" "&VLOOKUP(G7,'Organigramme'!$A$4:$C$103,3,FALSE),"Manager introuvable"))) | I7: =IF(A7="","",IF(G7="",1,IFERROR(VLOOKUP(G7,'Organigramme'!$A$4:$I$6,9,FALSE)+1,""))) | J7: CDI | K7: 46090 | L7: 68000 | M7: Actif | N7: =IF(A7="","",COUNTIF('Organigramme'!$G$4:$G$103,A7)) | O7: Responsable financier
A8: RH001 | B8: Dubois | C8: Emma | D8: Responsable RH | E8: Ressources humaines | F8: Paris | G8: DIR001 | H8: =IF(A8="","",IF(G8="","",IFERROR(VLOOKUP(G8,'Organigramme'!$A$4:$C$103,2,FALSE)&" "&VLOOKUP(G8,'Organigramme'!$A$4:$C$103,3,FALSE),"Manager introuvable"))) | I8: =IF(A8="","",IF(G8="",1,IFERROR(VLOOKUP(G8,'Organigramme'!$A$4:$I$7,9,FALSE)+1,""))) | J8: CDI | K8: 46104 | L8: 64000 | M8: Actif | N8: =IF(A8="","",COUNTIF('Organigramme'!$G$4:$G$103,A8)) | O8: Gestion des ressources humaines
A9: TEC001 | B9: Roux | C9: Nathan | D9: Développeur | E9: Technologie | F9: Nantes | G9: DIR001 | H9: =IF(A9="","",IF(G9="","",IFERROR(VLOOKUP(G9,'Organigramme'!$A$4:$C$103,2,FALSE)&" "&VLOOKUP(G9,'Organigramme'!$A$4:$C$103,3,FALSE),"Manager introuvable"))) | I9: =IF(A9="","",IF(G9="",1,IFERROR(VLOOKUP(G9,'Organigramme'!$A$4:$I$8,9,FALSE)+1,""))) | J9: CDI | K9: 46118 | L9: 48000 | M9: Actif | N9: =IF(A9="","",COUNTIF('Organigramme'!$G$4:$G$103,A9)) | O9: Développement applicatif
A10: COM003 | B10: Garcia | C10: Louis | D10: Commercial | E10: Commercial | F10: Lyon | G10: COM001 | H10: =IF(A10="","",IF(G10="","",IFERROR(VLOOKUP(G10,'Organigramme'!$A$4:$C$103,2,FALSE)&" "&VLOOKUP(G10,'Organigramme'!$A$4:$C$103,3,FALSE),"Manager introuvable"))) | I10: =IF(A10="","",IF(G10="",1,IFERROR(VLOOKUP(G10,'Organigramme'!$A$4:$I$9,9,FALSE)+1,""))) | J10: CDI | K10: 46146 | L10: 42000 | M10: Actif | N10: =IF(A10="","",COUNTIF('Organigramme'!$G$4:$G$103,A10)) | O10: Secteur Rhône-Alpes
A11: COM004 | B11: Girard | C11: Théo | D11: Assistant commercial | E11: Commercial | F11: Lyon | G11: COM001 | H11: =IF(A11="","",IF(G11="","",IFERROR(VLOOKUP(G11,'Organigramme'!$A$4:$C$103,2,FALSE)&" "&VLOOKUP(G11,'Organigramme'!$A$4:$C$103,3,FALSE),"Manager introuvable"))) | I11: =IF(A11="","",IF(G11="",1,IFERROR(VLOOKUP(G11,'Organigramme'!$A$4:$I$10,9,FALSE)+1,""))) | J11: Alternance | K11: 46266 | L11: 24000 | M11: Suspendu | N11: =IF(A11="","",COUNTIF('Organigramme'!$G$4:$G$103,A11)) | O11: Contrat en alternance
A12: FIN002 | B12: Petit | C12: Chloé | D12: Contrôleuse de gestion | E12: Finance | F12: Bordeaux | G12: FIN001 | H12: =IF(A12="","",IF(G12="","",IFERROR(VLOOKUP(G12,'Organigramme'!$A$4:$C$103,2,FALSE)&" "&VLOOKUP(G12,'Organigramme'!$A$4:$C$103,3,FALSE),"Manager introuvable"))) | I12: =IF(A12="","",IF(G12="",1,IFERROR(VLOOKUP(G12,'Organigramme'!$A$4:$I$11,9,FALSE)+1,""))) | J12: CDI | K12: 46160 | L12: 46000 | M12: Actif | N12: =IF(A12="","",COUNTIF('Organigramme'!$G$4:$G$103,A12)) | O12: Suivi budgétaire
A13: RH002 | B13: Moreau | C13: Léa | D13: Chargée de recrutement | E13: Ressources humaines | F13: Paris | G13: RH001 | H13: =IF(A13="","",IF(G13="","",IFERROR(VLOOKUP(G13,'Organigramme'!$A$4:$C$103,2,FALSE)&" "&VLOOKUP(G13,'Organigramme'!$A$4:$C$103,3,FALSE),"Manager introuvable"))) | I13: =IF(A13="","",IF(G13="",1,IFERROR(VLOOKUP(G13,'Organigramme'!$A$4:$I$12,9,FALSE)+1,""))) | J13: CDI | K13: 46181 | L13: 39000 | M13: Actif | N13: =IF(A13="","",COUNTIF('Organigramme'!$G$4:$G$103,A13)) | O13: Recrutement et intégration
H14: =IF(A14="","",IF(G14="","",IFERROR(VLOOKUP(G14,'Organigramme'!$A$4:$C$103,2,FALSE)&" "&VLOOKUP(G14,'Organigramme'!$A$4:$C$103,3,FALSE),"Manager introuvable"))) | I14: =IF(A14="","",IF(G14="",1,IFERROR(VLOOKUP(G14,'Organigramme'!$A$4:$I$13,9,FALSE)+1,""))) | N14: =IF(A14="","",COUNTIF('Organigramme'!$G$4:$G$103,A14))
H15: =IF(A15="","",IF(G15="","",IFERROR(VLOOKUP(G15,'Organigramme'!$A$4:$C$103,2,FALSE)&" "&VLOOKUP(G15,'Organigramme'!$A$4:$C$103,3,FALSE),"Manager introuvable"))) | I15: =IF(A15="","",IF(G15="",1,IFERROR(VLOOKUP(G15,'Organigramme'!$A$4:$I$14,9,FALSE)+1,""))) | N15: =IF(A15="","",COUNTIF('Organigramme'!$G$4:$G$103,A15))
H16: =IF(A16="","",IF(G16="","",IFERROR(VLOOKUP(G16,'Organigramme'!$A$4:$C$103,2,FALSE)&" "&VLOOKUP(G16,'Organigramme'!$A$4:$C$103,3,FALSE),"Manager introuvable"))) | I16: =IF(A16="","",IF(G16="",1,IFERROR(VLOOKUP(G16,'Organigramme'!$A$4:$I$15,9,FALSE)+1,""))) | N16: =IF(A16="","",COUNTIF('Organigramme'!$G$4:$G$103,A16))
H17: =IF(A17="","",IF(G17="","",IFERROR(VLOOKUP(G17,'Organigramme'!$A$4:$C$103,2,FALSE)&" "&VLOOKUP(G17,'Organigramme'!$A$4:$C$103,3,FALSE),"Manager introuvable"))) | I17: =IF(A17="","",IF(G17="",1,IFERROR(VLOOKUP(G17,'Organigramme'!$A$4:$I$16,9,FALSE)+1,""))) | N17: =IF(A17="","",COUNTIF('Organigramme'!$G$4:$G$103,A17))
H18: =IF(A18="","",IF(G18="","",IFERROR(VLOOKUP(G18,'Organigramme'!$A$4:$C$103,2,FALSE)&" "&VLOOKUP(G18,'Organigramme'!$A$4:$C$103,3,FALSE),"Manager introuvable"))) | I18: =IF(A18="","",IF(G18="",1,IFERROR(VLOOKUP(G18,'Organigramme'!$A$4:$I$17,9,FALSE)+1,""))) | N18: =IF(A18="","",COUNTIF('Organigramme'!$G$4:$G$103,A18))
H19: =IF(A19="","",IF(G19="","",IFERROR(VLOOKUP(G19,'Organigramme'!$A$4:$C$103,2,FALSE)&" "&VLOOKUP(G19,'Organigramme'!$A$4:$C$103,3,FALSE),"Manager introuvable"))) | I19: =IF(A19="","",IF(G19="",1,IFERROR(VLOOKUP(G19,'Organigramme'!$A$4:$I$18,9,FALSE)+1,""))) | N19: =IF(A19="","",COUNTIF('Organigramme'!$G$4:$G$103,A19))
H20: =IF(A20="","",IF(G20="","",IFERROR(VLOOKUP(G20,'Organigramme'!$A$4:$C$103,2,FALSE)&" "&VLOOKUP(G20,'Organigramme'!$A$4:$C$103,3,FALSE),"Manager introuvable"))) | I20: =IF(A20="","",IF(G20="",1,IFERROR(VLOOKUP(G20,'Organigramme'!$A$4:$I$19,9,FALSE)+1,""))) | N20: =IF(A20="","",COUNTIF('Organigramme'!$G$4:$G$103,A20))
H21: =IF(A21="","",IF(G21="","",IFERROR(VLOOKUP(G21,'Organigramme'!$A$4:$C$103,2,FALSE)&" "&VLOOKUP(G21,'Organigramme'!$A$4:$C$103,3,FALSE),"Manager introuvable"))) | I21: =IF(A21="","",IF(G21="",1,IFERROR(VLOOKUP(G21,'Organigramme'!$A$4:$I$20,9,FALSE)+1,""))) | N21: =IF(A21="","",COUNTIF('Organigramme'!$G$4:$G$103,A21))
H22: =IF(A22="","",IF(G22="","",IFERROR(VLOOKUP(G22,'Organigramme'!$A$4:$C$103,2,FALSE)&" "&VLOOKUP(G22,'Organigramme'!$A$4:$C$103,3,FALSE),"Manager introuvable"))) | I22: =IF(A22="","",IF(G22="",1,IFERROR(VLOOKUP(G22,'Organigramme'!$A$4:$I$21,9,FALSE)+1,""))) | N22: =IF(A22="","",COUNTIF('Organigramme'!$G$4:$G$103,A22))
H23: =IF(A23="","",IF(G23="","",IFERROR(VLOOKUP(G23,'Organigramme'!$A$4:$C$103,2,FALSE)&" "&VLOOKUP(G23,'Organigramme'!$A$4:$C$103,3,FALSE),"Manager introuvable"))) | I23: =IF(A23="","",IF(G23="",1,IFERROR(VLOOKUP(G23,'Organigramme'!$A$4:$I$22,9,FALSE)+1,""))) | N23: =IF(A23="","",COUNTIF('Organigramme'!$G$4:$G$103,A23))
H24: =IF(A24="","",IF(G24="","",IFERROR(VLOOKUP(G24,'Organigramme'!$A$4:$C$103,2,FALSE)&" "&VLOOKUP(G24,'Organigramme'!$A$4:$C$103,3,FALSE),"Manager introuvable"))) | I24: =IF(A24="","",IF(G24="",1,IFERROR(VLOOKUP(G24,'Organigramme'!$A$4:$I$23,9,FALSE)+1,""))) | N24: =IF(A24="","",COUNTIF('Organigramme'!$G$4:$G$103,A24))
H25: =IF(A25="","",IF(G25="","",IFERROR(VLOOKUP(G25,'Organigramme'!$A$4:$C$103,2,FALSE)&" "&VLOOKUP(G25,'Organigramme'!$A$4:$C$103,3,FALSE),"Manager introuvable"))) | I25: =IF(A25="","",IF(G25="",1,IFERROR(VLOOKUP(G25,'Organigramme'!$A$4:$I$24,9,FALSE)+1,""))) | N25: =IF(A25="","",COUNTIF('Organigramme'!$G$4:$G$103,A25))
H26: =IF(A26="","",IF(G26="","",IFERROR(VLOOKUP(G26,'Organigramme'!$A$4:$C$103,2,FALSE)&" "&VLOOKUP(G26,'Organigramme'!$A$4:$C$103,3,FALSE),"Manager introuvable"))) | I26: =IF(A26="","",IF(G26="",1,IFERROR(VLOOKUP(G26,'Organigramme'!$A$4:$I$25,9,FALSE)+1,""))) | N26: =IF(A26="","",COUNTIF('Organigramme'!$G$4:$G$103,A26))
H27: =IF(A27="","",IF(G27="","",IFERROR(VLOOKUP(G27,'Organigramme'!$A$4:$C$103,2,FALSE)&" "&VLOOKUP(G27,'Organigramme'!$A$4:$C$103,3,FALSE),"Manager introuvable"))) | I27: =IF(A27="","",IF(G27="",1,IFERROR(VLOOKUP(G27,'Organigramme'!$A$4:$I$26,9,FALSE)+1,""))) | N27: =IF(A27="","",COUNTIF('Organigramme'!$G$4:$G$103,A27))
H28: =IF(A28="","",IF(G28="","",IFERROR(VLOOKUP(G28,'Organigramme'!$A$4:$C$103,2,FALSE)&" "&VLOOKUP(G28,'Organigramme'!$A$4:$C$103,3,FALSE),"Manager introuvable"))) | I28: =IF(A28="","",IF(G28="",1,IFERROR(VLOOKUP(G28,'Organigramme'!$A$4:$I$27,9,FALSE)+1,""))) | N28: =IF(A28="","",COUNTIF('Organigramme'!$G$4:$G$103,A28))
H29: =IF(A29="","",IF(G29="","",IFERROR(VLOOKUP(G29,'Organigramme'!$A$4:$C$103,2,FALSE)&" "&VLOOKUP(G29,'Organigramme'!$A$4:$C$103,3,FALSE),"Manager introuvable"))) | I29: =IF(A29="","",IF(G29="",1,IFERROR(VLOOKUP(G29,'Organigramme'!$A$4:$I$28,9,FALSE)+1,""))) | N29: =IF(A29="","",COUNTIF('Organigramme'!$G$4:$G$103,A29))
H30: =IF(A30="","",IF(G30="","",IFERROR(VLOOKUP(G30,'Organigramme'!$A$4:$C$103,2,FALSE)&" "&VLOOKUP(G30,'Organigramme'!$A$4:$C$103,3,FALSE),"Manager introuvable"))) | I30: =IF(A30="","",IF(G30="",1,IFERROR(VLOOKUP(G30,'Organigramme'!$A$4:$I$29,9,FALSE)+1,""))) | N30: =IF(A30="","",COUNTIF('Organigramme'!$G$4:$G$103,A30))
H31: =IF(A31="","",IF(G31="","",IFERROR(VLOOKUP(G31,'Organigramme'!$A$4:$C$103,2,FALSE)&" "&VLOOKUP(G31,'Organigramme'!$A$4:$C$103,3,FALSE),"Manager introuvable"))) | I31: =IF(A31="","",IF(G31="",1,IFERROR(VLOOKUP(G31,'Organigramme'!$A$4:$I$30,9,FALSE)+1,""))) | N31: =IF(A31="","",COUNTIF('Organigramme'!$G$4:$G$103,A31))
H32: =IF(A32="","",IF(G32="","",IFERROR(VLOOKUP(G32,'Organigramme'!$A$4:$C$103,2,FALSE)&" "&VLOOKUP(G32,'Organigramme'!$A$4:$C$103,3,FALSE),"Manager introuvable"))) | I32: =IF(A32="","",IF(G32="",1,IFERROR(VLOOKUP(G32,'Organigramme'!$A$4:$I$31,9,FALSE)+1,""))) | N32: =IF(A32="","",COUNTIF('Organigramme'!$G$4:$G$103,A32))
H33: =IF(A33="","",IF(G33="","",IFERROR(VLOOKUP(G33,'Organigramme'!$A$4:$C$103,2,FALSE)&" "&VLOOKUP(G33,'Organigramme'!$A$4:$C$103,3,FALSE),"Manager introuvable"))) | I33: =IF(A33="","",IF(G33="",1,IFERROR(VLOOKUP(G33,'Organigramme'!$A$4:$I$32,9,FALSE)+1,""))) | N33: =IF(A33="","",COUNTIF('Organigramme'!$G$4:$G$103,A33))
H34: =IF(A34="","",IF(G34="","",IFERROR(VLOOKUP(G34,'Organigramme'!$A$4:$C$103,2,FALSE)&" "&VLOOKUP(G34,'Organigramme'!$A$4:$C$103,3,FALSE),"Manager introuvable"))) | I34: =IF(A34="","",IF(G34="",1,IFERROR(VLOOKUP(G34,'Organigramme'!$A$4:$I$33,9,FALSE)+1,""))) | N34: =IF(A34="","",COUNTIF('Organigramme'!$G$4:$G$103,A34))
H35: =IF(A35="","",IF(G35="","",IFERROR(VLOOKUP(G35,'Organigramme'!$A$4:$C$103,2,FALSE)&" "&VLOOKUP(G35,'Organigramme'!$A$4:$C$103,3,FALSE),"Manager introuvable"))) | I35: =IF(A35="","",IF(G35="",1,IFERROR(VLOOKUP(G35,'Organigramme'!$A$4:$I$34,9,FALSE)+1,""))) | N35: =IF(A35="","",COUNTIF('Organigramme'!$G$4:$G$103,A35))
H36: =IF(A36="","",IF(G36="","",IFERROR(VLOOKUP(G36,'Organigramme'!$A$4:$C$103,2,FALSE)&" "&VLOOKUP(G36,'Organigramme'!$A$4:$C$103,3,FALSE),"Manager introuvable"))) | I36: =IF(A36="","",IF(G36="",1,IFERROR(VLOOKUP(G36,'Organigramme'!$A$4:$I$35,9,FALSE)+1,""))) | N36: =IF(A36="","",COUNTIF('Organigramme'!$G$4:$G$103,A36))
H37: =IF(A37="","",IF(G37="","",IFERROR(VLOOKUP(G37,'Organigramme'!$A$4:$C$103,2,FALSE)&" "&VLOOKUP(G37,'Organigramme'!$A$4:$C$103,3,FALSE),"Manager introuvable"))) | I37: =IF(A37="","",IF(G37="",1,IFERROR(VLOOKUP(G37,'Organigramme'!$A$4:$I$36,9,FALSE)+1,""))) | N37: =IF(A37="","",COUNTIF('Organigramme'!$G$4:$G$103,A37))
H38: =IF(A38="","",IF(G38="","",IFERROR(VLOOKUP(G38,'Organigramme'!$A$4:$C$103,2,FALSE)&" "&VLOOKUP(G38,'Organigramme'!$A$4:$C$103,3,FALSE),"Manager introuvable"))) | I38: =IF(A38="","",IF(G38="",1,IFERROR(VLOOKUP(G38,'Organigramme'!$A$4:$I$37,9,FALSE)+1,""))) | N38: =IF(A38="","",COUNTIF('Organigramme'!$G$4:$G$103,A38))
H39: =IF(A39="","",IF(G39="","",IFERROR(VLOOKUP(G39,'Organigramme'!$A$4:$C$103,2,FALSE)&" "&VLOOKUP(G39,'Organigramme'!$A$4:$C$103,3,FALSE),"Manager introuvable"))) | I39: =IF(A39="","",IF(G39="",1,IFERROR(VLOOKUP(G39,'Organigramme'!$A$4:$I$38,9,FALSE)+1,""))) | N39: =IF(A39="","",COUNTIF('Organigramme'!$G$4:$G$103,A39))
H40: =IF(A40="","",IF(G40="","",IFERROR(VLOOKUP(G40,'Organigramme'!$A$4:$C$103,2,FALSE)&" "&VLOOKUP(G40,'Organigramme'!$A$4:$C$103,3,FALSE),"Manager introuvable"))) | I40: =IF(A40="","",IF(G40="",1,IFERROR(VLOOKUP(G40,'Organigramme'!$A$4:$I$39,9,FALSE)+1,""))) | N40: =IF(A40="","",COUNTIF('Organigramme'!$G$4:$G$103,A40))
...

Sheet Synthèse
A1: Synthèse de l’organisation
A2: Indicateurs consolidés et analyse de la répartition des effectifs par département.
A4: Indicateur | B4: Valeur
A5: Effectif total | B5: =COUNTA('Organigramme'!$A$4:$A$103)
A6: Nombre de managers | B6: =COUNTIF('Organigramme'!$N$4:$N$103,">0")
A7: Salaire annuel brut total | B7: =SUM('Organigramme'!$L$4:$L$103)
A8: Salaire annuel brut moyen | B8: =IFERROR(AVERAGE('Organigramme'!$L$4:$L$103),0)
A9: Effectif actif | B9: =COUNTIF('Organigramme'!$M$4:$M$103,"Actif")
A10: Pourcentage de collaborateurs actifs | B10: =IFERROR('Synthèse'!$B$9/'Synthèse'!$B$5,0)
A11: Taux de collaborateurs rattachés | B11: =IFERROR(COUNTIF('Organigramme'!$G$4:$G$103,"<>")/'Synthèse'!$B$5,0)
A15: Département | B15: Effectif | C15: Nombre de managers | D15: Salaire brut total | E15: Pourcentage de l’effectif
A16: Commercial | B16: =IF($A16="","",COUNTIF('Organigramme'!$E$4:$E$103,$A16)) | C16: =IF($A16="","",COUNTIFS('Organigramme'!$E$4:$E$103,$A16,'Organigramme'!$N$4:$N$103,">0")) | D16: =IF($A16="","",SUMIF('Organigramme'!$E$4:$E$103,$A16,'Organigramme'!$L$4:$L$103)) | E16: =IF($A16="","",IFERROR(B16/'Synthèse'!$B$5,0))
A17: Communication | B17: =IF($A17="","",COUNTIF('Organigramme'!$E$4:$E$103,$A17)) | C17: =IF($A17="","",COUNTIFS('Organigramme'!$E$4:$E$103,$A17,'Organigramme'!$N$4:$N$103,">0")) | D17: =IF($A17="","",SUMIF('Organigramme'!$E$4:$E$103,$A17,'Organigramme'!$L$4:$L$103)) | E17: =IF($A17="","",IFERROR(B17/'Synthèse'!$B$5,0))
A18: Direction générale | B18: =IF($A18="","",COUNTIF('Organigramme'!$E$4:$E$103,$A18)) | C18: =IF($A18="","",COUNTIFS('Organigramme'!$E$4:$E$103,$A18,'Organigramme'!$N$4:$N$103,">0")) | D18: =IF($A18="","",SUMIF('Organigramme'!$E$4:$E$103,$A18,'Organigramme'!$L$4:$L$103)) | E18: =IF($A18="","",IFERROR(B18/'Synthèse'!$B$5,0))
A19: Finance | B19: =IF($A19="","",COUNTIF('Organigramme'!$E$4:$E$103,$A19)) | C19: =IF($A19="","",COUNTIFS('Organigramme'!$E$4:$E$103,$A19,'Organigramme'!$N$4:$N$103,">0")) | D19: =IF($A19="","",SUMIF('Organigramme'!$E$4:$E$103,$A19,'Organigramme'!$L$4:$L$103)) | E19: =IF($A19="","",IFERROR(B19/'Synthèse'!$B$5,0))
A20: Ressources humaines | B20: =IF($A20="","",COUNTIF('Organigramme'!$E$4:$E$103,$A20)) | C20: =IF($A20="","",COUNTIFS('Organigramme'!$E$4:$E$103,$A20,'Organigramme'!$N$4:$N$103,">0")) | D20: =IF($A20="","",SUMIF('Organigramme'!$E$4:$E$103,$A20,'Organigramme'!$L$4:$L$103)) | E20: =IF($A20="","",IFERROR(B20/'Synthèse'!$B$5,0))
A21: Technologie | B21: =IF($A21="","",COUNTIF('Organigramme'!$E$4:$E$103,$A21)) | C21: =IF($A21="","",COUNTIFS('Organigramme'!$E$4:$E$103,$A21,'Organigramme'!$N$4:$N$103,">0")) | D21: =IF($A21="","",SUMIF('Organigramme'!$E$4:$E$103,$A21,'Organigramme'!$L$4:$L$103)) | E21: =IF($A21="","",IFERROR(B21/'Synthèse'!$B$5,0))
A22: Juridique | B22: =IF($A22="","",COUNTIF('Organigramme'!$E$4:$E$103,$A22)) | C22: =IF($A22="","",COUNTIFS('Organigramme'!$E$4:$E$103,$A22,'Organigramme'!$N$4:$N$103,">0")) | D22: =IF($A22="","",SUMIF('Organigramme'!$E$4:$E$103,$A22,'Organigramme'!$L$4:$L$103)) | E22: =IF($A22="","",IFERROR(B22/'Synthèse'!$B$5,0))
A23: Marketing | B23: =IF($A23="","",COUNTIF('Organigramme'!$E$4:$E$103,$A23)) | C23: =IF($A23="","",COUNTIFS('Organigramme'!$E$4:$E$103,$A23,'Organigramme'!$N$4:$N$103,">0")) | D23: =IF($A23="","",SUMIF('Organigramme'!$E$4:$E$103,$A23,'Organigramme'!$L$4:$L$103)) | E23: =IF($A23="","",IFERROR(B23/'Synthèse'!$B$5,0))
A24: Opérations | B24: =IF($A24="","",COUNTIF('Organigramme'!$E$4:$E$103,$A24)) | C24: =IF($A24="","",COUNTIFS('Organigramme'!$E$4:$E$103,$A24,'Organigramme'!$N$4:$N$103,">0")) | D24: =IF($A24="","",SUMIF('Organigramme'!$E$4:$E$103,$A24,'Organigramme'!$L$4:$L$103)) | E24: =IF($A24="","",IFERROR(B24/'Synthèse'!$B$5,0))
A25: Service clients | B25: =IF($A25="","",COUNTIF('Organigramme'!$E$4:$E$103,$A25)) | C25: =IF($A25="","",COUNTIFS('Organigramme'!$E$4:$E$103,$A25,'Organigramme'!$N$4:$N$103,">0")) | D25: =IF($A25="","",SUMIF('Organigramme'!$E$4:$E$103,$A25,'Organigramme'!$L$4:$L$103)) | E25: =IF($A25="","",IFERROR(B25/'Synthèse'!$B$5,0))

Sheet Instructions
A1: Instructions d’utilisation
A2: Ce modèle permet de gérer les collaborateurs, leurs rattachements hiérarchiques et les indicateurs associés.
A4: N° | B4: Consigne
A5: 1 | B5: Saisir ou modifier les collaborateurs dans la feuille Organigramme.
A6: 2 | B6: Utiliser un identifiant unique pour chaque collaborateur.
A7: 3 | B7: Renseigner l’ID du manager, sauf pour la direction générale.
A8: 4 | B8: Ne pas supprimer les colonnes contenant des formules.
A9: 5 | B9: Actualiser les graphiques après modification si nécessaire.
A10: 6 | B10: Vérifier les rattachements hiérarchiques avant diffusion du fichier.
A11: 7 | B11: Utiliser les filtres de la feuille Organigramme pour analyser les départements et les managers.
A12: 8 | B12: Respecter les principes CNIL/RGPD : limiter les données personnelles et protéger le fichier lors du partage.
A15: Colonnes de saisie | B15: Utilisation
A16: ID collaborateur | B16: Identifiant interne unique du collaborateur.
A17: Nom, prénom, fonction | B17: Informations nécessaires à la lecture de l’organigramme.
A18: Département et ville | B18: Informations de rattachement organisationnel.
A19: ID manager | B19: Identifiant du responsable hiérarchique direct.
A20: Type de contrat et statut | B20: Choisir une valeur dans les listes déroulantes.
A21: Date d’arrivée et salaire | B21: Saisir une date et un montant annuel brut.
A22: Commentaire | B22: Ajouter une information utile sans donnée personnelle sensible.
A25: Légende | B25: Signification
A26: Cellule jaune pâle | B26: Zone de saisie ou de modification.
A27: Cellule violette ou blanche | B27: Valeur calculée automatiquement.
A28: Statut vert | B28: Collaborateur actif.
A29: Statut rouge | B29: Situation à contrôler ou manager introuvable.
