Workbook

Sheet Fiches recettes
A1: Référence recette | B1: Désignation | C1: Famille | D1: Date de mise à jour | E1: Nombre de portions | F1: Poids fini par portion (g) | G1: Ingrédient 1 | H1: Quantité 1 (g/ml) | I1: Prix 1 HT/kg-l | J1: Coût 1 HT | K1: Ingrédient 2 | L1: Quantité 2 (g/ml) | M1: Prix 2 HT/kg-l | N1: Coût 2 HT | O1: Ingrédient 3 | P1: Quantité 3 (g/ml) | Q1: Prix 3 HT/kg-l | R1: Coût 3 HT | S1: Ingrédient 4 | T1: Quantité 4 (g/ml) | U1: Prix 4 HT/kg-l | V1: Coût 4 HT | W1: Ingrédient 5 | X1: Quantité 5 (g/ml) | Y1: Prix 5 HT/kg-l | Z1: Coût 5 HT | AA1: Ingrédient 6 | AB1: Quantité 6 (g/ml) | AC1: Prix 6 HT/kg-l | AD1: Coût 6 HT | AE1: Coût matières total HT | AF1: Coût matières par portion HT | AG1: Taux de perte (%) | AH1: Coût matières ajusté HT | AI1: Prix de vente unitaire HT | AJ1: TVA (%) | AK1: Prix de vente TTC | AL1: Marge brute unitaire | AM1: Taux de marge (%) | AN1: Alerte rentabilité | AO1: Allergènes principaux | AP1: Instructions de fabrication
A2: FT-2026-001 | B2: Tarte citron meringuée | C2: Tarte | D2: 46098 | E2: 12 | F2: 145 | G2: FAR001 | H2: 800 | I2: =IF(G2="","",IFERROR(VLOOKUP(G2,'Tarifs ingrédients'!$A$2:$E$101,5,FALSE),0)) | J2: =IF(OR(G2="",H2=""),"",IFERROR(H2*I2/1000,0)) | K2: SUC001 | L2: 650 | M2: =IF(K2="","",IFERROR(VLOOKUP(K2,'Tarifs ingrédients'!$A$2:$E$101,5,FALSE),0)) | N2: =IF(OR(K2="",L2=""),"",IFERROR(L2*M2/1000,0)) | O2: BEU001 | P2: 300 | Q2: =IF(O2="","",IFERROR(VLOOKUP(O2,'Tarifs ingrédients'!$A$2:$E$101,5,FALSE),0)) | R2: =IF(OR(O2="",P2=""),"",IFERROR(P2*Q2/1000,0)) | S2: OEU001 | T2: 500 | U2: =IF(S2="","",IFERROR(VLOOKUP(S2,'Tarifs ingrédients'!$A$2:$E$101,5,FALSE),0)) | V2: =IF(OR(S2="",T2=""),"",IFERROR(T2*U2/1000,0)) | W2: CRE001 | X2: 300 | Y2: =IF(W2="","",IFERROR(VLOOKUP(W2,'Tarifs ingrédients'!$A$2:$E$101,5,FALSE),0)) | Z2: =IF(OR(W2="",X2=""),"",IFERROR(X2*Y2/1000,0)) | AA2: VAN001 | AB2: 5 | AC2: =IF(AA2="","",IFERROR(VLOOKUP(AA2,'Tarifs ingrédients'!$A$2:$E$101,5,FALSE),0)) | AD2: =IF(OR(AA2="",AB2=""),"",IFERROR(AB2*AC2/1000,0)) | AE2: =IF(COUNTA(G2,K2,O2,S2,W2,AA2)=0,"",SUM(J2,N2,R2,V2,Z2,AD2)) | AF2: =IF(OR(AE2="",E2=""),"",IFERROR(AE2/E2,0)) | AG2: 0.06 | AH2: =IF(AE2="","",AE2*(1+AG2)) | AI2: 4.9 | AJ2: 0.1 | AK2: =IF(OR(AI2="",AJ2=""),"",AI2*(1+AJ2)) | AL2: =IF(OR(AI2="",AH2=""),"",AI2-AH2) | AM2: =IF(OR(AL2="",AI2=""),"",IFERROR(AL2/AI2,0)) | AN2: =IF(AM2="","",IF(AM2<0.65,"À revoir","Rentable")) | AO2: Gluten, œufs, lait | AP2: Production à Paris : foncer, cuire la crème citron et pocher la meringue.
A3: FT-2026-002 | B3: Entremets chocolat-framboise | C3: Entremets | D3: 46120 | E3: 16 | F3: 120 | G3: CHO001 | H3: 1000 | I3: =IF(G3="","",IFERROR(VLOOKUP(G3,'Tarifs ingrédients'!$A$2:$E$101,5,FALSE),0)) | J3: =IF(OR(G3="",H3=""),"",IFERROR(H3*I3/1000,0)) | K3: CRE001 | L3: 1200 | M3: =IF(K3="","",IFERROR(VLOOKUP(K3,'Tarifs ingrédients'!$A$2:$E$101,5,FALSE),0)) | N3: =IF(OR(K3="",L3=""),"",IFERROR(L3*M3/1000,0)) | O3: FRA001 | P3: 700 | Q3: =IF(O3="","",IFERROR(VLOOKUP(O3,'Tarifs ingrédients'!$A$2:$E$101,5,FALSE),0)) | R3: =IF(OR(O3="",P3=""),"",IFERROR(P3*Q3/1000,0)) | S3: GEL001 | T3: 20 | U3: =IF(S3="","",IFERROR(VLOOKUP(S3,'Tarifs ingrédients'!$A$2:$E$101,5,FALSE),0)) | V3: =IF(OR(S3="",T3=""),"",IFERROR(T3*U3/1000,0)) | W3: SUC001 | X3: 350 | Y3: =IF(W3="","",IFERROR(VLOOKUP(W3,'Tarifs ingrédients'!$A$2:$E$101,5,FALSE),0)) | Z3: =IF(OR(W3="",X3=""),"",IFERROR(X3*Y3/1000,0)) | AA3: OEU001 | AB3: 500 | AC3: =IF(AA3="","",IFERROR(VLOOKUP(AA3,'Tarifs ingrédients'!$A$2:$E$101,5,FALSE),0)) | AD3: =IF(OR(AA3="",AB3=""),"",IFERROR(AB3*AC3/1000,0)) | AE3: =IF(COUNTA(G3,K3,O3,S3,W3,AA3)=0,"",SUM(J3,N3,R3,V3,Z3,AD3)) | AF3: =IF(OR(AE3="",E3=""),"",IFERROR(AE3/E3,0)) | AG3: 0.08 | AH3: =IF(AE3="","",AE3*(1+AG3)) | AI3: 6.9 | AJ3: 0.1 | AK3: =IF(OR(AI3="",AJ3=""),"",AI3*(1+AJ3)) | AL3: =IF(OR(AI3="",AH3=""),"",AI3-AH3) | AM3: =IF(OR(AL3="",AI3=""),"",IFERROR(AL3/AI3,0)) | AN3: =IF(AM3="","",IF(AM3<0.65,"À revoir","Rentable")) | AO3: Lait, œufs | AP3: Production à Lyon : monter l'entremets, surgeler puis glacer.
A4: FT-2026-003 | B4: Fraisier traditionnel | C4: Entremets | D4: 46134 | E4: 16 | F4: 135 | G4: FAR001 | H4: 500 | I4: =IF(G4="","",IFERROR(VLOOKUP(G4,'Tarifs ingrédients'!$A$2:$E$101,5,FALSE),0)) | J4: =IF(OR(G4="",H4=""),"",IFERROR(H4*I4/1000,0)) | K4: SUC001 | L4: 650 | M4: =IF(K4="","",IFERROR(VLOOKUP(K4,'Tarifs ingrédients'!$A$2:$E$101,5,FALSE),0)) | N4: =IF(OR(K4="",L4=""),"",IFERROR(L4*M4/1000,0)) | O4: BEU001 | P4: 250 | Q4: =IF(O4="","",IFERROR(VLOOKUP(O4,'Tarifs ingrédients'!$A$2:$E$101,5,FALSE),0)) | R4: =IF(OR(O4="",P4=""),"",IFERROR(P4*Q4/1000,0)) | S4: OEU001 | T4: 800 | U4: =IF(S4="","",IFERROR(VLOOKUP(S4,'Tarifs ingrédients'!$A$2:$E$101,5,FALSE),0)) | V4: =IF(OR(S4="",T4=""),"",IFERROR(T4*U4/1000,0)) | W4: CRE001 | X4: 1000 | Y4: =IF(W4="","",IFERROR(VLOOKUP(W4,'Tarifs ingrédients'!$A$2:$E$101,5,FALSE),0)) | Z4: =IF(OR(W4="",X4=""),"",IFERROR(X4*Y4/1000,0)) | AA4: FRA001 | AB4: 900 | AC4: =IF(AA4="","",IFERROR(VLOOKUP(AA4,'Tarifs ingrédients'!$A$2:$E$101,5,FALSE),0)) | AD4: =IF(OR(AA4="",AB4=""),"",IFERROR(AB4*AC4/1000,0)) | AE4: =IF(COUNTA(G4,K4,O4,S4,W4,AA4)=0,"",SUM(J4,N4,R4,V4,Z4,AD4)) | AF4: =IF(OR(AE4="",E4=""),"",IFERROR(AE4/E4,0)) | AG4: 0.07 | AH4: =IF(AE4="","",AE4*(1+AG4)) | AI4: 6.5 | AJ4: 0.1 | AK4: =IF(OR(AI4="",AJ4=""),"",AI4*(1+AJ4)) | AL4: =IF(OR(AI4="",AH4=""),"",AI4-AH4) | AM4: =IF(OR(AL4="",AI4=""),"",IFERROR(AL4/AI4,0)) | AN4: =IF(AM4="","",IF(AM4<0.65,"À revoir","Rentable")) | AO4: Gluten, œufs, lait | AP4: Production à Bordeaux : cuire le biscuit, garnir de crème et fraises.
A5: FT-2026-004 | B5: Éclair café | C5: Dessert individuel | D5: 46154 | E5: 20 | F5: 95 | G5: FAR001 | H5: 600 | I5: =IF(G5="","",IFERROR(VLOOKUP(G5,'Tarifs ingrédients'!$A$2:$E$101,5,FALSE),0)) | J5: =IF(OR(G5="",H5=""),"",IFERROR(H5*I5/1000,0)) | K5: BEU001 | L5: 250 | M5: =IF(K5="","",IFERROR(VLOOKUP(K5,'Tarifs ingrédients'!$A$2:$E$101,5,FALSE),0)) | N5: =IF(OR(K5="",L5=""),"",IFERROR(L5*M5/1000,0)) | O5: OEU001 | P5: 900 | Q5: =IF(O5="","",IFERROR(VLOOKUP(O5,'Tarifs ingrédients'!$A$2:$E$101,5,FALSE),0)) | R5: =IF(OR(O5="",P5=""),"",IFERROR(P5*Q5/1000,0)) | S5: SUC001 | T5: 250 | U5: =IF(S5="","",IFERROR(VLOOKUP(S5,'Tarifs ingrédients'!$A$2:$E$101,5,FALSE),0)) | V5: =IF(OR(S5="",T5=""),"",IFERROR(T5*U5/1000,0)) | W5: CRE001 | X5: 800 | Y5: =IF(W5="","",IFERROR(VLOOKUP(W5,'Tarifs ingrédients'!$A$2:$E$101,5,FALSE),0)) | Z5: =IF(OR(W5="",X5=""),"",IFERROR(X5*Y5/1000,0)) | AA5: VAN001 | AB5: 8 | AC5: =IF(AA5="","",IFERROR(VLOOKUP(AA5,'Tarifs ingrédients'!$A$2:$E$101,5,FALSE),0)) | AD5: =IF(OR(AA5="",AB5=""),"",IFERROR(AB5*AC5/1000,0)) | AE5: =IF(COUNTA(G5,K5,O5,S5,W5,AA5)=0,"",SUM(J5,N5,R5,V5,Z5,AD5)) | AF5: =IF(OR(AE5="",E5=""),"",IFERROR(AE5/E5,0)) | AG5: 0.05 | AH5: =IF(AE5="","",AE5*(1+AG5)) | AI5: 3.5 | AJ5: 0.1 | AK5: =IF(OR(AI5="",AJ5=""),"",AI5*(1+AJ5)) | AL5: =IF(OR(AI5="",AH5=""),"",AI5-AH5) | AM5: =IF(OR(AL5="",AI5=""),"",IFERROR(AL5/AI5,0)) | AN5: =IF(AM5="","",IF(AM5<0.65,"À revoir","Rentable")) | AO5: Gluten, œufs, lait | AP5: Production à Nantes : réaliser la pâte à choux, garnir et glacer.
A6: FT-2026-005 | B6: Paris-Brest individuel | C6: Dessert individuel | D6: 46176 | E6: 18 | F6: 110 | G6: FAR001 | H6: 500 | I6: =IF(G6="","",IFERROR(VLOOKUP(G6,'Tarifs ingrédients'!$A$2:$E$101,5,FALSE),0)) | J6: =IF(OR(G6="",H6=""),"",IFERROR(H6*I6/1000,0)) | K6: BEU001 | L6: 300 | M6: =IF(K6="","",IFERROR(VLOOKUP(K6,'Tarifs ingrédients'!$A$2:$E$101,5,FALSE),0)) | N6: =IF(OR(K6="",L6=""),"",IFERROR(L6*M6/1000,0)) | O6: OEU001 | P6: 750 | Q6: =IF(O6="","",IFERROR(VLOOKUP(O6,'Tarifs ingrédients'!$A$2:$E$101,5,FALSE),0)) | R6: =IF(OR(O6="",P6=""),"",IFERROR(P6*Q6/1000,0)) | S6: SUC001 | T6: 400 | U6: =IF(S6="","",IFERROR(VLOOKUP(S6,'Tarifs ingrédients'!$A$2:$E$101,5,FALSE),0)) | V6: =IF(OR(S6="",T6=""),"",IFERROR(T6*U6/1000,0)) | W6: AMA001 | X6: 600 | Y6: =IF(W6="","",IFERROR(VLOOKUP(W6,'Tarifs ingrédients'!$A$2:$E$101,5,FALSE),0)) | Z6: =IF(OR(W6="",X6=""),"",IFERROR(X6*Y6/1000,0)) | AA6: CRE001 | AB6: 700 | AC6: =IF(AA6="","",IFERROR(VLOOKUP(AA6,'Tarifs ingrédients'!$A$2:$E$101,5,FALSE),0)) | AD6: =IF(OR(AA6="",AB6=""),"",IFERROR(AB6*AC6/1000,0)) | AE6: =IF(COUNTA(G6,K6,O6,S6,W6,AA6)=0,"",SUM(J6,N6,R6,V6,Z6,AD6)) | AF6: =IF(OR(AE6="",E6=""),"",IFERROR(AE6/E6,0)) | AG6: 0.06 | AH6: =IF(AE6="","",AE6*(1+AG6)) | AI6: 4.9 | AJ6: 0.1 | AK6: =IF(OR(AI6="",AJ6=""),"",AI6*(1+AJ6)) | AL6: =IF(OR(AI6="",AH6=""),"",AI6-AH6) | AM6: =IF(OR(AL6="",AI6=""),"",IFERROR(AL6/AI6,0)) | AN6: =IF(AM6="","",IF(AM6<0.65,"À revoir","Rentable")) | AO6: Gluten, œufs, lait, fruits à coque | AP6: Production à Lille : cuire les couronnes et garnir de praliné.
A7: FT-2026-006 | B7: Mille-feuille vanille | C7: Dessert individuel | D7: 46198 | E7: 20 | F7: 115 | G7: FAR001 | H7: 700 | I7: =IF(G7="","",IFERROR(VLOOKUP(G7,'Tarifs ingrédients'!$A$2:$E$101,5,FALSE),0)) | J7: =IF(OR(G7="",H7=""),"",IFERROR(H7*I7/1000,0)) | K7: BEU001 | L7: 700 | M7: =IF(K7="","",IFERROR(VLOOKUP(K7,'Tarifs ingrédients'!$A$2:$E$101,5,FALSE),0)) | N7: =IF(OR(K7="",L7=""),"",IFERROR(L7*M7/1000,0)) | O7: OEU001 | P7: 600 | Q7: =IF(O7="","",IFERROR(VLOOKUP(O7,'Tarifs ingrédients'!$A$2:$E$101,5,FALSE),0)) | R7: =IF(OR(O7="",P7=""),"",IFERROR(P7*Q7/1000,0)) | S7: SUC001 | T7: 400 | U7: =IF(S7="","",IFERROR(VLOOKUP(S7,'Tarifs ingrédients'!$A$2:$E$101,5,FALSE),0)) | V7: =IF(OR(S7="",T7=""),"",IFERROR(T7*U7/1000,0)) | W7: CRE001 | X7: 1200 | Y7: =IF(W7="","",IFERROR(VLOOKUP(W7,'Tarifs ingrédients'!$A$2:$E$101,5,FALSE),0)) | Z7: =IF(OR(W7="",X7=""),"",IFERROR(X7*Y7/1000,0)) | AA7: VAN001 | AB7: 10 | AC7: =IF(AA7="","",IFERROR(VLOOKUP(AA7,'Tarifs ingrédients'!$A$2:$E$101,5,FALSE),0)) | AD7: =IF(OR(AA7="",AB7=""),"",IFERROR(AB7*AC7/1000,0)) | AE7: =IF(COUNTA(G7,K7,O7,S7,W7,AA7)=0,"",SUM(J7,N7,R7,V7,Z7,AD7)) | AF7: =IF(OR(AE7="",E7=""),"",IFERROR(AE7/E7,0)) | AG7: 0.05 | AH7: =IF(AE7="","",AE7*(1+AG7)) | AI7: 4.4 | AJ7: 0.1 | AK7: =IF(OR(AI7="",AJ7=""),"",AI7*(1+AJ7)) | AL7: =IF(OR(AI7="",AH7=""),"",AI7-AH7) | AM7: =IF(OR(AL7="",AI7=""),"",IFERROR(AL7/AI7,0)) | AN7: =IF(AM7="","",IF(AM7<0.65,"À revoir","Rentable")) | AO7: Gluten, œufs, lait | AP7: Production à Toulouse : détailler le feuilletage et monter la crème vanille.
A8: FT-2026-007 | B8: Croissant au beurre | C8: Viennoiserie | D8: 46219 | E8: 30 | F8: 70 | G8: FAR001 | H8: 2000 | I8: =IF(G8="","",IFERROR(VLOOKUP(G8,'Tarifs ingrédients'!$A$2:$E$101,5,FALSE),0)) | J8: =IF(OR(G8="",H8=""),"",IFERROR(H8*I8/1000,0)) | K8: BEU001 | L8: 900 | M8: =IF(K8="","",IFERROR(VLOOKUP(K8,'Tarifs ingrédients'!$A$2:$E$101,5,FALSE),0)) | N8: =IF(OR(K8="",L8=""),"",IFERROR(L8*M8/1000,0)) | O8: SUC001 | P8: 200 | Q8: =IF(O8="","",IFERROR(VLOOKUP(O8,'Tarifs ingrédients'!$A$2:$E$101,5,FALSE),0)) | R8: =IF(OR(O8="",P8=""),"",IFERROR(P8*Q8/1000,0)) | S8: OEU001 | T8: 150 | U8: =IF(S8="","",IFERROR(VLOOKUP(S8,'Tarifs ingrédients'!$A$2:$E$101,5,FALSE),0)) | V8: =IF(OR(S8="",T8=""),"",IFERROR(T8*U8/1000,0)) | Y8: =IF(W8="","",IFERROR(VLOOKUP(W8,'Tarifs ingrédients'!$A$2:$E$101,5,FALSE),0)) | Z8: =IF(OR(W8="",X8=""),"",IFERROR(X8*Y8/1000,0)) | AC8: =IF(AA8="","",IFERROR(VLOOKUP(AA8,'Tarifs ingrédients'!$A$2:$E$101,5,FALSE),0)) | AD8: =IF(OR(AA8="",AB8=""),"",IFERROR(AB8*AC8/1000,0)) | AE8: =IF(COUNTA(G8,K8,O8,S8,W8,AA8)=0,"",SUM(J8,N8,R8,V8,Z8,AD8)) | AF8: =IF(OR(AE8="",E8=""),"",IFERROR(AE8/E8,0)) | AG8: 0.09 | AH8: =IF(AE8="","",AE8*(1+AG8)) | AI8: 1.45 | AJ8: 0.1 | AK8: =IF(OR(AI8="",AJ8=""),"",AI8*(1+AJ8)) | AL8: =IF(OR(AI8="",AH8=""),"",AI8-AH8) | AM8: =IF(OR(AL8="",AI8=""),"",IFERROR(AL8/AI8,0)) | AN8: =IF(AM8="","",IF(AM8<0.65,"À revoir","Rentable")) | AO8: Gluten, œufs, lait | AP8: Production à Strasbourg : tourer la pâte, détailler, pousser et cuire.
A9: FT-2026-008 | B9: Macaron framboise | C9: Biscuit | D9: 46262 | E9: 40 | F9: 28 | G9: AMA001 | H9: 700 | I9: =IF(G9="","",IFERROR(VLOOKUP(G9,'Tarifs ingrédients'!$A$2:$E$101,5,FALSE),0)) | J9: =IF(OR(G9="",H9=""),"",IFERROR(H9*I9/1000,0)) | K9: SUC001 | L9: 700 | M9: =IF(K9="","",IFERROR(VLOOKUP(K9,'Tarifs ingrédients'!$A$2:$E$101,5,FALSE),0)) | N9: =IF(OR(K9="",L9=""),"",IFERROR(L9*M9/1000,0)) | O9: OEU001 | P9: 500 | Q9: =IF(O9="","",IFERROR(VLOOKUP(O9,'Tarifs ingrédients'!$A$2:$E$101,5,FALSE),0)) | R9: =IF(OR(O9="",P9=""),"",IFERROR(P9*Q9/1000,0)) | S9: FRA001 | T9: 400 | U9: =IF(S9="","",IFERROR(VLOOKUP(S9,'Tarifs ingrédients'!$A$2:$E$101,5,FALSE),0)) | V9: =IF(OR(S9="",T9=""),"",IFERROR(T9*U9/1000,0)) | W9: GEL001 | X9: 8 | Y9: =IF(W9="","",IFERROR(VLOOKUP(W9,'Tarifs ingrédients'!$A$2:$E$101,5,FALSE),0)) | Z9: =IF(OR(W9="",X9=""),"",IFERROR(X9*Y9/1000,0)) | AC9: =IF(AA9="","",IFERROR(VLOOKUP(AA9,'Tarifs ingrédients'!$A$2:$E$101,5,FALSE),0)) | AD9: =IF(OR(AA9="",AB9=""),"",IFERROR(AB9*AC9/1000,0)) | AE9: =IF(COUNTA(G9,K9,O9,S9,W9,AA9)=0,"",SUM(J9,N9,R9,V9,Z9,AD9)) | AF9: =IF(OR(AE9="",E9=""),"",IFERROR(AE9/E9,0)) | AG9: 0.06 | AH9: =IF(AE9="","",AE9*(1+AG9)) | AI9: 1.7 | AJ9: 0.1 | AK9: =IF(OR(AI9="",AJ9=""),"",AI9*(1+AJ9)) | AL9: =IF(OR(AI9="",AH9=""),"",AI9-AH9) | AM9: =IF(OR(AL9="",AI9=""),"",IFERROR(AL9/AI9,0)) | AN9: =IF(AM9="","",IF(AM9<0.65,"À revoir","Rentable")) | AO9: Œufs, fruits à coque | AP9: Production à Nice : macaronner, croûter, cuire puis garnir de confit framboise.
I10: =IF(G10="","",IFERROR(VLOOKUP(G10,'Tarifs ingrédients'!$A$2:$E$101,5,FALSE),0)) | J10: =IF(OR(G10="",H10=""),"",IFERROR(H10*I10/1000,0)) | M10: =IF(K10="","",IFERROR(VLOOKUP(K10,'Tarifs ingrédients'!$A$2:$E$101,5,FALSE),0)) | N10: =IF(OR(K10="",L10=""),"",IFERROR(L10*M10/1000,0)) | Q10: =IF(O10="","",IFERROR(VLOOKUP(O10,'Tarifs ingrédients'!$A$2:$E$101,5,FALSE),0)) | R10: =IF(OR(O10="",P10=""),"",IFERROR(P10*Q10/1000,0)) | U10: =IF(S10="","",IFERROR(VLOOKUP(S10,'Tarifs ingrédients'!$A$2:$E$101,5,FALSE),0)) | V10: =IF(OR(S10="",T10=""),"",IFERROR(T10*U10/1000,0)) | Y10: =IF(W10="","",IFERROR(VLOOKUP(W10,'Tarifs ingrédients'!$A$2:$E$101,5,FALSE),0)) | Z10: =IF(OR(W10="",X10=""),"",IFERROR(X10*Y10/1000,0)) | AC10: =IF(AA10="","",IFERROR(VLOOKUP(AA10,'Tarifs ingrédients'!$A$2:$E$101,5,FALSE),0)) | AD10: =IF(OR(AA10="",AB10=""),"",IFERROR(AB10*AC10/1000,0)) | AE10: =IF(COUNTA(G10,K10,O10,S10,W10,AA10)=0,"",SUM(J10,N10,R10,V10,Z10,AD10)) | AF10: =IF(OR(AE10="",E10=""),"",IFERROR(AE10/E10,0)) | AH10: =IF(AE10="","",AE10*(1+AG10)) | AK10: =IF(OR(AI10="",AJ10=""),"",AI10*(1+AJ10)) | AL10: =IF(OR(AI10="",AH10=""),"",AI10-AH10) | AM10: =IF(OR(AL10="",AI10=""),"",IFERROR(AL10/AI10,0)) | AN10: =IF(AM10="","",IF(AM10<0.65,"À revoir","Rentable"))
I11: =IF(G11="","",IFERROR(VLOOKUP(G11,'Tarifs ingrédients'!$A$2:$E$101,5,FALSE),0)) | J11: =IF(OR(G11="",H11=""),"",IFERROR(H11*I11/1000,0)) | M11: =IF(K11="","",IFERROR(VLOOKUP(K11,'Tarifs ingrédients'!$A$2:$E$101,5,FALSE),0)) | N11: =IF(OR(K11="",L11=""),"",IFERROR(L11*M11/1000,0)) | Q11: =IF(O11="","",IFERROR(VLOOKUP(O11,'Tarifs ingrédients'!$A$2:$E$101,5,FALSE),0)) | R11: =IF(OR(O11="",P11=""),"",IFERROR(P11*Q11/1000,0)) | U11: =IF(S11="","",IFERROR(VLOOKUP(S11,'Tarifs ingrédients'!$A$2:$E$101,5,FALSE),0)) | V11: =IF(OR(S11="",T11=""),"",IFERROR(T11*U11/1000,0)) | Y11: =IF(W11="","",IFERROR(VLOOKUP(W11,'Tarifs ingrédients'!$A$2:$E$101,5,FALSE),0)) | Z11: =IF(OR(W11="",X11=""),"",IFERROR(X11*Y11/1000,0)) | AC11: =IF(AA11="","",IFERROR(VLOOKUP(AA11,'Tarifs ingrédients'!$A$2:$E$101,5,FALSE),0)) | AD11: =IF(OR(AA11="",AB11=""),"",IFERROR(AB11*AC11/1000,0)) | AE11: =IF(COUNTA(G11,K11,O11,S11,W11,AA11)=0,"",SUM(J11,N11,R11,V11,Z11,AD11)) | AF11: =IF(OR(AE11="",E11=""),"",IFERROR(AE11/E11,0)) | AH11: =IF(AE11="","",AE11*(1+AG11)) | AK11: =IF(OR(AI11="",AJ11=""),"",AI11*(1+AJ11)) | AL11: =IF(OR(AI11="",AH11=""),"",AI11-AH11) | AM11: =IF(OR(AL11="",AI11=""),"",IFERROR(AL11/AI11,0)) | AN11: =IF(AM11="","",IF(AM11<0.65,"À revoir","Rentable"))
I12: =IF(G12="","",IFERROR(VLOOKUP(G12,'Tarifs ingrédients'!$A$2:$E$101,5,FALSE),0)) | J12: =IF(OR(G12="",H12=""),"",IFERROR(H12*I12/1000,0)) | M12: =IF(K12="","",IFERROR(VLOOKUP(K12,'Tarifs ingrédients'!$A$2:$E$101,5,FALSE),0)) | N12: =IF(OR(K12="",L12=""),"",IFERROR(L12*M12/1000,0)) | Q12: =IF(O12="","",IFERROR(VLOOKUP(O12,'Tarifs ingrédients'!$A$2:$E$101,5,FALSE),0)) | R12: =IF(OR(O12="",P12=""),"",IFERROR(P12*Q12/1000,0)) | U12: =IF(S12="","",IFERROR(VLOOKUP(S12,'Tarifs ingrédients'!$A$2:$E$101,5,FALSE),0)) | V12: =IF(OR(S12="",T12=""),"",IFERROR(T12*U12/1000,0)) | Y12: =IF(W12="","",IFERROR(VLOOKUP(W12,'Tarifs ingrédients'!$A$2:$E$101,5,FALSE),0)) | Z12: =IF(OR(W12="",X12=""),"",IFERROR(X12*Y12/1000,0)) | AC12: =IF(AA12="","",IFERROR(VLOOKUP(AA12,'Tarifs ingrédients'!$A$2:$E$101,5,FALSE),0)) | AD12: =IF(OR(AA12="",AB12=""),"",IFERROR(AB12*AC12/1000,0)) | AE12: =IF(COUNTA(G12,K12,O12,S12,W12,AA12)=0,"",SUM(J12,N12,R12,V12,Z12,AD12)) | AF12: =IF(OR(AE12="",E12=""),"",IFERROR(AE12/E12,0)) | AH12: =IF(AE12="","",AE12*(1+AG12)) | AK12: =IF(OR(AI12="",AJ12=""),"",AI12*(1+AJ12)) | AL12: =IF(OR(AI12="",AH12=""),"",AI12-AH12) | AM12: =IF(OR(AL12="",AI12=""),"",IFERROR(AL12/AI12,0)) | AN12: =IF(AM12="","",IF(AM12<0.65,"À revoir","Rentable"))
I13: =IF(G13="","",IFERROR(VLOOKUP(G13,'Tarifs ingrédients'!$A$2:$E$101,5,FALSE),0)) | J13: =IF(OR(G13="",H13=""),"",IFERROR(H13*I13/1000,0)) | M13: =IF(K13="","",IFERROR(VLOOKUP(K13,'Tarifs ingrédients'!$A$2:$E$101,5,FALSE),0)) | N13: =IF(OR(K13="",L13=""),"",IFERROR(L13*M13/1000,0)) | Q13: =IF(O13="","",IFERROR(VLOOKUP(O13,'Tarifs ingrédients'!$A$2:$E$101,5,FALSE),0)) | R13: =IF(OR(O13="",P13=""),"",IFERROR(P13*Q13/1000,0)) | U13: =IF(S13="","",IFERROR(VLOOKUP(S13,'Tarifs ingrédients'!$A$2:$E$101,5,FALSE),0)) | V13: =IF(OR(S13="",T13=""),"",IFERROR(T13*U13/1000,0)) | Y13: =IF(W13="","",IFERROR(VLOOKUP(W13,'Tarifs ingrédients'!$A$2:$E$101,5,FALSE),0)) | Z13: =IF(OR(W13="",X13=""),"",IFERROR(X13*Y13/1000,0)) | AC13: =IF(AA13="","",IFERROR(VLOOKUP(AA13,'Tarifs ingrédients'!$A$2:$E$101,5,FALSE),0)) | AD13: =IF(OR(AA13="",AB13=""),"",IFERROR(AB13*AC13/1000,0)) | AE13: =IF(COUNTA(G13,K13,O13,S13,W13,AA13)=0,"",SUM(J13,N13,R13,V13,Z13,AD13)) | AF13: =IF(OR(AE13="",E13=""),"",IFERROR(AE13/E13,0)) | AH13: =IF(AE13="","",AE13*(1+AG13)) | AK13: =IF(OR(AI13="",AJ13=""),"",AI13*(1+AJ13)) | AL13: =IF(OR(AI13="",AH13=""),"",AI13-AH13) | AM13: =IF(OR(AL13="",AI13=""),"",IFERROR(AL13/AI13,0)) | AN13: =IF(AM13="","",IF(AM13<0.65,"À revoir","Rentable"))
I14: =IF(G14="","",IFERROR(VLOOKUP(G14,'Tarifs ingrédients'!$A$2:$E$101,5,FALSE),0)) | J14: =IF(OR(G14="",H14=""),"",IFERROR(H14*I14/1000,0)) | M14: =IF(K14="","",IFERROR(VLOOKUP(K14,'Tarifs ingrédients'!$A$2:$E$101,5,FALSE),0)) | N14: =IF(OR(K14="",L14=""),"",IFERROR(L14*M14/1000,0)) | Q14: =IF(O14="","",IFERROR(VLOOKUP(O14,'Tarifs ingrédients'!$A$2:$E$101,5,FALSE),0)) | R14: =IF(OR(O14="",P14=""),"",IFERROR(P14*Q14/1000,0)) | U14: =IF(S14="","",IFERROR(VLOOKUP(S14,'Tarifs ingrédients'!$A$2:$E$101,5,FALSE),0)) | V14: =IF(OR(S14="",T14=""),"",IFERROR(T14*U14/1000,0)) | Y14: =IF(W14="","",IFERROR(VLOOKUP(W14,'Tarifs ingrédients'!$A$2:$E$101,5,FALSE),0)) | Z14: =IF(OR(W14="",X14=""),"",IFERROR(X14*Y14/1000,0)) | AC14: =IF(AA14="","",IFERROR(VLOOKUP(AA14,'Tarifs ingrédients'!$A$2:$E$101,5,FALSE),0)) | AD14: =IF(OR(AA14="",AB14=""),"",IFERROR(AB14*AC14/1000,0)) | AE14: =IF(COUNTA(G14,K14,O14,S14,W14,AA14)=0,"",SUM(J14,N14,R14,V14,Z14,AD14)) | AF14: =IF(OR(AE14="",E14=""),"",IFERROR(AE14/E14,0)) | AH14: =IF(AE14="","",AE14*(1+AG14)) | AK14: =IF(OR(AI14="",AJ14=""),"",AI14*(1+AJ14)) | AL14: =IF(OR(AI14="",AH14=""),"",AI14-AH14) | AM14: =IF(OR(AL14="",AI14=""),"",IFERROR(AL14/AI14,0)) | AN14: =IF(AM14="","",IF(AM14<0.65,"À revoir","Rentable"))
I15: =IF(G15="","",IFERROR(VLOOKUP(G15,'Tarifs ingrédients'!$A$2:$E$101,5,FALSE),0)) | J15: =IF(OR(G15="",H15=""),"",IFERROR(H15*I15/1000,0)) | M15: =IF(K15="","",IFERROR(VLOOKUP(K15,'Tarifs ingrédients'!$A$2:$E$101,5,FALSE),0)) | N15: =IF(OR(K15="",L15=""),"",IFERROR(L15*M15/1000,0)) | Q15: =IF(O15="","",IFERROR(VLOOKUP(O15,'Tarifs ingrédients'!$A$2:$E$101,5,FALSE),0)) | R15: =IF(OR(O15="",P15=""),"",IFERROR(P15*Q15/1000,0)) | U15: =IF(S15="","",IFERROR(VLOOKUP(S15,'Tarifs ingrédients'!$A$2:$E$101,5,FALSE),0)) | V15: =IF(OR(S15="",T15=""),"",IFERROR(T15*U15/1000,0)) | Y15: =IF(W15="","",IFERROR(VLOOKUP(W15,'Tarifs ingrédients'!$A$2:$E$101,5,FALSE),0)) | Z15: =IF(OR(W15="",X15=""),"",IFERROR(X15*Y15/1000,0)) | AC15: =IF(AA15="","",IFERROR(VLOOKUP(AA15,'Tarifs ingrédients'!$A$2:$E$101,5,FALSE),0)) | AD15: =IF(OR(AA15="",AB15=""),"",IFERROR(AB15*AC15/1000,0)) | AE15: =IF(COUNTA(G15,K15,O15,S15,W15,AA15)=0,"",SUM(J15,N15,R15,V15,Z15,AD15)) | AF15: =IF(OR(AE15="",E15=""),"",IFERROR(AE15/E15,0)) | AH15: =IF(AE15="","",AE15*(1+AG15)) | AK15: =IF(OR(AI15="",AJ15=""),"",AI15*(1+AJ15)) | AL15: =IF(OR(AI15="",AH15=""),"",AI15-AH15) | AM15: =IF(OR(AL15="",AI15=""),"",IFERROR(AL15/AI15,0)) | AN15: =IF(AM15="","",IF(AM15<0.65,"À revoir","Rentable"))
I16: =IF(G16="","",IFERROR(VLOOKUP(G16,'Tarifs ingrédients'!$A$2:$E$101,5,FALSE),0)) | J16: =IF(OR(G16="",H16=""),"",IFERROR(H16*I16/1000,0)) | M16: =IF(K16="","",IFERROR(VLOOKUP(K16,'Tarifs ingrédients'!$A$2:$E$101,5,FALSE),0)) | N16: =IF(OR(K16="",L16=""),"",IFERROR(L16*M16/1000,0)) | Q16: =IF(O16="","",IFERROR(VLOOKUP(O16,'Tarifs ingrédients'!$A$2:$E$101,5,FALSE),0)) | R16: =IF(OR(O16="",P16=""),"",IFERROR(P16*Q16/1000,0)) | U16: =IF(S16="","",IFERROR(VLOOKUP(S16,'Tarifs ingrédients'!$A$2:$E$101,5,FALSE),0)) | V16: =IF(OR(S16="",T16=""),"",IFERROR(T16*U16/1000,0)) | Y16: =IF(W16="","",IFERROR(VLOOKUP(W16,'Tarifs ingrédients'!$A$2:$E$101,5,FALSE),0)) | Z16: =IF(OR(W16="",X16=""),"",IFERROR(X16*Y16/1000,0)) | AC16: =IF(AA16="","",IFERROR(VLOOKUP(AA16,'Tarifs ingrédients'!$A$2:$E$101,5,FALSE),0)) | AD16: =IF(OR(AA16="",AB16=""),"",IFERROR(AB16*AC16/1000,0)) | AE16: =IF(COUNTA(G16,K16,O16,S16,W16,AA16)=0,"",SUM(J16,N16,R16,V16,Z16,AD16)) | AF16: =IF(OR(AE16="",E16=""),"",IFERROR(AE16/E16,0)) | AH16: =IF(AE16="","",AE16*(1+AG16)) | AK16: =IF(OR(AI16="",AJ16=""),"",AI16*(1+AJ16)) | AL16: =IF(OR(AI16="",AH16=""),"",AI16-AH16) | AM16: =IF(OR(AL16="",AI16=""),"",IFERROR(AL16/AI16,0)) | AN16: =IF(AM16="","",IF(AM16<0.65,"À revoir","Rentable"))
I17: =IF(G17="","",IFERROR(VLOOKUP(G17,'Tarifs ingrédients'!$A$2:$E$101,5,FALSE),0)) | J17: =IF(OR(G17="",H17=""),"",IFERROR(H17*I17/1000,0)) | M17: =IF(K17="","",IFERROR(VLOOKUP(K17,'Tarifs ingrédients'!$A$2:$E$101,5,FALSE),0)) | N17: =IF(OR(K17="",L17=""),"",IFERROR(L17*M17/1000,0)) | Q17: =IF(O17="","",IFERROR(VLOOKUP(O17,'Tarifs ingrédients'!$A$2:$E$101,5,FALSE),0)) | R17: =IF(OR(O17="",P17=""),"",IFERROR(P17*Q17/1000,0)) | U17: =IF(S17="","",IFERROR(VLOOKUP(S17,'Tarifs ingrédients'!$A$2:$E$101,5,FALSE),0)) | V17: =IF(OR(S17="",T17=""),"",IFERROR(T17*U17/1000,0)) | Y17: =IF(W17="","",IFERROR(VLOOKUP(W17,'Tarifs ingrédients'!$A$2:$E$101,5,FALSE),0)) | Z17: =IF(OR(W17="",X17=""),"",IFERROR(X17*Y17/1000,0)) | AC17: =IF(AA17="","",IFERROR(VLOOKUP(AA17,'Tarifs ingrédients'!$A$2:$E$101,5,FALSE),0)) | AD17: =IF(OR(AA17="",AB17=""),"",IFERROR(AB17*AC17/1000,0)) | AE17: =IF(COUNTA(G17,K17,O17,S17,W17,AA17)=0,"",SUM(J17,N17,R17,V17,Z17,AD17)) | AF17: =IF(OR(AE17="",E17=""),"",IFERROR(AE17/E17,0)) | AH17: =IF(AE17="","",AE17*(1+AG17)) | AK17: =IF(OR(AI17="",AJ17=""),"",AI17*(1+AJ17)) | AL17: =IF(OR(AI17="",AH17=""),"",AI17-AH17) | AM17: =IF(OR(AL17="",AI17=""),"",IFERROR(AL17/AI17,0)) | AN17: =IF(AM17="","",IF(AM17<0.65,"À revoir","Rentable"))
I18: =IF(G18="","",IFERROR(VLOOKUP(G18,'Tarifs ingrédients'!$A$2:$E$101,5,FALSE),0)) | J18: =IF(OR(G18="",H18=""),"",IFERROR(H18*I18/1000,0)) | M18: =IF(K18="","",IFERROR(VLOOKUP(K18,'Tarifs ingrédients'!$A$2:$E$101,5,FALSE),0)) | N18: =IF(OR(K18="",L18=""),"",IFERROR(L18*M18/1000,0)) | Q18: =IF(O18="","",IFERROR(VLOOKUP(O18,'Tarifs ingrédients'!$A$2:$E$101,5,FALSE),0)) | R18: =IF(OR(O18="",P18=""),"",IFERROR(P18*Q18/1000,0)) | U18: =IF(S18="","",IFERROR(VLOOKUP(S18,'Tarifs ingrédients'!$A$2:$E$101,5,FALSE),0)) | V18: =IF(OR(S18="",T18=""),"",IFERROR(T18*U18/1000,0)) | Y18: =IF(W18="","",IFERROR(VLOOKUP(W18,'Tarifs ingrédients'!$A$2:$E$101,5,FALSE),0)) | Z18: =IF(OR(W18="",X18=""),"",IFERROR(X18*Y18/1000,0)) | AC18: =IF(AA18="","",IFERROR(VLOOKUP(AA18,'Tarifs ingrédients'!$A$2:$E$101,5,FALSE),0)) | AD18: =IF(OR(AA18="",AB18=""),"",IFERROR(AB18*AC18/1000,0)) | AE18: =IF(COUNTA(G18,K18,O18,S18,W18,AA18)=0,"",SUM(J18,N18,R18,V18,Z18,AD18)) | AF18: =IF(OR(AE18="",E18=""),"",IFERROR(AE18/E18,0)) | AH18: =IF(AE18="","",AE18*(1+AG18)) | AK18: =IF(OR(AI18="",AJ18=""),"",AI18*(1+AJ18)) | AL18: =IF(OR(AI18="",AH18=""),"",AI18-AH18) | AM18: =IF(OR(AL18="",AI18=""),"",IFERROR(AL18/AI18,0)) | AN18: =IF(AM18="","",IF(AM18<0.65,"À revoir","Rentable"))
I19: =IF(G19="","",IFERROR(VLOOKUP(G19,'Tarifs ingrédients'!$A$2:$E$101,5,FALSE),0)) | J19: =IF(OR(G19="",H19=""),"",IFERROR(H19*I19/1000,0)) | M19: =IF(K19="","",IFERROR(VLOOKUP(K19,'Tarifs ingrédients'!$A$2:$E$101,5,FALSE),0)) | N19: =IF(OR(K19="",L19=""),"",IFERROR(L19*M19/1000,0)) | Q19: =IF(O19="","",IFERROR(VLOOKUP(O19,'Tarifs ingrédients'!$A$2:$E$101,5,FALSE),0)) | R19: =IF(OR(O19="",P19=""),"",IFERROR(P19*Q19/1000,0)) | U19: =IF(S19="","",IFERROR(VLOOKUP(S19,'Tarifs ingrédients'!$A$2:$E$101,5,FALSE),0)) | V19: =IF(OR(S19="",T19=""),"",IFERROR(T19*U19/1000,0)) | Y19: =IF(W19="","",IFERROR(VLOOKUP(W19,'Tarifs ingrédients'!$A$2:$E$101,5,FALSE),0)) | Z19: =IF(OR(W19="",X19=""),"",IFERROR(X19*Y19/1000,0)) | AC19: =IF(AA19="","",IFERROR(VLOOKUP(AA19,'Tarifs ingrédients'!$A$2:$E$101,5,FALSE),0)) | AD19: =IF(OR(AA19="",AB19=""),"",IFERROR(AB19*AC19/1000,0)) | AE19: =IF(COUNTA(G19,K19,O19,S19,W19,AA19)=0,"",SUM(J19,N19,R19,V19,Z19,AD19)) | AF19: =IF(OR(AE19="",E19=""),"",IFERROR(AE19/E19,0)) | AH19: =IF(AE19="","",AE19*(1+AG19)) | AK19: =IF(OR(AI19="",AJ19=""),"",AI19*(1+AJ19)) | AL19: =IF(OR(AI19="",AH19=""),"",AI19-AH19) | AM19: =IF(OR(AL19="",AI19=""),"",IFERROR(AL19/AI19,0)) | AN19: =IF(AM19="","",IF(AM19<0.65,"À revoir","Rentable"))
I20: =IF(G20="","",IFERROR(VLOOKUP(G20,'Tarifs ingrédients'!$A$2:$E$101,5,FALSE),0)) | J20: =IF(OR(G20="",H20=""),"",IFERROR(H20*I20/1000,0)) | M20: =IF(K20="","",IFERROR(VLOOKUP(K20,'Tarifs ingrédients'!$A$2:$E$101,5,FALSE),0)) | N20: =IF(OR(K20="",L20=""),"",IFERROR(L20*M20/1000,0)) | Q20: =IF(O20="","",IFERROR(VLOOKUP(O20,'Tarifs ingrédients'!$A$2:$E$101,5,FALSE),0)) | R20: =IF(OR(O20="",P20=""),"",IFERROR(P20*Q20/1000,0)) | U20: =IF(S20="","",IFERROR(VLOOKUP(S20,'Tarifs ingrédients'!$A$2:$E$101,5,FALSE),0)) | V20: =IF(OR(S20="",T20=""),"",IFERROR(T20*U20/1000,0)) | Y20: =IF(W20="","",IFERROR(VLOOKUP(W20,'Tarifs ingrédients'!$A$2:$E$101,5,FALSE),0)) | Z20: =IF(OR(W20="",X20=""),"",IFERROR(X20*Y20/1000,0)) | AC20: =IF(AA20="","",IFERROR(VLOOKUP(AA20,'Tarifs ingrédients'!$A$2:$E$101,5,FALSE),0)) | AD20: =IF(OR(AA20="",AB20=""),"",IFERROR(AB20*AC20/1000,0)) | AE20: =IF(COUNTA(G20,K20,O20,S20,W20,AA20)=0,"",SUM(J20,N20,R20,V20,Z20,AD20)) | AF20: =IF(OR(AE20="",E20=""),"",IFERROR(AE20/E20,0)) | AH20: =IF(AE20="","",AE20*(1+AG20)) | AK20: =IF(OR(AI20="",AJ20=""),"",AI20*(1+AJ20)) | AL20: =IF(OR(AI20="",AH20=""),"",AI20-AH20) | AM20: =IF(OR(AL20="",AI20=""),"",IFERROR(AL20/AI20,0)) | AN20: =IF(AM20="","",IF(AM20<0.65,"À revoir","Rentable"))
I21: =IF(G21="","",IFERROR(VLOOKUP(G21,'Tarifs ingrédients'!$A$2:$E$101,5,FALSE),0)) | J21: =IF(OR(G21="",H21=""),"",IFERROR(H21*I21/1000,0)) | M21: =IF(K21="","",IFERROR(VLOOKUP(K21,'Tarifs ingrédients'!$A$2:$E$101,5,FALSE),0)) | N21: =IF(OR(K21="",L21=""),"",IFERROR(L21*M21/1000,0)) | Q21: =IF(O21="","",IFERROR(VLOOKUP(O21,'Tarifs ingrédients'!$A$2:$E$101,5,FALSE),0)) | R21: =IF(OR(O21="",P21=""),"",IFERROR(P21*Q21/1000,0)) | U21: =IF(S21="","",IFERROR(VLOOKUP(S21,'Tarifs ingrédients'!$A$2:$E$101,5,FALSE),0)) | V21: =IF(OR(S21="",T21=""),"",IFERROR(T21*U21/1000,0)) | Y21: =IF(W21="","",IFERROR(VLOOKUP(W21,'Tarifs ingrédients'!$A$2:$E$101,5,FALSE),0)) | Z21: =IF(OR(W21="",X21=""),"",IFERROR(X21*Y21/1000,0)) | AC21: =IF(AA21="","",IFERROR(VLOOKUP(AA21,'Tarifs ingrédients'!$A$2:$E$101,5,FALSE),0)) | AD21: =IF(OR(AA21="",AB21=""),"",IFERROR(AB21*AC21/1000,0)) | AE21: =IF(COUNTA(G21,K21,O21,S21,W21,AA21)=0,"",SUM(J21,N21,R21,V21,Z21,AD21)) | AF21: =IF(OR(AE21="",E21=""),"",IFERROR(AE21/E21,0)) | AH21: =IF(AE21="","",AE21*(1+AG21)) | AK21: =IF(OR(AI21="",AJ21=""),"",AI21*(1+AJ21)) | AL21: =IF(OR(AI21="",AH21=""),"",AI21-AH21) | AM21: =IF(OR(AL21="",AI21=""),"",IFERROR(AL21/AI21,0)) | AN21: =IF(AM21="","",IF(AM21<0.65,"À revoir","Rentable"))
... I101: =IF(G101="","",IFERROR(VLOOKUP(G101,'Tarifs ingrédients'!$A$2:$E$101,5,FALSE),0)) | J101: =IF(OR(G101="",H101=""),"",IFERROR(H101*I101/1000,0)) | M101: =IF(K101="","",IFERROR(VLOOKUP(K101,'Tarifs ingrédients'!$A$2:$E$101,5,FALSE),0)) | N101: =IF(OR(K101="",L101=""),"",IFERROR(L101*M101/1000,0)) | Q101: =IF(O101="","",IFERROR(VLOOKUP(O101,'Tarifs ingrédients'!$A$2:$E$101,5,FALSE),0)) | R101: =IF(OR(O101="",P101=""),"",IFERROR(P101*Q101/1000,0)) | U101: =IF(S101="","",IFERROR(VLOOKUP(S101,'Tarifs ingrédients'!$A$2:$E$101,5,FALSE),0)) | V101: =IF(OR(S101="",T101=""),"",IFERROR(T101*U101/1000,0)) | Y101: =IF(W101="","",IFERROR(VLOOKUP(W101,'Tarifs ingrédients'!$A$2:$E$101,5,FALSE),0)) | Z101: =IF(OR(W101="",X101=""),"",IFERROR(X101*Y101/1000,0)) | AC101: =IF(AA101="","",IFERROR(VLOOKUP(AA101,'Tarifs ingrédients'!$A$2:$E$101,5,FALSE),0)) | AD101: =IF(OR(AA101="",AB101=""),"",IFERROR(AB101*AC101/1000,0)) | AE101: =IF(COUNTA(G101,K101,O101,S101,W101,AA101)=0,"",SUM(J101,N101,R101,V101,Z101,AD101)) | AF101: =IF(OR(AE101="",E101=""),"",IFERROR(AE101/E101,0)) | AH101: =IF(AE101="","",AE101*(1+AG101)) | AK101: =IF(OR(AI101="",AJ101=""),"",AI101*(1+AJ101)) | AL101: =IF(OR(AI101="",AH101=""),"",AI101-AH101) | AM101: =IF(OR(AL101="",AI101=""),"",IFERROR(AL101/AI101,0)) | AN101: =IF(AM101="","",IF(AM101<0.65,"À revoir","Rentable"))

Sheet Tarifs ingrédients
A1: Code ingrédient | B1: Désignation | C1: Catégorie | D1: Unité d'achat | E1: Prix d'achat HT par kg ou litre | F1: TVA (%) | G1: Fournisseur | H1: Date du tarif | I1: Conditionnement | J1: Allergènes | K1: Origine ou remarque
A2: FAR001 | B2: Farine T55 | C2: Farines et céréales | D2: kg | E2: 1.4 | F2: 0.055 | G2: Moulins de Paris | H2: 46085 | I2: Sac 25 kg | J2: Gluten | K2: Blé français, tarif Paris
A3: SUC001 | B3: Sucre semoule | C3: Sucrants | D3: kg | E3: 1.2 | F3: 0.055 | G3: Sucrerie de Bordeaux | H3: 46099 | I3: Sac 25 kg | K3: Origine France, tarif Bordeaux
A4: BEU001 | B4: Beurre doux | C4: Produits laitiers | D4: kg | E4: 14.5 | F4: 0.055 | G4: Crèmerie Lyonnaise | H4: 46114 | I4: Plaque 5 kg | J4: Lait | K4: AOP, tarif Lyon
A5: OEU001 | B5: Œufs entiers | C5: Œufs | D5: kg | E5: 5.5 | F5: 0.055 | G5: Œufs de Nantes | H5: 46128 | I5: Ovoproduit 5 kg | J5: Œufs | K5: Œufs plein air, tarif Nantes
A6: CHO001 | B6: Chocolat noir Valrhona | C6: Chocolats | D6: kg | E6: 40 | F6: 0.055 | G6: Maison Cacao Paris | H6: 46149 | I6: Sac 3 kg | J6: Peut contenir lait, fruits à coque | K6: Couverture noire professionnelle
A7: CRE001 | B7: Crème liquide 35 % | C7: Produits laitiers | D7: litre | E7: 8.5 | F7: 0.055 | G7: Crèmerie Lyonnaise | H7: 46163 | I7: Brique 1 litre | J7: Lait | K7: Tarif Lyon
A8: AMA001 | B8: Poudre d'amandes | C8: Fruits à coque | D8: kg | E8: 14 | F8: 0.055 | G8: Fruits Secs Bordeaux | H8: 46184 | I8: Sac 5 kg | J8: Fruits à coque | K8: Amandes blanchies
A9: FRA001 | B9: Purée de framboise | C9: Fruits | D9: kg | E9: 12 | F9: 0.055 | G9: Fruits Rouges Nantes | H9: 46205 | I9: Seau 5 kg | K9: Sans sucres ajoutés
A10: GEL001 | B10: Gélatine | C10: Gélifiants | D10: kg | E10: 75 | F10: 0.055 | G10: Pâtisserie Paris Services | H10: 46247 | I10: Boîte 1 kg | K10: Feuilles or 200 bloom
A11: VAN001 | B11: Vanille Bourbon | C11: Arômes | D11: kg | E11: 180 | F11: 0.055 | G11: Épices de Bordeaux | H11: 46268 | I11: Tube 250 g | K11: Gousses Madagascar
A103: Contrôle du référentiel | B103: Nombre d'ingrédients référencés | C103: =COUNTIF(B2:B101,"<>") | D103: Prix moyen au kg/litre | E103: =IFERROR(AVERAGE(E2:E101),0)

Sheet Synthèse & consignes
A1: Synthèse de rentabilité et consignes de gestion
A3: Indicateur | B3: Valeur | G3: Famille | H3: Nombre de recettes
A4: Nombre de recettes | B4: =COUNTIF('Fiches recettes'!B2:B101,"<>") | G4: Entremets | H4: =COUNTIF('Fiches recettes'!C2:C101,G4)
A5: Coût matière moyen par portion HT | B5: =IFERROR(AVERAGE('Fiches recettes'!AF2:AF101),0) | G5: Tarte | H5: =COUNTIF('Fiches recettes'!C2:C101,G5)
A6: Prix de vente HT moyen | B6: =IFERROR(AVERAGE('Fiches recettes'!AI2:AI101),0) | G6: Viennoiserie | H6: =COUNTIF('Fiches recettes'!C2:C101,G6)
A7: Taux de marge moyen | B7: =IFERROR(AVERAGE('Fiches recettes'!AM2:AM101),0) | G7: Biscuit | H7: =COUNTIF('Fiches recettes'!C2:C101,G7)
A8: Nombre de recettes à revoir | B8: =COUNTIF('Fiches recettes'!AN2:AN101,"À revoir") | G8: Dessert individuel | H8: =COUNTIF('Fiches recettes'!C2:C101,G8)
A10: Note | B10: Les coûts sont exprimés hors taxes. La TVA dépend de la vente sur place, à emporter ou de la nature du produit. Actualisez régulièrement les prix fournisseurs dans le référentiel afin de fiabiliser les marges.
A12: Suivi de rentabilité des recettes
A13: Référence | B13: Désignation | C13: Taux de marge | D13: Alerte
A14: =IF('Fiches recettes'!$A$2="","",'Fiches recettes'!$A$2) | B14: =IF('Fiches recettes'!$B$2="","",'Fiches recettes'!$B$2) | C14: =IF('Fiches recettes'!$AM$2="","",'Fiches recettes'!$AM$2) | D14: =IF('Fiches recettes'!$AN$2="","",'Fiches recettes'!$AN$2)
A15: =IF('Fiches recettes'!$A$3="","",'Fiches recettes'!$A$3) | B15: =IF('Fiches recettes'!$B$3="","",'Fiches recettes'!$B$3) | C15: =IF('Fiches recettes'!$AM$3="","",'Fiches recettes'!$AM$3) | D15: =IF('Fiches recettes'!$AN$3="","",'Fiches recettes'!$AN$3)
A16: =IF('Fiches recettes'!$A$4="","",'Fiches recettes'!$A$4) | B16: =IF('Fiches recettes'!$B$4="","",'Fiches recettes'!$B$4) | C16: =IF('Fiches recettes'!$AM$4="","",'Fiches recettes'!$AM$4) | D16: =IF('Fiches recettes'!$AN$4="","",'Fiches recettes'!$AN$4)
A17: =IF('Fiches recettes'!$A$5="","",'Fiches recettes'!$A$5) | B17: =IF('Fiches recettes'!$B$5="","",'Fiches recettes'!$B$5) | C17: =IF('Fiches recettes'!$AM$5="","",'Fiches recettes'!$AM$5) | D17: =IF('Fiches recettes'!$AN$5="","",'Fiches recettes'!$AN$5)
A18: =IF('Fiches recettes'!$A$6="","",'Fiches recettes'!$A$6) | B18: =IF('Fiches recettes'!$B$6="","",'Fiches recettes'!$B$6) | C18: =IF('Fiches recettes'!$AM$6="","",'Fiches recettes'!$AM$6) | D18: =IF('Fiches recettes'!$AN$6="","",'Fiches recettes'!$AN$6)
A19: =IF('Fiches recettes'!$A$7="","",'Fiches recettes'!$A$7) | B19: =IF('Fiches recettes'!$B$7="","",'Fiches recettes'!$B$7) | C19: =IF('Fiches recettes'!$AM$7="","",'Fiches recettes'!$AM$7) | D19: =IF('Fiches recettes'!$AN$7="","",'Fiches recettes'!$AN$7)
A20: =IF('Fiches recettes'!$A$8="","",'Fiches recettes'!$A$8) | B20: =IF('Fiches recettes'!$B$8="","",'Fiches recettes'!$B$8) | C20: =IF('Fiches recettes'!$AM$8="","",'Fiches recettes'!$AM$8) | D20: =IF('Fiches recettes'!$AN$8="","",'Fiches recettes'!$AN$8)
A21: =IF('Fiches recettes'!$A$9="","",'Fiches recettes'!$A$9) | B21: =IF('Fiches recettes'!$B$9="","",'Fiches recettes'!$B$9) | C21: =IF('Fiches recettes'!$AM$9="","",'Fiches recettes'!$AM$9) | D21: =IF('Fiches recettes'!$AN$9="","",'Fiches recettes'!$AN$9)
A22: =IF('Fiches recettes'!$A$10="","",'Fiches recettes'!$A$10) | B22: =IF('Fiches recettes'!$B$10="","",'Fiches recettes'!$B$10) | C22: =IF('Fiches recettes'!$AM$10="","",'Fiches recettes'!$AM$10) | D22: =IF('Fiches recettes'!$AN$10="","",'Fiches recettes'!$AN$10)
A23: =IF('Fiches recettes'!$A$11="","",'Fiches recettes'!$A$11) | B23: =IF('Fiches recettes'!$B$11="","",'Fiches recettes'!$B$11) | C23: =IF('Fiches recettes'!$AM$11="","",'Fiches recettes'!$AM$11) | D23: =IF('Fiches recettes'!$AN$11="","",'Fiches recettes'!$AN$11)
A24: =IF('Fiches recettes'!$A$12="","",'Fiches recettes'!$A$12) | B24: =IF('Fiches recettes'!$B$12="","",'Fiches recettes'!$B$12) | C24: =IF('Fiches recettes'!$AM$12="","",'Fiches recettes'!$AM$12) | D24: =IF('Fiches recettes'!$AN$12="","",'Fiches recettes'!$AN$12)
A25: =IF('Fiches recettes'!$A$13="","",'Fiches recettes'!$A$13) | B25: =IF('Fiches recettes'!$B$13="","",'Fiches recettes'!$B$13) | C25: =IF('Fiches recettes'!$AM$13="","",'Fiches recettes'!$AM$13) | D25: =IF('Fiches recettes'!$AN$13="","",'Fiches recettes'!$AN$13)
A26: =IF('Fiches recettes'!$A$14="","",'Fiches recettes'!$A$14) | B26: =IF('Fiches recettes'!$B$14="","",'Fiches recettes'!$B$14) | C26: =IF('Fiches recettes'!$AM$14="","",'Fiches recettes'!$AM$14) | D26: =IF('Fiches recettes'!$AN$14="","",'Fiches recettes'!$AN$14)
A27: =IF('Fiches recettes'!$A$15="","",'Fiches recettes'!$A$15) | B27: =IF('Fiches recettes'!$B$15="","",'Fiches recettes'!$B$15) | C27: =IF('Fiches recettes'!$AM$15="","",'Fiches recettes'!$AM$15) | D27: =IF('Fiches recettes'!$AN$15="","",'Fiches recettes'!$AN$15)
A28: =IF('Fiches recettes'!$A$16="","",'Fiches recettes'!$A$16) | B28: =IF('Fiches recettes'!$B$16="","",'Fiches recettes'!$B$16) | C28: =IF('Fiches recettes'!$AM$16="","",'Fiches recettes'!$AM$16) | D28: =IF('Fiches recettes'!$AN$16="","",'Fiches recettes'!$AN$16)
A29: =IF('Fiches recettes'!$A$17="","",'Fiches recettes'!$A$17) | B29: =IF('Fiches recettes'!$B$17="","",'Fiches recettes'!$B$17) | C29: =IF('Fiches recettes'!$AM$17="","",'Fiches recettes'!$AM$17) | D29: =IF('Fiches recettes'!$AN$17="","",'Fiches recettes'!$AN$17)
A30: =IF('Fiches recettes'!$A$18="","",'Fiches recettes'!$A$18) | B30: =IF('Fiches recettes'!$B$18="","",'Fiches recettes'!$B$18) | C30: =IF('Fiches recettes'!$AM$18="","",'Fiches recettes'!$AM$18) | D30: =IF('Fiches recettes'!$AN$18="","",'Fiches recettes'!$AN$18)
A31: =IF('Fiches recettes'!$A$19="","",'Fiches recettes'!$A$19) | B31: =IF('Fiches recettes'!$B$19="","",'Fiches recettes'!$B$19) | C31: =IF('Fiches recettes'!$AM$19="","",'Fiches recettes'!$AM$19) | D31: =IF('Fiches recettes'!$AN$19="","",'Fiches recettes'!$AN$19)
A32: =IF('Fiches recettes'!$A$20="","",'Fiches recettes'!$A$20) | B32: =IF('Fiches recettes'!$B$20="","",'Fiches recettes'!$B$20) | C32: =IF('Fiches recettes'!$AM$20="","",'Fiches recettes'!$AM$20) | D32: =IF('Fiches recettes'!$AN$20="","",'Fiches recettes'!$AN$20)
A33: =IF('Fiches recettes'!$A$21="","",'Fiches recettes'!$A$21) | B33: =IF('Fiches recettes'!$B$21="","",'Fiches recettes'!$B$21) | C33: =IF('Fiches recettes'!$AM$21="","",'Fiches recettes'!$AM$21) | D33: =IF('Fiches recettes'!$AN$21="","",'Fiches recettes'!$AN$21)
A34: =IF('Fiches recettes'!$A$22="","",'Fiches recettes'!$A$22) | B34: =IF('Fiches recettes'!$B$22="","",'Fiches recettes'!$B$22) | C34: =IF('Fiches recettes'!$AM$22="","",'Fiches recettes'!$AM$22) | D34: =IF('Fiches recettes'!$AN$22="","",'Fiches recettes'!$AN$22)
A35: =IF('Fiches recettes'!$A$23="","",'Fiches recettes'!$A$23) | B35: =IF('Fiches recettes'!$B$23="","",'Fiches recettes'!$B$23) | C35: =IF('Fiches recettes'!$AM$23="","",'Fiches recettes'!$AM$23) | D35: =IF('Fiches recettes'!$AN$23="","",'Fiches recettes'!$AN$23)
A36: =IF('Fiches recettes'!$A$24="","",'Fiches recettes'!$A$24) | B36: =IF('Fiches recettes'!$B$24="","",'Fiches recettes'!$B$24) | C36: =IF('Fiches recettes'!$AM$24="","",'Fiches recettes'!$AM$24) | D36: =IF('Fiches recettes'!$AN$24="","",'Fiches recettes'!$AN$24)
A37: =IF('Fiches recettes'!$A$25="","",'Fiches recettes'!$A$25) | B37: =IF('Fiches recettes'!$B$25="","",'Fiches recettes'!$B$25) | C37: =IF('Fiches recettes'!$AM$25="","",'Fiches recettes'!$AM$25) | D37: =IF('Fiches recettes'!$AN$25="","",'Fiches recettes'!$AN$25)
A38: =IF('Fiches recettes'!$A$26="","",'Fiches recettes'!$A$26) | B38: =IF('Fiches recettes'!$B$26="","",'Fiches recettes'!$B$26) | C38: =IF('Fiches recettes'!$AM$26="","",'Fiches recettes'!$AM$26) | D38: =IF('Fiches recettes'!$AN$26="","",'Fiches recettes'!$AN$26)
A39: =IF('Fiches recettes'!$A$27="","",'Fiches recettes'!$A$27) | B39: =IF('Fiches recettes'!$B$27="","",'Fiches recettes'!$B$27) | C39: =IF('Fiches recettes'!$AM$27="","",'Fiches recettes'!$AM$27) | D39: =IF('Fiches recettes'!$AN$27="","",'Fiches recettes'!$AN$27)
A40: =IF('Fiches recettes'!$A$28="","",'Fiches recettes'!$A$28) | B40: =IF('Fiches recettes'!$B$28="","",'Fiches recettes'!$B$28) | C40: =IF('Fiches recettes'!$AM$28="","",'Fiches recettes'!$AM$28) | D40: =IF('Fiches recettes'!$AN$28="","",'Fiches recettes'!$AN$28)
A41: =IF('Fiches recettes'!$A$29="","",'Fiches recettes'!$A$29) | B41: =IF('Fiches recettes'!$B$29="","",'Fiches recettes'!$B$29) | C41: =IF('Fiches recettes'!$AM$29="","",'Fiches recettes'!$AM$29) | D41: =IF('Fiches recettes'!$AN$29="","",'Fiches recettes'!$AN$29)
A42: =IF('Fiches recettes'!$A$30="","",'Fiches recettes'!$A$30) | B42: =IF('Fiches recettes'!$B$30="","",'Fiches recettes'!$B$30) | C42: =IF('Fiches recettes'!$AM$30="","",'Fiches recettes'!$AM$30) | D42: =IF('Fiches recettes'!$AN$30="","",'Fiches recettes'!$AN$30)
A43: =IF('Fiches recettes'!$A$31="","",'Fiches recettes'!$A$31) | B43: =IF('Fiches recettes'!$B$31="","",'Fiches recettes'!$B$31) | C43: =IF('Fiches recettes'!$AM$31="","",'Fiches recettes'!$AM$31) | D43: =IF('Fiches recettes'!$AN$31="","",'Fiches recettes'!$AN$31)
...

Sheet Mode d'emploi
A1: Mode d'emploi — Fiche technique pâtisserie
A3: Rubrique | B3: Consignes pratiques
A4: Fiches recettes | B4: Une ligne correspond à une recette. Les colonnes A à F identifient la fiche. Les colonnes G à AD regroupent les 6 ingrédients, leurs quantités, prix unitaires et coûts. Les colonnes AE à AN calculent automatiquement les coûts, prix, marge et alerte. Les colonnes AO et AP conservent les allergènes et instructions.
A5: Cellules jaunes | B5: Les cellules jaune pâle sont destinées à la saisie ou à la mise à jour : identification, famille, date, portions, ingrédients, quantités, perte, prix de vente, TVA, allergènes et fabrication. Les cellules de calcul ne doivent pas être remplacées.
A6: Tarifs ingrédients | B6: Mettre à jour les codes, prix d'achat HT, fournisseurs et dates de tarif. Le prix est exprimé par kg ou litre. Les recherches de prix des fiches recettes utilisent le code ingrédient de cette feuille.
A7: Synthèse & consignes | B7: Consulter les indicateurs de coût et de marge, le suivi des alertes et les graphiques. Une recette est signalée « À revoir » lorsque son taux de marge est inférieur à 65 %.
A8: Méthode de travail | B8: Actualiser d'abord les tarifs fournisseurs, renseigner ensuite les ingrédients et quantités de chaque recette, puis ajuster le prix de vente HT et le taux de TVA selon le mode de vente.
A9: Capacité opérationnelle | B9: Les feuilles de saisie sont préparées jusqu'à la ligne 101. Les formules, validations, filtres et mises en forme conditionnelles sont déjà disponibles pour les nouvelles recettes et matières premières.
